Workbook

Sheet Summary
A1: Seasonal Tune-Up Campaign Summary
A2: Campaign Name | B2: =Setup!B2 | H2: Stage | I2: Count
A3: As of Date | B3: =Setup!B5 | H3: Outreached | I3: =B8
H4: Booked | I4: =B9
A5: Campaign Performance | D5: Goal Progress | H5: Completed | I5: =B10
A7: Campaign Records | B7: =COUNTIF('Campaign Tracker'!$A$2:$A$201,"<>") | D7: Goal | E7: Actual | F7: Progress | G7: Remaining
A8: Records Outreached | B8: =COUNT('Campaign Tracker'!$F$2:$F$201) | D8: Bookings | E8: =B9 | F8: =IFERROR(E8/Setup!$B$6,"") | G8: =MAX(0,Setup!$B$6-E8)
A9: Bookings | B9: =SUM('Campaign Tracker'!$P$2:$P$201) | D9: Completions | E9: =B10 | F9: =IFERROR(E9/Setup!$B$7,"") | G9: =MAX(0,Setup!$B$7-E9)
A10: Completed Tune-Ups | B10: =SUM('Campaign Tracker'!$Q$2:$Q$201) | D10: Revenue | E10: =B13 | F10: =IFERROR(E10/Setup!$B$8,"") | G10: =MAX(0,Setup!$B$8-E10)
A11: Booking Conversion | B11: =IFERROR(B9/B8,"")
A12: Completion Rate | B12: =IFERROR(B10/B9,"")
A13: Completed Campaign Revenue | B13: =SUM('Campaign Tracker'!$R$2:$R$201)
A14: Average Revenue per Completion | B14: =IFERROR(B13/B10,"")
A15: Total Labor Hours | B15: =SUM('Campaign Tracker'!$O$2:$O$201)
A16: Revenue per Labor Hour | B16: =IFERROR(B13/B15,"")
A17: Attention Alerts | B17: =COUNTIF('Campaign Tracker'!$V$2:$V$201,"?*")
A18: Data Issues | B18: =COUNTIF('Campaign Tracker'!$W$2:$W$201,"?*")
A21: Service Focus Results
A22: Service Focus | B22: Outreached | C22: Booked | D22: Completed | E22: Revenue
A23: Cooling Tune-Up | B23: =COUNTIFS('Campaign Tracker'!$E$2:$E$201,$A23,'Campaign Tracker'!$F$2:$F$201,"<>") | C23: =SUMIF('Campaign Tracker'!$E$2:$E$201,$A23,'Campaign Tracker'!$P$2:$P$201) | D23: =SUMIF('Campaign Tracker'!$E$2:$E$201,$A23,'Campaign Tracker'!$Q$2:$Q$201) | E23: =SUMIF('Campaign Tracker'!$E$2:$E$201,$A23,'Campaign Tracker'!$R$2:$R$201)
A24: Heating Tune-Up | B24: =COUNTIFS('Campaign Tracker'!$E$2:$E$201,$A24,'Campaign Tracker'!$F$2:$F$201,"<>") | C24: =SUMIF('Campaign Tracker'!$E$2:$E$201,$A24,'Campaign Tracker'!$P$2:$P$201) | D24: =SUMIF('Campaign Tracker'!$E$2:$E$201,$A24,'Campaign Tracker'!$Q$2:$Q$201) | E24: =SUMIF('Campaign Tracker'!$E$2:$E$201,$A24,'Campaign Tracker'!$R$2:$R$201)
A25: Heat Pump Tune-Up | B25: =COUNTIFS('Campaign Tracker'!$E$2:$E$201,$A25,'Campaign Tracker'!$F$2:$F$201,"<>") | C25: =SUMIF('Campaign Tracker'!$E$2:$E$201,$A25,'Campaign Tracker'!$P$2:$P$201) | D25: =SUMIF('Campaign Tracker'!$E$2:$E$201,$A25,'Campaign Tracker'!$Q$2:$Q$201) | E25: =SUMIF('Campaign Tracker'!$E$2:$E$201,$A25,'Campaign Tracker'!$R$2:$R$201)

Sheet Setup
A1: Campaign Setup | D1: Area | E1: Relationship Type | F1: Service Focus | G1: Outreach Method | H1: Outreach Outcome | I1: Appointment Result
A2: Campaign Name | B2: Fall 2026 Tune-Up Campaign | D2: North | E2: Maintenance Plan | F2: Cooling Tune-Up | G2: Phone | H2: No Response | I2: Completed
A3: Campaign Start | B3: 46249 | D3: Central | E3: Prior Tune-Up | F3: Heating Tune-Up | G3: Email | H3: Interested | I3: Canceled
A4: Campaign End | B4: 46341 | D4: South | E4: New Inquiry | F4: Heat Pump Tune-Up | G4: Text | H4: Declined | I4: No-Show
A5: As of Date | B5: 46277 | C5: Update this date when reviewing the campaign. | D5: Outlying | G5: Postcard | H5: Booked
A6: Booking Goal | B6: 25
A7: Completion Goal | B7: 20
A8: Revenue Goal | B8: 4000
A9: Follow-Up Interval | B9: 7
A12: All included site aliases and campaign records are fictional examples.

Sheet Campaign Tracker
A1: Campaign Record ID | B1: Site Alias | C1: Area | D1: Relationship Type | E1: Service Focus | F1: Outreach Date | G1: Outreach Method | H1: Outreach Outcome | I1: Booking Date | J1: Scheduled Tune-Up Date | K1: Appointment Result | L1: Completion Date | M1: Tune-Up Price | N1: Add-On Revenue | O1: Labor Hours | P1: Booked Flag | Q1: Completed Flag | R1: Campaign Revenue | S1: Days to Book | T1: Follow-Up Due Date | U1: Record Status | V1: Attention Alert | W1: Data Check
A2: CAM-001 | B2: Maple Demo Site | C2: North | D2: Maintenance Plan | E2: Heating Tune-Up | F2: 46252 | G2: Phone | H2: Booked | I2: 46254 | J2: 46262 | K2: Completed | L2: 46262 | M2: 179 | N2: 35 | O2: 1.5 | P2: =IF($A2="","",IF($I2="",0,1)) | Q2: =IF($A2="","",IF($L2="",0,1)) | R2: =IF($A2="","",IF($L2="","",IF($M2="","",IFERROR($M2+IF($N2="",0,$N2),"")))) | S2: =IF(OR($A2="",$F2="",$I2=""),"",IFERROR($I2-$F2,"")) | T2: =IF(OR($A2="",$F2="",$I2<>"",$H2="Declined"),"",IFERROR($F2+Setup!$B$9,"")) | U2: =IF($A2="","",IF($K2="Canceled","Canceled",IF($K2="No-Show","No-Show",IF($L2<>"","Completed",IF($K2="Completed","Completion Date Needed",IF($I2<>"",IF($J2="","Booked - Schedule Needed",IF($J2<Setup!$B$5,"Scheduled Date Passed","Scheduled")),IF($H2="Declined","Declined","Open"))))))) | V2: =IF($A2="","",IF($W2<>"","Fix Data",IF($U2="Completion Date Needed","Completion Date Needed",IF($U2="Booked - Schedule Needed","Schedule Needed",IF($U2="Scheduled Date Passed","Review Scheduled Date",IF($U2="No-Show","Review No-Show",IF(AND($T2<>"",$T2<=Setup!$B$5),"Follow-Up Due",""))))))) | W2: =IF($A2="","",IF(COUNTIF($A$2:$A$201,$A2)>1,"Duplicate Record ID",IF($B2="","Site Alias Required",IF($C2="","Area Required",IF($D2="","Relationship Type Required",IF($E2="","Service Focus Required",IF(AND($F2="",$H2<>""),"Outreach Date Required",IF(AND($F2<>"",$H2=""),"Outreach Outcome Required",IF(AND($F2<>"",$F2>Setup!$B$5),"Future Outreach Date",IF(AND($H2="Booked",$I2=""),"Booking Date Required",IF(AND($I2<>"",$H2<>"Booked"),"Set Outcome to Booked",IF(AND($I2<>"",$I2>Setup!$B$5),"Future Booking Date",IF(AND($F2<>"",$I2<>"",$I2<$F2),"Booking Before Outreach",IF(AND($J2<>"",$I2=""),"Booking Date Required",IF(AND($I2<>"",$J2<>"",$J2<$I2),"Scheduled Before Booking",IF(AND($K2<>"",$J2=""),"Scheduled Date Required",IF(AND($L2<>"",$I2=""),"Booking Date Required",IF(AND($L2<>"",$L2>Setup!$B$5),"Future Completion Date",IF(AND($J2<>"",$L2<>"",$L2<$J2),"Completion Before Scheduled",IF(AND($K2="Completed",$L2=""),"Completion Date Required",IF(AND(OR($K2="Canceled",$K2="No-Show"),$L2<>""),"Remove Completion Date",IF(AND($L2<>"",$K2<>"Completed"),"Set Result to Completed",IF(AND($L2<>"",$M2=""),"Tune-Up Price Required",IF(AND($L2="",OR($N2<>"",$O2<>"")),"Completion Date Required",""))))))))))))))))))))))))
A3: CAM-002 | B3: Pine Test Site | C3: Central | D3: Prior Tune-Up | E3: Heat Pump Tune-Up | F3: 46255 | G3: Email | H3: Booked | I3: 46258 | J3: 46283 | M3: 189 | P3: =IF($A3="","",IF($I3="",0,1)) | Q3: =IF($A3="","",IF($L3="",0,1)) | R3: =IF($A3="","",IF($L3="","",IF($M3="","",IFERROR($M3+IF($N3="",0,$N3),"")))) | S3: =IF(OR($A3="",$F3="",$I3=""),"",IFERROR($I3-$F3,"")) | T3: =IF(OR($A3="",$F3="",$I3<>"",$H3="Declined"),"",IFERROR($F3+Setup!$B$9,"")) | U3: =IF($A3="","",IF($K3="Canceled","Canceled",IF($K3="No-Show","No-Show",IF($L3<>"","Completed",IF($K3="Completed","Completion Date Needed",IF($I3<>"",IF($J3="","Booked - Schedule Needed",IF($J3<Setup!$B$5,"Scheduled Date Passed","Scheduled")),IF($H3="Declined","Declined","Open"))))))) | V3: =IF($A3="","",IF($W3<>"","Fix Data",IF($U3="Completion Date Needed","Completion Date Needed",IF($U3="Booked - Schedule Needed","Schedule Needed",IF($U3="Scheduled Date Passed","Review Scheduled Date",IF($U3="No-Show","Review No-Show",IF(AND($T3<>"",$T3<=Setup!$B$5),"Follow-Up Due",""))))))) | W3: =IF($A3="","",IF(COUNTIF($A$2:$A$201,$A3)>1,"Duplicate Record ID",IF($B3="","Site Alias Required",IF($C3="","Area Required",IF($D3="","Relationship Type Required",IF($E3="","Service Focus Required",IF(AND($F3="",$H3<>""),"Outreach Date Required",IF(AND($F3<>"",$H3=""),"Outreach Outcome Required",IF(AND($F3<>"",$F3>Setup!$B$5),"Future Outreach Date",IF(AND($H3="Booked",$I3=""),"Booking Date Required",IF(AND($I3<>"",$H3<>"Booked"),"Set Outcome to Booked",IF(AND($I3<>"",$I3>Setup!$B$5),"Future Booking Date",IF(AND($F3<>"",$I3<>"",$I3<$F3),"Booking Before Outreach",IF(AND($J3<>"",$I3=""),"Booking Date Required",IF(AND($I3<>"",$J3<>"",$J3<$I3),"Scheduled Before Booking",IF(AND($K3<>"",$J3=""),"Scheduled Date Required",IF(AND($L3<>"",$I3=""),"Booking Date Required",IF(AND($L3<>"",$L3>Setup!$B$5),"Future Completion Date",IF(AND($J3<>"",$L3<>"",$L3<$J3),"Completion Before Scheduled",IF(AND($K3="Completed",$L3=""),"Completion Date Required",IF(AND(OR($K3="Canceled",$K3="No-Show"),$L3<>""),"Remove Completion Date",IF(AND($L3<>"",$K3<>"Completed"),"Set Result to Completed",IF(AND($L3<>"",$M3=""),"Tune-Up Price Required",IF(AND($L3="",OR($N3<>"",$O3<>"")),"Completion Date Required",""))))))))))))))))))))))))
A4: CAM-003 | B4: Birch Sample Site | C4: South | D4: New Inquiry | E4: Heating Tune-Up | F4: 46266 | G4: Postcard | H4: No Response | P4: =IF($A4="","",IF($I4="",0,1)) | Q4: =IF($A4="","",IF($L4="",0,1)) | R4: =IF($A4="","",IF($L4="","",IF($M4="","",IFERROR($M4+IF($N4="",0,$N4),"")))) | S4: =IF(OR($A4="",$F4="",$I4=""),"",IFERROR($I4-$F4,"")) | T4: =IF(OR($A4="",$F4="",$I4<>"",$H4="Declined"),"",IFERROR($F4+Setup!$B$9,"")) | U4: =IF($A4="","",IF($K4="Canceled","Canceled",IF($K4="No-Show","No-Show",IF($L4<>"","Completed",IF($K4="Completed","Completion Date Needed",IF($I4<>"",IF($J4="","Booked - Schedule Needed",IF($J4<Setup!$B$5,"Scheduled Date Passed","Scheduled")),IF($H4="Declined","Declined","Open"))))))) | V4: =IF($A4="","",IF($W4<>"","Fix Data",IF($U4="Completion Date Needed","Completion Date Needed",IF($U4="Booked - Schedule Needed","Schedule Needed",IF($U4="Scheduled Date Passed","Review Scheduled Date",IF($U4="No-Show","Review No-Show",IF(AND($T4<>"",$T4<=Setup!$B$5),"Follow-Up Due",""))))))) | W4: =IF($A4="","",IF(COUNTIF($A$2:$A$201,$A4)>1,"Duplicate Record ID",IF($B4="","Site Alias Required",IF($C4="","Area Required",IF($D4="","Relationship Type Required",IF($E4="","Service Focus Required",IF(AND($F4="",$H4<>""),"Outreach Date Required",IF(AND($F4<>"",$H4=""),"Outreach Outcome Required",IF(AND($F4<>"",$F4>Setup!$B$5),"Future Outreach Date",IF(AND($H4="Booked",$I4=""),"Booking Date Required",IF(AND($I4<>"",$H4<>"Booked"),"Set Outcome to Booked",IF(AND($I4<>"",$I4>Setup!$B$5),"Future Booking Date",IF(AND($F4<>"",$I4<>"",$I4<$F4),"Booking Before Outreach",IF(AND($J4<>"",$I4=""),"Booking Date Required",IF(AND($I4<>"",$J4<>"",$J4<$I4),"Scheduled Before Booking",IF(AND($K4<>"",$J4=""),"Scheduled Date Required",IF(AND($L4<>"",$I4=""),"Booking Date Required",IF(AND($L4<>"",$L4>Setup!$B$5),"Future Completion Date",IF(AND($J4<>"",$L4<>"",$L4<$J4),"Completion Before Scheduled",IF(AND($K4="Completed",$L4=""),"Completion Date Required",IF(AND(OR($K4="Canceled",$K4="No-Show"),$L4<>""),"Remove Completion Date",IF(AND($L4<>"",$K4<>"Completed"),"Set Result to Completed",IF(AND($L4<>"",$M4=""),"Tune-Up Price Required",IF(AND($L4="",OR($N4<>"",$O4<>"")),"Completion Date Required",""))))))))))))))))))))))))
A5: CAM-004 | B5: Cedar Trial Site | C5: Central | D5: Prior Tune-Up | E5: Cooling Tune-Up | F5: 46273 | G5: Text | H5: Interested | P5: =IF($A5="","",IF($I5="",0,1)) | Q5: =IF($A5="","",IF($L5="",0,1)) | R5: =IF($A5="","",IF($L5="","",IF($M5="","",IFERROR($M5+IF($N5="",0,$N5),"")))) | S5: =IF(OR($A5="",$F5="",$I5=""),"",IFERROR($I5-$F5,"")) | T5: =IF(OR($A5="",$F5="",$I5<>"",$H5="Declined"),"",IFERROR($F5+Setup!$B$9,"")) | U5: =IF($A5="","",IF($K5="Canceled","Canceled",IF($K5="No-Show","No-Show",IF($L5<>"","Completed",IF($K5="Completed","Completion Date Needed",IF($I5<>"",IF($J5="","Booked - Schedule Needed",IF($J5<Setup!$B$5,"Scheduled Date Passed","Scheduled")),IF($H5="Declined","Declined","Open"))))))) | V5: =IF($A5="","",IF($W5<>"","Fix Data",IF($U5="Completion Date Needed","Completion Date Needed",IF($U5="Booked - Schedule Needed","Schedule Needed",IF($U5="Scheduled Date Passed","Review Scheduled Date",IF($U5="No-Show","Review No-Show",IF(AND($T5<>"",$T5<=Setup!$B$5),"Follow-Up Due",""))))))) | W5: =IF($A5="","",IF(COUNTIF($A$2:$A$201,$A5)>1,"Duplicate Record ID",IF($B5="","Site Alias Required",IF($C5="","Area Required",IF($D5="","Relationship Type Required",IF($E5="","Service Focus Required",IF(AND($F5="",$H5<>""),"Outreach Date Required",IF(AND($F5<>"",$H5=""),"Outreach Outcome Required",IF(AND($F5<>"",$F5>Setup!$B$5),"Future Outreach Date",IF(AND($H5="Booked",$I5=""),"Booking Date Required",IF(AND($I5<>"",$H5<>"Booked"),"Set Outcome to Booked",IF(AND($I5<>"",$I5>Setup!$B$5),"Future Booking Date",IF(AND($F5<>"",$I5<>"",$I5<$F5),"Booking Before Outreach",IF(AND($J5<>"",$I5=""),"Booking Date Required",IF(AND($I5<>"",$J5<>"",$J5<$I5),"Scheduled Before Booking",IF(AND($K5<>"",$J5=""),"Scheduled Date Required",IF(AND($L5<>"",$I5=""),"Booking Date Required",IF(AND($L5<>"",$L5>Setup!$B$5),"Future Completion Date",IF(AND($J5<>"",$L5<>"",$L5<$J5),"Completion Before Scheduled",IF(AND($K5="Completed",$L5=""),"Completion Date Required",IF(AND(OR($K5="Canceled",$K5="No-Show"),$L5<>""),"Remove Completion Date",IF(AND($L5<>"",$K5<>"Completed"),"Set Result to Completed",IF(AND($L5<>"",$M5=""),"Tune-Up Price Required",IF(AND($L5="",OR($N5<>"",$O5<>"")),"Completion Date Required",""))))))))))))))))))))))))
A6: CAM-005 | B6: Elm Demo Site | C6: North | D6: Maintenance Plan | E6: Heating Tune-Up | F6: 46259 | G6: Phone | H6: Declined | P6: =IF($A6="","",IF($I6="",0,1)) | Q6: =IF($A6="","",IF($L6="",0,1)) | R6: =IF($A6="","",IF($L6="","",IF($M6="","",IFERROR($M6+IF($N6="",0,$N6),"")))) | S6: =IF(OR($A6="",$F6="",$I6=""),"",IFERROR($I6-$F6,"")) | T6: =IF(OR($A6="",$F6="",$I6<>"",$H6="Declined"),"",IFERROR($F6+Setup!$B$9,"")) | U6: =IF($A6="","",IF($K6="Canceled","Canceled",IF($K6="No-Show","No-Show",IF($L6<>"","Completed",IF($K6="Completed","Completion Date Needed",IF($I6<>"",IF($J6="","Booked - Schedule Needed",IF($J6<Setup!$B$5,"Scheduled Date Passed","Scheduled")),IF($H6="Declined","Declined","Open"))))))) | V6: =IF($A6="","",IF($W6<>"","Fix Data",IF($U6="Completion Date Needed","Completion Date Needed",IF($U6="Booked - Schedule Needed","Schedule Needed",IF($U6="Scheduled Date Passed","Review Scheduled Date",IF($U6="No-Show","Review No-Show",IF(AND($T6<>"",$T6<=Setup!$B$5),"Follow-Up Due",""))))))) | W6: =IF($A6="","",IF(COUNTIF($A$2:$A$201,$A6)>1,"Duplicate Record ID",IF($B6="","Site Alias Required",IF($C6="","Area Required",IF($D6="","Relationship Type Required",IF($E6="","Service Focus Required",IF(AND($F6="",$H6<>""),"Outreach Date Required",IF(AND($F6<>"",$H6=""),"Outreach Outcome Required",IF(AND($F6<>"",$F6>Setup!$B$5),"Future Outreach Date",IF(AND($H6="Booked",$I6=""),"Booking Date Required",IF(AND($I6<>"",$H6<>"Booked"),"Set Outcome to Booked",IF(AND($I6<>"",$I6>Setup!$B$5),"Future Booking Date",IF(AND($F6<>"",$I6<>"",$I6<$F6),"Booking Before Outreach",IF(AND($J6<>"",$I6=""),"Booking Date Required",IF(AND($I6<>"",$J6<>"",$J6<$I6),"Scheduled Before Booking",IF(AND($K6<>"",$J6=""),"Scheduled Date Required",IF(AND($L6<>"",$I6=""),"Booking Date Required",IF(AND($L6<>"",$L6>Setup!$B$5),"Future Completion Date",IF(AND($J6<>"",$L6<>"",$L6<$J6),"Completion Before Scheduled",IF(AND($K6="Completed",$L6=""),"Completion Date Required",IF(AND(OR($K6="Canceled",$K6="No-Show"),$L6<>""),"Remove Completion Date",IF(AND($L6<>"",$K6<>"Completed"),"Set Result to Completed",IF(AND($L6<>"",$M6=""),"Tune-Up Price Required",IF(AND($L6="",OR($N6<>"",$O6<>"")),"Completion Date Required",""))))))))))))))))))))))))
A7: CAM-006 | B7: Oak Sample Site | C7: South | D7: Prior Tune-Up | E7: Cooling Tune-Up | F7: 46250 | G7: Email | H7: Booked | I7: 46250 | J7: 46256 | K7: Completed | L7: 46256 | M7: 169 | N7: 0 | O7: 1.25 | P7: =IF($A7="","",IF($I7="",0,1)) | Q7: =IF($A7="","",IF($L7="",0,1)) | R7: =IF($A7="","",IF($L7="","",IF($M7="","",IFERROR($M7+IF($N7="",0,$N7),"")))) | S7: =IF(OR($A7="",$F7="",$I7=""),"",IFERROR($I7-$F7,"")) | T7: =IF(OR($A7="",$F7="",$I7<>"",$H7="Declined"),"",IFERROR($F7+Setup!$B$9,"")) | U7: =IF($A7="","",IF($K7="Canceled","Canceled",IF($K7="No-Show","No-Show",IF($L7<>"","Completed",IF($K7="Completed","Completion Date Needed",IF($I7<>"",IF($J7="","Booked - Schedule Needed",IF($J7<Setup!$B$5,"Scheduled Date Passed","Scheduled")),IF($H7="Declined","Declined","Open"))))))) | V7: =IF($A7="","",IF($W7<>"","Fix Data",IF($U7="Completion Date Needed","Completion Date Needed",IF($U7="Booked - Schedule Needed","Schedule Needed",IF($U7="Scheduled Date Passed","Review Scheduled Date",IF($U7="No-Show","Review No-Show",IF(AND($T7<>"",$T7<=Setup!$B$5),"Follow-Up Due",""))))))) | W7: =IF($A7="","",IF(COUNTIF($A$2:$A$201,$A7)>1,"Duplicate Record ID",IF($B7="","Site Alias Required",IF($C7="","Area Required",IF($D7="","Relationship Type Required",IF($E7="","Service Focus Required",IF(AND($F7="",$H7<>""),"Outreach Date Required",IF(AND($F7<>"",$H7=""),"Outreach Outcome Required",IF(AND($F7<>"",$F7>Setup!$B$5),"Future Outreach Date",IF(AND($H7="Booked",$I7=""),"Booking Date Required",IF(AND($I7<>"",$H7<>"Booked"),"Set Outcome to Booked",IF(AND($I7<>"",$I7>Setup!$B$5),"Future Booking Date",IF(AND($F7<>"",$I7<>"",$I7<$F7),"Booking Before Outreach",IF(AND($J7<>"",$I7=""),"Booking Date Required",IF(AND($I7<>"",$J7<>"",$J7<$I7),"Scheduled Before Booking",IF(AND($K7<>"",$J7=""),"Scheduled Date Required",IF(AND($L7<>"",$I7=""),"Booking Date Required",IF(AND($L7<>"",$L7>Setup!$B$5),"Future Completion Date",IF(AND($J7<>"",$L7<>"",$L7<$J7),"Completion Before Scheduled",IF(AND($K7="Completed",$L7=""),"Completion Date Required",IF(AND(OR($K7="Canceled",$K7="No-Show"),$L7<>""),"Remove Completion Date",IF(AND($L7<>"",$K7<>"Completed"),"Set Result to Completed",IF(AND($L7<>"",$M7=""),"Tune-Up Price Required",IF(AND($L7="",OR($N7<>"",$O7<>"")),"Completion Date Required",""))))))))))))))))))))))))
A8: CAM-007 | B8: Aspen Test Site | C8: North | D8: New Inquiry | E8: Heat Pump Tune-Up | F8: 46258 | G8: Text | H8: Booked | I8: 46260 | J8: 46270 | K8: No-Show | M8: 199 | P8: =IF($A8="","",IF($I8="",0,1)) | Q8: =IF($A8="","",IF($L8="",0,1)) | R8: =IF($A8="","",IF($L8="","",IF($M8="","",IFERROR($M8+IF($N8="",0,$N8),"")))) | S8: =IF(OR($A8="",$F8="",$I8=""),"",IFERROR($I8-$F8,"")) | T8: =IF(OR($A8="",$F8="",$I8<>"",$H8="Declined"),"",IFERROR($F8+Setup!$B$9,"")) | U8: =IF($A8="","",IF($K8="Canceled","Canceled",IF($K8="No-Show","No-Show",IF($L8<>"","Completed",IF($K8="Completed","Completion Date Needed",IF($I8<>"",IF($J8="","Booked - Schedule Needed",IF($J8<Setup!$B$5,"Scheduled Date Passed","Scheduled")),IF($H8="Declined","Declined","Open"))))))) | V8: =IF($A8="","",IF($W8<>"","Fix Data",IF($U8="Completion Date Needed","Completion Date Needed",IF($U8="Booked - Schedule Needed","Schedule Needed",IF($U8="Scheduled Date Passed","Review Scheduled Date",IF($U8="No-Show","Review No-Show",IF(AND($T8<>"",$T8<=Setup!$B$5),"Follow-Up Due",""))))))) | W8: =IF($A8="","",IF(COUNTIF($A$2:$A$201,$A8)>1,"Duplicate Record ID",IF($B8="","Site Alias Required",IF($C8="","Area Required",IF($D8="","Relationship Type Required",IF($E8="","Service Focus Required",IF(AND($F8="",$H8<>""),"Outreach Date Required",IF(AND($F8<>"",$H8=""),"Outreach Outcome Required",IF(AND($F8<>"",$F8>Setup!$B$5),"Future Outreach Date",IF(AND($H8="Booked",$I8=""),"Booking Date Required",IF(AND($I8<>"",$H8<>"Booked"),"Set Outcome to Booked",IF(AND($I8<>"",$I8>Setup!$B$5),"Future Booking Date",IF(AND($F8<>"",$I8<>"",$I8<$F8),"Booking Before Outreach",IF(AND($J8<>"",$I8=""),"Booking Date Required",IF(AND($I8<>"",$J8<>"",$J8<$I8),"Scheduled Before Booking",IF(AND($K8<>"",$J8=""),"Scheduled Date Required",IF(AND($L8<>"",$I8=""),"Booking Date Required",IF(AND($L8<>"",$L8>Setup!$B$5),"Future Completion Date",IF(AND($J8<>"",$L8<>"",$L8<$J8),"Completion Before Scheduled",IF(AND($K8="Completed",$L8=""),"Completion Date Required",IF(AND(OR($K8="Canceled",$K8="No-Show"),$L8<>""),"Remove Completion Date",IF(AND($L8<>"",$K8<>"Completed"),"Set Result to Completed",IF(AND($L8<>"",$M8=""),"Tune-Up Price Required",IF(AND($L8="",OR($N8<>"",$O8<>"")),"Completion Date Required",""))))))))))))))))))))))))
A9: CAM-008 | B9: Willow Trial Site | C9: Central | D9: Maintenance Plan | E9: Heating Tune-Up | F9: 46267 | G9: Phone | H9: Booked | I9: 46268 | M9: 179 | P9: =IF($A9="","",IF($I9="",0,1)) | Q9: =IF($A9="","",IF($L9="",0,1)) | R9: =IF($A9="","",IF($L9="","",IF($M9="","",IFERROR($M9+IF($N9="",0,$N9),"")))) | S9: =IF(OR($A9="",$F9="",$I9=""),"",IFERROR($I9-$F9,"")) | T9: =IF(OR($A9="",$F9="",$I9<>"",$H9="Declined"),"",IFERROR($F9+Setup!$B$9,"")) | U9: =IF($A9="","",IF($K9="Canceled","Canceled",IF($K9="No-Show","No-Show",IF($L9<>"","Completed",IF($K9="Completed","Completion Date Needed",IF($I9<>"",IF($J9="","Booked - Schedule Needed",IF($J9<Setup!$B$5,"Scheduled Date Passed","Scheduled")),IF($H9="Declined","Declined","Open"))))))) | V9: =IF($A9="","",IF($W9<>"","Fix Data",IF($U9="Completion Date Needed","Completion Date Needed",IF($U9="Booked - Schedule Needed","Schedule Needed",IF($U9="Scheduled Date Passed","Review Scheduled Date",IF($U9="No-Show","Review No-Show",IF(AND($T9<>"",$T9<=Setup!$B$5),"Follow-Up Due",""))))))) | W9: =IF($A9="","",IF(COUNTIF($A$2:$A$201,$A9)>1,"Duplicate Record ID",IF($B9="","Site Alias Required",IF($C9="","Area Required",IF($D9="","Relationship Type Required",IF($E9="","Service Focus Required",IF(AND($F9="",$H9<>""),"Outreach Date Required",IF(AND($F9<>"",$H9=""),"Outreach Outcome Required",IF(AND($F9<>"",$F9>Setup!$B$5),"Future Outreach Date",IF(AND($H9="Booked",$I9=""),"Booking Date Required",IF(AND($I9<>"",$H9<>"Booked"),"Set Outcome to Booked",IF(AND($I9<>"",$I9>Setup!$B$5),"Future Booking Date",IF(AND($F9<>"",$I9<>"",$I9<$F9),"Booking Before Outreach",IF(AND($J9<>"",$I9=""),"Booking Date Required",IF(AND($I9<>"",$J9<>"",$J9<$I9),"Scheduled Before Booking",IF(AND($K9<>"",$J9=""),"Scheduled Date Required",IF(AND($L9<>"",$I9=""),"Booking Date Required",IF(AND($L9<>"",$L9>Setup!$B$5),"Future Completion Date",IF(AND($J9<>"",$L9<>"",$L9<$J9),"Completion Before Scheduled",IF(AND($K9="Completed",$L9=""),"Completion Date Required",IF(AND(OR($K9="Canceled",$K9="No-Show"),$L9<>""),"Remove Completion Date",IF(AND($L9<>"",$K9<>"Completed"),"Set Result to Completed",IF(AND($L9<>"",$M9=""),"Tune-Up Price Required",IF(AND($L9="",OR($N9<>"",$O9<>"")),"Completion Date Required",""))))))))))))))))))))))))
A10: CAM-009 | B10: Magnolia Demo Site | C10: South | D10: Prior Tune-Up | E10: Cooling Tune-Up | F10: 46254 | G10: Email | H10: Booked | I10: 46256 | J10: 46275 | M10: 169 | P10: =IF($A10="","",IF($I10="",0,1)) | Q10: =IF($A10="","",IF($L10="",0,1)) | R10: =IF($A10="","",IF($L10="","",IF($M10="","",IFERROR($M10+IF($N10="",0,$N10),"")))) | S10: =IF(OR($A10="",$F10="",$I10=""),"",IFERROR($I10-$F10,"")) | T10: =IF(OR($A10="",$F10="",$I10<>"",$H10="Declined"),"",IFERROR($F10+Setup!$B$9,"")) | U10: =IF($A10="","",IF($K10="Canceled","Canceled",IF($K10="No-Show","No-Show",IF($L10<>"","Completed",IF($K10="Completed","Completion Date Needed",IF($I10<>"",IF($J10="","Booked - Schedule Needed",IF($J10<Setup!$B$5,"Scheduled Date Passed","Scheduled")),IF($H10="Declined","Declined","Open"))))))) | V10: =IF($A10="","",IF($W10<>"","Fix Data",IF($U10="Completion Date Needed","Completion Date Needed",IF($U10="Booked - Schedule Needed","Schedule Needed",IF($U10="Scheduled Date Passed","Review Scheduled Date",IF($U10="No-Show","Review No-Show",IF(AND($T10<>"",$T10<=Setup!$B$5),"Follow-Up Due",""))))))) | W10: =IF($A10="","",IF(COUNTIF($A$2:$A$201,$A10)>1,"Duplicate Record ID",IF($B10="","Site Alias Required",IF($C10="","Area Required",IF($D10="","Relationship Type Required",IF($E10="","Service Focus Required",IF(AND($F10="",$H10<>""),"Outreach Date Required",IF(AND($F10<>"",$H10=""),"Outreach Outcome Required",IF(AND($F10<>"",$F10>Setup!$B$5),"Future Outreach Date",IF(AND($H10="Booked",$I10=""),"Booking Date Required",IF(AND($I10<>"",$H10<>"Booked"),"Set Outcome to Booked",IF(AND($I10<>"",$I10>Setup!$B$5),"Future Booking Date",IF(AND($F10<>"",$I10<>"",$I10<$F10),"Booking Before Outreach",IF(AND($J10<>"",$I10=""),"Booking Date Required",IF(AND($I10<>"",$J10<>"",$J10<$I10),"Scheduled Before Booking",IF(AND($K10<>"",$J10=""),"Scheduled Date Required",IF(AND($L10<>"",$I10=""),"Booking Date Required",IF(AND($L10<>"",$L10>Setup!$B$5),"Future Completion Date",IF(AND($J10<>"",$L10<>"",$L10<$J10),"Completion Before Scheduled",IF(AND($K10="Completed",$L10=""),"Completion Date Required",IF(AND(OR($K10="Canceled",$K10="No-Show"),$L10<>""),"Remove Completion Date",IF(AND($L10<>"",$K10<>"Completed"),"Set Result to Completed",IF(AND($L10<>"",$M10=""),"Tune-Up Price Required",IF(AND($L10="",OR($N10<>"",$O10<>"")),"Completion Date Required",""))))))))))))))))))))))))
A11: CAM-010 | B11: Spruce Sample Site | C11: North | D11: New Inquiry | E11: Heat Pump Tune-Up | F11: 46264 | G11: Postcard | H11: Booked | I11: 46266 | J11: 46274 | K11: Canceled | M11: 199 | P11: =IF($A11="","",IF($I11="",0,1)) | Q11: =IF($A11="","",IF($L11="",0,1)) | R11: =IF($A11="","",IF($L11="","",IF($M11="","",IFERROR($M11+IF($N11="",0,$N11),"")))) | S11: =IF(OR($A11="",$F11="",$I11=""),"",IFERROR($I11-$F11,"")) | T11: =IF(OR($A11="",$F11="",$I11<>"",$H11="Declined"),"",IFERROR($F11+Setup!$B$9,"")) | U11: =IF($A11="","",IF($K11="Canceled","Canceled",IF($K11="No-Show","No-Show",IF($L11<>"","Completed",IF($K11="Completed","Completion Date Needed",IF($I11<>"",IF($J11="","Booked - Schedule Needed",IF($J11<Setup!$B$5,"Scheduled Date Passed","Scheduled")),IF($H11="Declined","Declined","Open"))))))) | V11: =IF($A11="","",IF($W11<>"","Fix Data",IF($U11="Completion Date Needed","Completion Date Needed",IF($U11="Booked - Schedule Needed","Schedule Needed",IF($U11="Scheduled Date Passed","Review Scheduled Date",IF($U11="No-Show","Review No-Show",IF(AND($T11<>"",$T11<=Setup!$B$5),"Follow-Up Due",""))))))) | W11: =IF($A11="","",IF(COUNTIF($A$2:$A$201,$A11)>1,"Duplicate Record ID",IF($B11="","Site Alias Required",IF($C11="","Area Required",IF($D11="","Relationship Type Required",IF($E11="","Service Focus Required",IF(AND($F11="",$H11<>""),"Outreach Date Required",IF(AND($F11<>"",$H11=""),"Outreach Outcome Required",IF(AND($F11<>"",$F11>Setup!$B$5),"Future Outreach Date",IF(AND($H11="Booked",$I11=""),"Booking Date Required",IF(AND($I11<>"",$H11<>"Booked"),"Set Outcome to Booked",IF(AND($I11<>"",$I11>Setup!$B$5),"Future Booking Date",IF(AND($F11<>"",$I11<>"",$I11<$F11),"Booking Before Outreach",IF(AND($J11<>"",$I11=""),"Booking Date Required",IF(AND($I11<>"",$J11<>"",$J11<$I11),"Scheduled Before Booking",IF(AND($K11<>"",$J11=""),"Scheduled Date Required",IF(AND($L11<>"",$I11=""),"Booking Date Required",IF(AND($L11<>"",$L11>Setup!$B$5),"Future Completion Date",IF(AND($J11<>"",$L11<>"",$L11<$J11),"Completion Before Scheduled",IF(AND($K11="Completed",$L11=""),"Completion Date Required",IF(AND(OR($K11="Canceled",$K11="No-Show"),$L11<>""),"Remove Completion Date",IF(AND($L11<>"",$K11<>"Completed"),"Set Result to Completed",IF(AND($L11<>"",$M11=""),"Tune-Up Price Required",IF(AND($L11="",OR($N11<>"",$O11<>"")),"Completion Date Required",""))))))))))))))))))))))))
P12: =IF($A12="","",IF($I12="",0,1)) | Q12: =IF($A12="","",IF($L12="",0,1)) | R12: =IF($A12="","",IF($L12="","",IF($M12="","",IFERROR($M12+IF($N12="",0,$N12),"")))) | S12: =IF(OR($A12="",$F12="",$I12=""),"",IFERROR($I12-$F12,"")) | T12: =IF(OR($A12="",$F12="",$I12<>"",$H12="Declined"),"",IFERROR($F12+Setup!$B$9,"")) | U12: =IF($A12="","",IF($K12="Canceled","Canceled",IF($K12="No-Show","No-Show",IF($L12<>"","Completed",IF($K12="Completed","Completion Date Needed",IF($I12<>"",IF($J12="","Booked - Schedule Needed",IF($J12<Setup!$B$5,"Scheduled Date Passed","Scheduled")),IF($H12="Declined","Declined","Open"))))))) | V12: =IF($A12="","",IF($W12<>"","Fix Data",IF($U12="Completion Date Needed","Completion Date Needed",IF($U12="Booked - Schedule Needed","Schedule Needed",IF($U12="Scheduled Date Passed","Review Scheduled Date",IF($U12="No-Show","Review No-Show",IF(AND($T12<>"",$T12<=Setup!$B$5),"Follow-Up Due",""))))))) | W12: =IF($A12="","",IF(COUNTIF($A$2:$A$201,$A12)>1,"Duplicate Record ID",IF($B12="","Site Alias Required",IF($C12="","Area Required",IF($D12="","Relationship Type Required",IF($E12="","Service Focus Required",IF(AND($F12="",$H12<>""),"Outreach Date Required",IF(AND($F12<>"",$H12=""),"Outreach Outcome Required",IF(AND($F12<>"",$F12>Setup!$B$5),"Future Outreach Date",IF(AND($H12="Booked",$I12=""),"Booking Date Required",IF(AND($I12<>"",$H12<>"Booked"),"Set Outcome to Booked",IF(AND($I12<>"",$I12>Setup!$B$5),"Future Booking Date",IF(AND($F12<>"",$I12<>"",$I12<$F12),"Booking Before Outreach",IF(AND($J12<>"",$I12=""),"Booking Date Required",IF(AND($I12<>"",$J12<>"",$J12<$I12),"Scheduled Before Booking",IF(AND($K12<>"",$J12=""),"Scheduled Date Required",IF(AND($L12<>"",$I12=""),"Booking Date Required",IF(AND($L12<>"",$L12>Setup!$B$5),"Future Completion Date",IF(AND($J12<>"",$L12<>"",$L12<$J12),"Completion Before Scheduled",IF(AND($K12="Completed",$L12=""),"Completion Date Required",IF(AND(OR($K12="Canceled",$K12="No-Show"),$L12<>""),"Remove Completion Date",IF(AND($L12<>"",$K12<>"Completed"),"Set Result to Completed",IF(AND($L12<>"",$M12=""),"Tune-Up Price Required",IF(AND($L12="",OR($N12<>"",$O12<>"")),"Completion Date Required",""))))))))))))))))))))))))
P13: =IF($A13="","",IF($I13="",0,1)) | Q13: =IF($A13="","",IF($L13="",0,1)) | R13: =IF($A13="","",IF($L13="","",IF($M13="","",IFERROR($M13+IF($N13="",0,$N13),"")))) | S13: =IF(OR($A13="",$F13="",$I13=""),"",IFERROR($I13-$F13,"")) | T13: =IF(OR($A13="",$F13="",$I13<>"",$H13="Declined"),"",IFERROR($F13+Setup!$B$9,"")) | U13: =IF($A13="","",IF($K13="Canceled","Canceled",IF($K13="No-Show","No-Show",IF($L13<>"","Completed",IF($K13="Completed","Completion Date Needed",IF($I13<>"",IF($J13="","Booked - Schedule Needed",IF($J13<Setup!$B$5,"Scheduled Date Passed","Scheduled")),IF($H13="Declined","Declined","Open"))))))) | V13: =IF($A13="","",IF($W13<>"","Fix Data",IF($U13="Completion Date Needed","Completion Date Needed",IF($U13="Booked - Schedule Needed","Schedule Needed",IF($U13="Scheduled Date Passed","Review Scheduled Date",IF($U13="No-Show","Review No-Show",IF(AND($T13<>"",$T13<=Setup!$B$5),"Follow-Up Due",""))))))) | W13: =IF($A13="","",IF(COUNTIF($A$2:$A$201,$A13)>1,"Duplicate Record ID",IF($B13="","Site Alias Required",IF($C13="","Area Required",IF($D13="","Relationship Type Required",IF($E13="","Service Focus Required",IF(AND($F13="",$H13<>""),"Outreach Date Required",IF(AND($F13<>"",$H13=""),"Outreach Outcome Required",IF(AND($F13<>"",$F13>Setup!$B$5),"Future Outreach Date",IF(AND($H13="Booked",$I13=""),"Booking Date Required",IF(AND($I13<>"",$H13<>"Booked"),"Set Outcome to Booked",IF(AND($I13<>"",$I13>Setup!$B$5),"Future Booking Date",IF(AND($F13<>"",$I13<>"",$I13<$F13),"Booking Before Outreach",IF(AND($J13<>"",$I13=""),"Booking Date Required",IF(AND($I13<>"",$J13<>"",$J13<$I13),"Scheduled Before Booking",IF(AND($K13<>"",$J13=""),"Scheduled Date Required",IF(AND($L13<>"",$I13=""),"Booking Date Required",IF(AND($L13<>"",$L13>Setup!$B$5),"Future Completion Date",IF(AND($J13<>"",$L13<>"",$L13<$J13),"Completion Before Scheduled",IF(AND($K13="Completed",$L13=""),"Completion Date Required",IF(AND(OR($K13="Canceled",$K13="No-Show"),$L13<>""),"Remove Completion Date",IF(AND($L13<>"",$K13<>"Completed"),"Set Result to Completed",IF(AND($L13<>"",$M13=""),"Tune-Up Price Required",IF(AND($L13="",OR($N13<>"",$O13<>"")),"Completion Date Required",""))))))))))))))))))))))))
P14: =IF($A14="","",IF($I14="",0,1)) | Q14: =IF($A14="","",IF($L14="",0,1)) | R14: =IF($A14="","",IF($L14="","",IF($M14="","",IFERROR($M14+IF($N14="",0,$N14),"")))) | S14: =IF(OR($A14="",$F14="",$I14=""),"",IFERROR($I14-$F14,"")) | T14: =IF(OR($A14="",$F14="",$I14<>"",$H14="Declined"),"",IFERROR($F14+Setup!$B$9,"")) | U14: =IF($A14="","",IF($K14="Canceled","Canceled",IF($K14="No-Show","No-Show",IF($L14<>"","Completed",IF($K14="Completed","Completion Date Needed",IF($I14<>"",IF($J14="","Booked - Schedule Needed",IF($J14<Setup!$B$5,"Scheduled Date Passed","Scheduled")),IF($H14="Declined","Declined","Open"))))))) | V14: =IF($A14="","",IF($W14<>"","Fix Data",IF($U14="Completion Date Needed","Completion Date Needed",IF($U14="Booked - Schedule Needed","Schedule Needed",IF($U14="Scheduled Date Passed","Review Scheduled Date",IF($U14="No-Show","Review No-Show",IF(AND($T14<>"",$T14<=Setup!$B$5),"Follow-Up Due",""))))))) | W14: =IF($A14="","",IF(COUNTIF($A$2:$A$201,$A14)>1,"Duplicate Record ID",IF($B14="","Site Alias Required",IF($C14="","Area Required",IF($D14="","Relationship Type Required",IF($E14="","Service Focus Required",IF(AND($F14="",$H14<>""),"Outreach Date Required",IF(AND($F14<>"",$H14=""),"Outreach Outcome Required",IF(AND($F14<>"",$F14>Setup!$B$5),"Future Outreach Date",IF(AND($H14="Booked",$I14=""),"Booking Date Required",IF(AND($I14<>"",$H14<>"Booked"),"Set Outcome to Booked",IF(AND($I14<>"",$I14>Setup!$B$5),"Future Booking Date",IF(AND($F14<>"",$I14<>"",$I14<$F14),"Booking Before Outreach",IF(AND($J14<>"",$I14=""),"Booking Date Required",IF(AND($I14<>"",$J14<>"",$J14<$I14),"Scheduled Before Booking",IF(AND($K14<>"",$J14=""),"Scheduled Date Required",IF(AND($L14<>"",$I14=""),"Booking Date Required",IF(AND($L14<>"",$L14>Setup!$B$5),"Future Completion Date",IF(AND($J14<>"",$L14<>"",$L14<$J14),"Completion Before Scheduled",IF(AND($K14="Completed",$L14=""),"Completion Date Required",IF(AND(OR($K14="Canceled",$K14="No-Show"),$L14<>""),"Remove Completion Date",IF(AND($L14<>"",$K14<>"Completed"),"Set Result to Completed",IF(AND($L14<>"",$M14=""),"Tune-Up Price Required",IF(AND($L14="",OR($N14<>"",$O14<>"")),"Completion Date Required",""))))))))))))))))))))))))
P15: =IF($A15="","",IF($I15="",0,1)) | Q15: =IF($A15="","",IF($L15="",0,1)) | R15: =IF($A15="","",IF($L15="","",IF($M15="","",IFERROR($M15+IF($N15="",0,$N15),"")))) | S15: =IF(OR($A15="",$F15="",$I15=""),"",IFERROR($I15-$F15,"")) | T15: =IF(OR($A15="",$F15="",$I15<>"",$H15="Declined"),"",IFERROR($F15+Setup!$B$9,"")) | U15: =IF($A15="","",IF($K15="Canceled","Canceled",IF($K15="No-Show","No-Show",IF($L15<>"","Completed",IF($K15="Completed","Completion Date Needed",IF($I15<>"",IF($J15="","Booked - Schedule Needed",IF($J15<Setup!$B$5,"Scheduled Date Passed","Scheduled")),IF($H15="Declined","Declined","Open"))))))) | V15: =IF($A15="","",IF($W15<>"","Fix Data",IF($U15="Completion Date Needed","Completion Date Needed",IF($U15="Booked - Schedule Needed","Schedule Needed",IF($U15="Scheduled Date Passed","Review Scheduled Date",IF($U15="No-Show","Review No-Show",IF(AND($T15<>"",$T15<=Setup!$B$5),"Follow-Up Due",""))))))) | W15: =IF($A15="","",IF(COUNTIF($A$2:$A$201,$A15)>1,"Duplicate Record ID",IF($B15="","Site Alias Required",IF($C15="","Area Required",IF($D15="","Relationship Type Required",IF($E15="","Service Focus Required",IF(AND($F15="",$H15<>""),"Outreach Date Required",IF(AND($F15<>"",$H15=""),"Outreach Outcome Required",IF(AND($F15<>"",$F15>Setup!$B$5),"Future Outreach Date",IF(AND($H15="Booked",$I15=""),"Booking Date Required",IF(AND($I15<>"",$H15<>"Booked"),"Set Outcome to Booked",IF(AND($I15<>"",$I15>Setup!$B$5),"Future Booking Date",IF(AND($F15<>"",$I15<>"",$I15<$F15),"Booking Before Outreach",IF(AND($J15<>"",$I15=""),"Booking Date Required",IF(AND($I15<>"",$J15<>"",$J15<$I15),"Scheduled Before Booking",IF(AND($K15<>"",$J15=""),"Scheduled Date Required",IF(AND($L15<>"",$I15=""),"Booking Date Required",IF(AND($L15<>"",$L15>Setup!$B$5),"Future Completion Date",IF(AND($J15<>"",$L15<>"",$L15<$J15),"Completion Before Scheduled",IF(AND($K15="Completed",$L15=""),"Completion Date Required",IF(AND(OR($K15="Canceled",$K15="No-Show"),$L15<>""),"Remove Completion Date",IF(AND($L15<>"",$K15<>"Completed"),"Set Result to Completed",IF(AND($L15<>"",$M15=""),"Tune-Up Price Required",IF(AND($L15="",OR($N15<>"",$O15<>"")),"Completion Date Required",""))))))))))))))))))))))))
P16: =IF($A16="","",IF($I16="",0,1)) | Q16: =IF($A16="","",IF($L16="",0,1)) | R16: =IF($A16="","",IF($L16="","",IF($M16="","",IFERROR($M16+IF($N16="",0,$N16),"")))) | S16: =IF(OR($A16="",$F16="",$I16=""),"",IFERROR($I16-$F16,"")) | T16: =IF(OR($A16="",$F16="",$I16<>"",$H16="Declined"),"",IFERROR($F16+Setup!$B$9,"")) | U16: =IF($A16="","",IF($K16="Canceled","Canceled",IF($K16="No-Show","No-Show",IF($L16<>"","Completed",IF($K16="Completed","Completion Date Needed",IF($I16<>"",IF($J16="","Booked - Schedule Needed",IF($J16<Setup!$B$5,"Scheduled Date Passed","Scheduled")),IF($H16="Declined","Declined","Open"))))))) | V16: =IF($A16="","",IF($W16<>"","Fix Data",IF($U16="Completion Date Needed","Completion Date Needed",IF($U16="Booked - Schedule Needed","Schedule Needed",IF($U16="Scheduled Date Passed","Review Scheduled Date",IF($U16="No-Show","Review No-Show",IF(AND($T16<>"",$T16<=Setup!$B$5),"Follow-Up Due",""))))))) | W16: =IF($A16="","",IF(COUNTIF($A$2:$A$201,$A16)>1,"Duplicate Record ID",IF($B16="","Site Alias Required",IF($C16="","Area Required",IF($D16="","Relationship Type Required",IF($E16="","Service Focus Required",IF(AND($F16="",$H16<>""),"Outreach Date Required",IF(AND($F16<>"",$H16=""),"Outreach Outcome Required",IF(AND($F16<>"",$F16>Setup!$B$5),"Future Outreach Date",IF(AND($H16="Booked",$I16=""),"Booking Date Required",IF(AND($I16<>"",$H16<>"Booked"),"Set Outcome to Booked",IF(AND($I16<>"",$I16>Setup!$B$5),"Future Booking Date",IF(AND($F16<>"",$I16<>"",$I16<$F16),"Booking Before Outreach",IF(AND($J16<>"",$I16=""),"Booking Date Required",IF(AND($I16<>"",$J16<>"",$J16<$I16),"Scheduled Before Booking",IF(AND($K16<>"",$J16=""),"Scheduled Date Required",IF(AND($L16<>"",$I16=""),"Booking Date Required",IF(AND($L16<>"",$L16>Setup!$B$5),"Future Completion Date",IF(AND($J16<>"",$L16<>"",$L16<$J16),"Completion Before Scheduled",IF(AND($K16="Completed",$L16=""),"Completion Date Required",IF(AND(OR($K16="Canceled",$K16="No-Show"),$L16<>""),"Remove Completion Date",IF(AND($L16<>"",$K16<>"Completed"),"Set Result to Completed",IF(AND($L16<>"",$M16=""),"Tune-Up Price Required",IF(AND($L16="",OR($N16<>"",$O16<>"")),"Completion Date Required",""))))))))))))))))))))))))
P17: =IF($A17="","",IF($I17="",0,1)) | Q17: =IF($A17="","",IF($L17="",0,1)) | R17: =IF($A17="","",IF($L17="","",IF($M17="","",IFERROR($M17+IF($N17="",0,$N17),"")))) | S17: =IF(OR($A17="",$F17="",$I17=""),"",IFERROR($I17-$F17,"")) | T17: =IF(OR($A17="",$F17="",$I17<>"",$H17="Declined"),"",IFERROR($F17+Setup!$B$9,"")) | U17: =IF($A17="","",IF($K17="Canceled","Canceled",IF($K17="No-Show","No-Show",IF($L17<>"","Completed",IF($K17="Completed","Completion Date Needed",IF($I17<>"",IF($J17="","Booked - Schedule Needed",IF($J17<Setup!$B$5,"Scheduled Date Passed","Scheduled")),IF($H17="Declined","Declined","Open"))))))) | V17: =IF($A17="","",IF($W17<>"","Fix Data",IF($U17="Completion Date Needed","Completion Date Needed",IF($U17="Booked - Schedule Needed","Schedule Needed",IF($U17="Scheduled Date Passed","Review Scheduled Date",IF($U17="No-Show","Review No-Show",IF(AND($T17<>"",$T17<=Setup!$B$5),"Follow-Up Due",""))))))) | W17: =IF($A17="","",IF(COUNTIF($A$2:$A$201,$A17)>1,"Duplicate Record ID",IF($B17="","Site Alias Required",IF($C17="","Area Required",IF($D17="","Relationship Type Required",IF($E17="","Service Focus Required",IF(AND($F17="",$H17<>""),"Outreach Date Required",IF(AND($F17<>"",$H17=""),"Outreach Outcome Required",IF(AND($F17<>"",$F17>Setup!$B$5),"Future Outreach Date",IF(AND($H17="Booked",$I17=""),"Booking Date Required",IF(AND($I17<>"",$H17<>"Booked"),"Set Outcome to Booked",IF(AND($I17<>"",$I17>Setup!$B$5),"Future Booking Date",IF(AND($F17<>"",$I17<>"",$I17<$F17),"Booking Before Outreach",IF(AND($J17<>"",$I17=""),"Booking Date Required",IF(AND($I17<>"",$J17<>"",$J17<$I17),"Scheduled Before Booking",IF(AND($K17<>"",$J17=""),"Scheduled Date Required",IF(AND($L17<>"",$I17=""),"Booking Date Required",IF(AND($L17<>"",$L17>Setup!$B$5),"Future Completion Date",IF(AND($J17<>"",$L17<>"",$L17<$J17),"Completion Before Scheduled",IF(AND($K17="Completed",$L17=""),"Completion Date Required",IF(AND(OR($K17="Canceled",$K17="No-Show"),$L17<>""),"Remove Completion Date",IF(AND($L17<>"",$K17<>"Completed"),"Set Result to Completed",IF(AND($L17<>"",$M17=""),"Tune-Up Price Required",IF(AND($L17="",OR($N17<>"",$O17<>"")),"Completion Date Required",""))))))))))))))))))))))))
P18: =IF($A18="","",IF($I18="",0,1)) | Q18: =IF($A18="","",IF($L18="",0,1)) | R18: =IF($A18="","",IF($L18="","",IF($M18="","",IFERROR($M18+IF($N18="",0,$N18),"")))) | S18: =IF(OR($A18="",$F18="",$I18=""),"",IFERROR($I18-$F18,"")) | T18: =IF(OR($A18="",$F18="",$I18<>"",$H18="Declined"),"",IFERROR($F18+Setup!$B$9,"")) | U18: =IF($A18="","",IF($K18="Canceled","Canceled",IF($K18="No-Show","No-Show",IF($L18<>"","Completed",IF($K18="Completed","Completion Date Needed",IF($I18<>"",IF($J18="","Booked - Schedule Needed",IF($J18<Setup!$B$5,"Scheduled Date Passed","Scheduled")),IF($H18="Declined","Declined","Open"))))))) | V18: =IF($A18="","",IF($W18<>"","Fix Data",IF($U18="Completion Date Needed","Completion Date Needed",IF($U18="Booked - Schedule Needed","Schedule Needed",IF($U18="Scheduled Date Passed","Review Scheduled Date",IF($U18="No-Show","Review No-Show",IF(AND($T18<>"",$T18<=Setup!$B$5),"Follow-Up Due",""))))))) | W18: =IF($A18="","",IF(COUNTIF($A$2:$A$201,$A18)>1,"Duplicate Record ID",IF($B18="","Site Alias Required",IF($C18="","Area Required",IF($D18="","Relationship Type Required",IF($E18="","Service Focus Required",IF(AND($F18="",$H18<>""),"Outreach Date Required",IF(AND($F18<>"",$H18=""),"Outreach Outcome Required",IF(AND($F18<>"",$F18>Setup!$B$5),"Future Outreach Date",IF(AND($H18="Booked",$I18=""),"Booking Date Required",IF(AND($I18<>"",$H18<>"Booked"),"Set Outcome to Booked",IF(AND($I18<>"",$I18>Setup!$B$5),"Future Booking Date",IF(AND($F18<>"",$I18<>"",$I18<$F18),"Booking Before Outreach",IF(AND($J18<>"",$I18=""),"Booking Date Required",IF(AND($I18<>"",$J18<>"",$J18<$I18),"Scheduled Before Booking",IF(AND($K18<>"",$J18=""),"Scheduled Date Required",IF(AND($L18<>"",$I18=""),"Booking Date Required",IF(AND($L18<>"",$L18>Setup!$B$5),"Future Completion Date",IF(AND($J18<>"",$L18<>"",$L18<$J18),"Completion Before Scheduled",IF(AND($K18="Completed",$L18=""),"Completion Date Required",IF(AND(OR($K18="Canceled",$K18="No-Show"),$L18<>""),"Remove Completion Date",IF(AND($L18<>"",$K18<>"Completed"),"Set Result to Completed",IF(AND($L18<>"",$M18=""),"Tune-Up Price Required",IF(AND($L18="",OR($N18<>"",$O18<>"")),"Completion Date Required",""))))))))))))))))))))))))
P19: =IF($A19="","",IF($I19="",0,1)) | Q19: =IF($A19="","",IF($L19="",0,1)) | R19: =IF($A19="","",IF($L19="","",IF($M19="","",IFERROR($M19+IF($N19="",0,$N19),"")))) | S19: =IF(OR($A19="",$F19="",$I19=""),"",IFERROR($I19-$F19,"")) | T19: =IF(OR($A19="",$F19="",$I19<>"",$H19="Declined"),"",IFERROR($F19+Setup!$B$9,"")) | U19: =IF($A19="","",IF($K19="Canceled","Canceled",IF($K19="No-Show","No-Show",IF($L19<>"","Completed",IF($K19="Completed","Completion Date Needed",IF($I19<>"",IF($J19="","Booked - Schedule Needed",IF($J19<Setup!$B$5,"Scheduled Date Passed","Scheduled")),IF($H19="Declined","Declined","Open"))))))) | V19: =IF($A19="","",IF($W19<>"","Fix Data",IF($U19="Completion Date Needed","Completion Date Needed",IF($U19="Booked - Schedule Needed","Schedule Needed",IF($U19="Scheduled Date Passed","Review Scheduled Date",IF($U19="No-Show","Review No-Show",IF(AND($T19<>"",$T19<=Setup!$B$5),"Follow-Up Due",""))))))) | W19: =IF($A19="","",IF(COUNTIF($A$2:$A$201,$A19)>1,"Duplicate Record ID",IF($B19="","Site Alias Required",IF($C19="","Area Required",IF($D19="","Relationship Type Required",IF($E19="","Service Focus Required",IF(AND($F19="",$H19<>""),"Outreach Date Required",IF(AND($F19<>"",$H19=""),"Outreach Outcome Required",IF(AND($F19<>"",$F19>Setup!$B$5),"Future Outreach Date",IF(AND($H19="Booked",$I19=""),"Booking Date Required",IF(AND($I19<>"",$H19<>"Booked"),"Set Outcome to Booked",IF(AND($I19<>"",$I19>Setup!$B$5),"Future Booking Date",IF(AND($F19<>"",$I19<>"",$I19<$F19),"Booking Before Outreach",IF(AND($J19<>"",$I19=""),"Booking Date Required",IF(AND($I19<>"",$J19<>"",$J19<$I19),"Scheduled Before Booking",IF(AND($K19<>"",$J19=""),"Scheduled Date Required",IF(AND($L19<>"",$I19=""),"Booking Date Required",IF(AND($L19<>"",$L19>Setup!$B$5),"Future Completion Date",IF(AND($J19<>"",$L19<>"",$L19<$J19),"Completion Before Scheduled",IF(AND($K19="Completed",$L19=""),"Completion Date Required",IF(AND(OR($K19="Canceled",$K19="No-Show"),$L19<>""),"Remove Completion Date",IF(AND($L19<>"",$K19<>"Completed"),"Set Result to Completed",IF(AND($L19<>"",$M19=""),"Tune-Up Price Required",IF(AND($L19="",OR($N19<>"",$O19<>"")),"Completion Date Required",""))))))))))))))))))))))))
P20: =IF($A20="","",IF($I20="",0,1)) | Q20: =IF($A20="","",IF($L20="",0,1)) | R20: =IF($A20="","",IF($L20="","",IF($M20="","",IFERROR($M20+IF($N20="",0,$N20),"")))) | S20: =IF(OR($A20="",$F20="",$I20=""),"",IFERROR($I20-$F20,"")) | T20: =IF(OR($A20="",$F20="",$I20<>"",$H20="Declined"),"",IFERROR($F20+Setup!$B$9,"")) | U20: =IF($A20="","",IF($K20="Canceled","Canceled",IF($K20="No-Show","No-Show",IF($L20<>"","Completed",IF($K20="Completed","Completion Date Needed",IF($I20<>"",IF($J20="","Booked - Schedule Needed",IF($J20<Setup!$B$5,"Scheduled Date Passed","Scheduled")),IF($H20="Declined","Declined","Open"))))))) | V20: =IF($A20="","",IF($W20<>"","Fix Data",IF($U20="Completion Date Needed","Completion Date Needed",IF($U20="Booked - Schedule Needed","Schedule Needed",IF($U20="Scheduled Date Passed","Review Scheduled Date",IF($U20="No-Show","Review No-Show",IF(AND($T20<>"",$T20<=Setup!$B$5),"Follow-Up Due",""))))))) | W20: =IF($A20="","",IF(COUNTIF($A$2:$A$201,$A20)>1,"Duplicate Record ID",IF($B20="","Site Alias Required",IF($C20="","Area Required",IF($D20="","Relationship Type Required",IF($E20="","Service Focus Required",IF(AND($F20="",$H20<>""),"Outreach Date Required",IF(AND($F20<>"",$H20=""),"Outreach Outcome Required",IF(AND($F20<>"",$F20>Setup!$B$5),"Future Outreach Date",IF(AND($H20="Booked",$I20=""),"Booking Date Required",IF(AND($I20<>"",$H20<>"Booked"),"Set Outcome to Booked",IF(AND($I20<>"",$I20>Setup!$B$5),"Future Booking Date",IF(AND($F20<>"",$I20<>"",$I20<$F20),"Booking Before Outreach",IF(AND($J20<>"",$I20=""),"Booking Date Required",IF(AND($I20<>"",$J20<>"",$J20<$I20),"Scheduled Before Booking",IF(AND($K20<>"",$J20=""),"Scheduled Date Required",IF(AND($L20<>"",$I20=""),"Booking Date Required",IF(AND($L20<>"",$L20>Setup!$B$5),"Future Completion Date",IF(AND($J20<>"",$L20<>"",$L20<$J20),"Completion Before Scheduled",IF(AND($K20="Completed",$L20=""),"Completion Date Required",IF(AND(OR($K20="Canceled",$K20="No-Show"),$L20<>""),"Remove Completion Date",IF(AND($L20<>"",$K20<>"Completed"),"Set Result to Completed",IF(AND($L20<>"",$M20=""),"Tune-Up Price Required",IF(AND($L20="",OR($N20<>"",$O20<>"")),"Completion Date Required",""))))))))))))))))))))))))
P21: =IF($A21="","",IF($I21="",0,1)) | Q21: =IF($A21="","",IF($L21="",0,1)) | R21: =IF($A21="","",IF($L21="","",IF($M21="","",IFERROR($M21+IF($N21="",0,$N21),"")))) | S21: =IF(OR($A21="",$F21="",$I21=""),"",IFERROR($I21-$F21,"")) | T21: =IF(OR($A21="",$F21="",$I21<>"",$H21="Declined"),"",IFERROR($F21+Setup!$B$9,"")) | U21: =IF($A21="","",IF($K21="Canceled","Canceled",IF($K21="No-Show","No-Show",IF($L21<>"","Completed",IF($K21="Completed","Completion Date Needed",IF($I21<>"",IF($J21="","Booked - Schedule Needed",IF($J21<Setup!$B$5,"Scheduled Date Passed","Scheduled")),IF($H21="Declined","Declined","Open"))))))) | V21: =IF($A21="","",IF($W21<>"","Fix Data",IF($U21="Completion Date Needed","Completion Date Needed",IF($U21="Booked - Schedule Needed","Schedule Needed",IF($U21="Scheduled Date Passed","Review Scheduled Date",IF($U21="No-Show","Review No-Show",IF(AND($T21<>"",$T21<=Setup!$B$5),"Follow-Up Due",""))))))) | W21: =IF($A21="","",IF(COUNTIF($A$2:$A$201,$A21)>1,"Duplicate Record ID",IF($B21="","Site Alias Required",IF($C21="","Area Required",IF($D21="","Relationship Type Required",IF($E21="","Service Focus Required",IF(AND($F21="",$H21<>""),"Outreach Date Required",IF(AND($F21<>"",$H21=""),"Outreach Outcome Required",IF(AND($F21<>"",$F21>Setup!$B$5),"Future Outreach Date",IF(AND($H21="Booked",$I21=""),"Booking Date Required",IF(AND($I21<>"",$H21<>"Booked"),"Set Outcome to Booked",IF(AND($I21<>"",$I21>Setup!$B$5),"Future Booking Date",IF(AND($F21<>"",$I21<>"",$I21<$F21),"Booking Before Outreach",IF(AND($J21<>"",$I21=""),"Booking Date Required",IF(AND($I21<>"",$J21<>"",$J21<$I21),"Scheduled Before Booking",IF(AND($K21<>"",$J21=""),"Scheduled Date Required",IF(AND($L21<>"",$I21=""),"Booking Date Required",IF(AND($L21<>"",$L21>Setup!$B$5),"Future Completion Date",IF(AND($J21<>"",$L21<>"",$L21<$J21),"Completion Before Scheduled",IF(AND($K21="Completed",$L21=""),"Completion Date Required",IF(AND(OR($K21="Canceled",$K21="No-Show"),$L21<>""),"Remove Completion Date",IF(AND($L21<>"",$K21<>"Completed"),"Set Result to Completed",IF(AND($L21<>"",$M21=""),"Tune-Up Price Required",IF(AND($L21="",OR($N21<>"",$O21<>"")),"Completion Date Required",""))))))))))))))))))))))))
P22: =IF($A22="","",IF($I22="",0,1)) | Q22: =IF($A22="","",IF($L22="",0,1)) | R22: =IF($A22="","",IF($L22="","",IF($M22="","",IFERROR($M22+IF($N22="",0,$N22),"")))) | S22: =IF(OR($A22="",$F22="",$I22=""),"",IFERROR($I22-$F22,"")) | T22: =IF(OR($A22="",$F22="",$I22<>"",$H22="Declined"),"",IFERROR($F22+Setup!$B$9,"")) | U22: =IF($A22="","",IF($K22="Canceled","Canceled",IF($K22="No-Show","No-Show",IF($L22<>"","Completed",IF($K22="Completed","Completion Date Needed",IF($I22<>"",IF($J22="","Booked - Schedule Needed",IF($J22<Setup!$B$5,"Scheduled Date Passed","Scheduled")),IF($H22="Declined","Declined","Open"))))))) | V22: =IF($A22="","",IF($W22<>"","Fix Data",IF($U22="Completion Date Needed","Completion Date Needed",IF($U22="Booked - Schedule Needed","Schedule Needed",IF($U22="Scheduled Date Passed","Review Scheduled Date",IF($U22="No-Show","Review No-Show",IF(AND($T22<>"",$T22<=Setup!$B$5),"Follow-Up Due",""))))))) | W22: =IF($A22="","",IF(COUNTIF($A$2:$A$201,$A22)>1,"Duplicate Record ID",IF($B22="","Site Alias Required",IF($C22="","Area Required",IF($D22="","Relationship Type Required",IF($E22="","Service Focus Required",IF(AND($F22="",$H22<>""),"Outreach Date Required",IF(AND($F22<>"",$H22=""),"Outreach Outcome Required",IF(AND($F22<>"",$F22>Setup!$B$5),"Future Outreach Date",IF(AND($H22="Booked",$I22=""),"Booking Date Required",IF(AND($I22<>"",$H22<>"Booked"),"Set Outcome to Booked",IF(AND($I22<>"",$I22>Setup!$B$5),"Future Booking Date",IF(AND($F22<>"",$I22<>"",$I22<$F22),"Booking Before Outreach",IF(AND($J22<>"",$I22=""),"Booking Date Required",IF(AND($I22<>"",$J22<>"",$J22<$I22),"Scheduled Before Booking",IF(AND($K22<>"",$J22=""),"Scheduled Date Required",IF(AND($L22<>"",$I22=""),"Booking Date Required",IF(AND($L22<>"",$L22>Setup!$B$5),"Future Completion Date",IF(AND($J22<>"",$L22<>"",$L22<$J22),"Completion Before Scheduled",IF(AND($K22="Completed",$L22=""),"Completion Date Required",IF(AND(OR($K22="Canceled",$K22="No-Show"),$L22<>""),"Remove Completion Date",IF(AND($L22<>"",$K22<>"Completed"),"Set Result to Completed",IF(AND($L22<>"",$M22=""),"Tune-Up Price Required",IF(AND($L22="",OR($N22<>"",$O22<>"")),"Completion Date Required",""))))))))))))))))))))))))
P23: =IF($A23="","",IF($I23="",0,1)) | Q23: =IF($A23="","",IF($L23="",0,1)) | R23: =IF($A23="","",IF($L23="","",IF($M23="","",IFERROR($M23+IF($N23="",0,$N23),"")))) | S23: =IF(OR($A23="",$F23="",$I23=""),"",IFERROR($I23-$F23,"")) | T23: =IF(OR($A23="",$F23="",$I23<>"",$H23="Declined"),"",IFERROR($F23+Setup!$B$9,"")) | U23: =IF($A23="","",IF($K23="Canceled","Canceled",IF($K23="No-Show","No-Show",IF($L23<>"","Completed",IF($K23="Completed","Completion Date Needed",IF($I23<>"",IF($J23="","Booked - Schedule Needed",IF($J23<Setup!$B$5,"Scheduled Date Passed","Scheduled")),IF($H23="Declined","Declined","Open"))))))) | V23: =IF($A23="","",IF($W23<>"","Fix Data",IF($U23="Completion Date Needed","Completion Date Needed",IF($U23="Booked - Schedule Needed","Schedule Needed",IF($U23="Scheduled Date Passed","Review Scheduled Date",IF($U23="No-Show","Review No-Show",IF(AND($T23<>"",$T23<=Setup!$B$5),"Follow-Up Due",""))))))) | W23: =IF($A23="","",IF(COUNTIF($A$2:$A$201,$A23)>1,"Duplicate Record ID",IF($B23="","Site Alias Required",IF($C23="","Area Required",IF($D23="","Relationship Type Required",IF($E23="","Service Focus Required",IF(AND($F23="",$H23<>""),"Outreach Date Required",IF(AND($F23<>"",$H23=""),"Outreach Outcome Required",IF(AND($F23<>"",$F23>Setup!$B$5),"Future Outreach Date",IF(AND($H23="Booked",$I23=""),"Booking Date Required",IF(AND($I23<>"",$H23<>"Booked"),"Set Outcome to Booked",IF(AND($I23<>"",$I23>Setup!$B$5),"Future Booking Date",IF(AND($F23<>"",$I23<>"",$I23<$F23),"Booking Before Outreach",IF(AND($J23<>"",$I23=""),"Booking Date Required",IF(AND($I23<>"",$J23<>"",$J23<$I23),"Scheduled Before Booking",IF(AND($K23<>"",$J23=""),"Scheduled Date Required",IF(AND($L23<>"",$I23=""),"Booking Date Required",IF(AND($L23<>"",$L23>Setup!$B$5),"Future Completion Date",IF(AND($J23<>"",$L23<>"",$L23<$J23),"Completion Before Scheduled",IF(AND($K23="Completed",$L23=""),"Completion Date Required",IF(AND(OR($K23="Canceled",$K23="No-Show"),$L23<>""),"Remove Completion Date",IF(AND($L23<>"",$K23<>"Completed"),"Set Result to Completed",IF(AND($L23<>"",$M23=""),"Tune-Up Price Required",IF(AND($L23="",OR($N23<>"",$O23<>"")),"Completion Date Required",""))))))))))))))))))))))))
... P201: =IF($A201="","",IF($I201="",0,1)) | Q201: =IF($A201="","",IF($L201="",0,1)) | R201: =IF($A201="","",IF($L201="","",IF($M201="","",IFERROR($M201+IF($N201="",0,$N201),"")))) | S201: =IF(OR($A201="",$F201="",$I201=""),"",IFERROR($I201-$F201,"")) | T201: =IF(OR($A201="",$F201="",$I201<>"",$H201="Declined"),"",IFERROR($F201+Setup!$B$9,"")) | U201: =IF($A201="","",IF($K201="Canceled","Canceled",IF($K201="No-Show","No-Show",IF($L201<>"","Completed",IF($K201="Completed","Completion Date Needed",IF($I201<>"",IF($J201="","Booked - Schedule Needed",IF($J201<Setup!$B$5,"Scheduled Date Passed","Scheduled")),IF($H201="Declined","Declined","Open"))))))) | V201: =IF($A201="","",IF($W201<>"","Fix Data",IF($U201="Completion Date Needed","Completion Date Needed",IF($U201="Booked - Schedule Needed","Schedule Needed",IF($U201="Scheduled Date Passed","Review Scheduled Date",IF($U201="No-Show","Review No-Show",IF(AND($T201<>"",$T201<=Setup!$B$5),"Follow-Up Due",""))))))) | W201: =IF($A201="","",IF(COUNTIF($A$2:$A$201,$A201)>1,"Duplicate Record ID",IF($B201="","Site Alias Required",IF($C201="","Area Required",IF($D201="","Relationship Type Required",IF($E201="","Service Focus Required",IF(AND($F201="",$H201<>""),"Outreach Date Required",IF(AND($F201<>"",$H201=""),"Outreach Outcome Required",IF(AND($F201<>"",$F201>Setup!$B$5),"Future Outreach Date",IF(AND($H201="Booked",$I201=""),"Booking Date Required",IF(AND($I201<>"",$H201<>"Booked"),"Set Outcome to Booked",IF(AND($I201<>"",$I201>Setup!$B$5),"Future Booking Date",IF(AND($F201<>"",$I201<>"",$I201<$F201),"Booking Before Outreach",IF(AND($J201<>"",$I201=""),"Booking Date Required",IF(AND($I201<>"",$J201<>"",$J201<$I201),"Scheduled Before Booking",IF(AND($K201<>"",$J201=""),"Scheduled Date Required",IF(AND($L201<>"",$I201=""),"Booking Date Required",IF(AND($L201<>"",$L201>Setup!$B$5),"Future Completion Date",IF(AND($J201<>"",$L201<>"",$L201<$J201),"Completion Before Scheduled",IF(AND($K201="Completed",$L201=""),"Completion Date Required",IF(AND(OR($K201="Canceled",$K201="No-Show"),$L201<>""),"Remove Completion Date",IF(AND($L201<>"",$K201<>"Completed"),"Set Result to Completed",IF(AND($L201<>"",$M201=""),"Tune-Up Price Required",IF(AND($L201="",OR($N201<>"",$O201<>"")),"Completion Date Required",""))))))))))))))))))))))))
