Workbook

Sheet Summary
A1: HVAC Response Time Dashboard
A2: Fictional examples compare requested, dispatched, arrival, and completion timestamps. Review alerts before using the results for field decisions.
A4: Overall response indicators
A5: Total requests | B5: =COUNTIF('Service Log'!$A$5:$A$104,"<>") | C5: Completed | D5: =COUNTIF('Service Log'!$L$5:$L$104,"Completed") | E5: Open | F5: =COUNTIF('Service Log'!$L$5:$L$104,"New")+COUNTIF('Service Log'!$L$5:$L$104,"Dispatched")+COUNTIF('Service Log'!$L$5:$L$104,"On Site") | G5: Canceled | H5: =COUNTIF('Service Log'!$L$5:$L$104,"Canceled")
A7: Avg. dispatch (min) | B7: =IFERROR(AVERAGEIF('Service Log'!$N$5:$N$104,">=0",'Service Log'!$N$5:$N$104),"") | C7: Avg. response (min) | D7: =IFERROR((SUMIF('Service Log'!$Q$5:$Q$104,"Met",'Service Log'!$O$5:$O$104)+SUMIF('Service Log'!$Q$5:$Q$104,"Check delay",'Service Log'!$O$5:$O$104))/(COUNTIF('Service Log'!$Q$5:$Q$104,"Met")+COUNTIF('Service Log'!$Q$5:$Q$104,"Check delay")),"") | E7: Met target | F7: =IFERROR(COUNTIF('Service Log'!$Q$5:$Q$104,"Met")/(COUNTIF('Service Log'!$Q$5:$Q$104,"Met")+COUNTIF('Service Log'!$Q$5:$Q$104,"Check delay")),"") | G7: Avg. completion (hrs) | H7: =IFERROR(AVERAGEIF('Service Log'!$P$5:$P$104,">=0",'Service Log'!$P$5:$P$104),"")
A8: Timestamp review | B8: =COUNTIF('Service Log'!$Q$5:$Q$104,"Review timestamps") | C8: Awaiting arrival | D8: =COUNTIF('Service Log'!$Q$5:$Q$104,"Awaiting arrival") | E8: Check delay | F8: =COUNTIF('Service Log'!$Q$5:$Q$104,"Check delay") | G8: Measured arrivals | H8: =COUNT('Service Log'!$O$5:$O$104)
A9: Met target uses valid measured arrivals only; review rows are excluded.
A11: Response by priority
A12: Priority | B12: Target (min) | C12: Requests | D12: Avg. Response (min) | E12: Met | F12: Met Rate
A13: Urgent | B13: =IFERROR(VLOOKUP($A13,Assumptions!$A$5:$B$8,2,FALSE),"") | C13: =COUNTIFS('Service Log'!$E$5:$E$104,$A13,'Service Log'!$A$5:$A$104,"<>") | D13: =IFERROR((SUMIFS('Service Log'!$O$5:$O$104,'Service Log'!$E$5:$E$104,$A13,'Service Log'!$Q$5:$Q$104,"Met")+SUMIFS('Service Log'!$O$5:$O$104,'Service Log'!$E$5:$E$104,$A13,'Service Log'!$Q$5:$Q$104,"Check delay"))/(COUNTIFS('Service Log'!$E$5:$E$104,$A13,'Service Log'!$Q$5:$Q$104,"Met")+COUNTIFS('Service Log'!$E$5:$E$104,$A13,'Service Log'!$Q$5:$Q$104,"Check delay")),"") | E13: =COUNTIFS('Service Log'!$E$5:$E$104,$A13,'Service Log'!$Q$5:$Q$104,"Met") | F13: =IFERROR($E13/(COUNTIFS('Service Log'!$E$5:$E$104,$A13,'Service Log'!$Q$5:$Q$104,"Met")+COUNTIFS('Service Log'!$E$5:$E$104,$A13,'Service Log'!$Q$5:$Q$104,"Check delay")),"")
A14: High | B14: =IFERROR(VLOOKUP($A14,Assumptions!$A$5:$B$8,2,FALSE),"") | C14: =COUNTIFS('Service Log'!$E$5:$E$104,$A14,'Service Log'!$A$5:$A$104,"<>") | D14: =IFERROR((SUMIFS('Service Log'!$O$5:$O$104,'Service Log'!$E$5:$E$104,$A14,'Service Log'!$Q$5:$Q$104,"Met")+SUMIFS('Service Log'!$O$5:$O$104,'Service Log'!$E$5:$E$104,$A14,'Service Log'!$Q$5:$Q$104,"Check delay"))/(COUNTIFS('Service Log'!$E$5:$E$104,$A14,'Service Log'!$Q$5:$Q$104,"Met")+COUNTIFS('Service Log'!$E$5:$E$104,$A14,'Service Log'!$Q$5:$Q$104,"Check delay")),"") | E14: =COUNTIFS('Service Log'!$E$5:$E$104,$A14,'Service Log'!$Q$5:$Q$104,"Met") | F14: =IFERROR($E14/(COUNTIFS('Service Log'!$E$5:$E$104,$A14,'Service Log'!$Q$5:$Q$104,"Met")+COUNTIFS('Service Log'!$E$5:$E$104,$A14,'Service Log'!$Q$5:$Q$104,"Check delay")),"")
A15: Normal | B15: =IFERROR(VLOOKUP($A15,Assumptions!$A$5:$B$8,2,FALSE),"") | C15: =COUNTIFS('Service Log'!$E$5:$E$104,$A15,'Service Log'!$A$5:$A$104,"<>") | D15: =IFERROR((SUMIFS('Service Log'!$O$5:$O$104,'Service Log'!$E$5:$E$104,$A15,'Service Log'!$Q$5:$Q$104,"Met")+SUMIFS('Service Log'!$O$5:$O$104,'Service Log'!$E$5:$E$104,$A15,'Service Log'!$Q$5:$Q$104,"Check delay"))/(COUNTIFS('Service Log'!$E$5:$E$104,$A15,'Service Log'!$Q$5:$Q$104,"Met")+COUNTIFS('Service Log'!$E$5:$E$104,$A15,'Service Log'!$Q$5:$Q$104,"Check delay")),"") | E15: =COUNTIFS('Service Log'!$E$5:$E$104,$A15,'Service Log'!$Q$5:$Q$104,"Met") | F15: =IFERROR($E15/(COUNTIFS('Service Log'!$E$5:$E$104,$A15,'Service Log'!$Q$5:$Q$104,"Met")+COUNTIFS('Service Log'!$E$5:$E$104,$A15,'Service Log'!$Q$5:$Q$104,"Check delay")),"")
A16: Low | B16: =IFERROR(VLOOKUP($A16,Assumptions!$A$5:$B$8,2,FALSE),"") | C16: =COUNTIFS('Service Log'!$E$5:$E$104,$A16,'Service Log'!$A$5:$A$104,"<>") | D16: =IFERROR((SUMIFS('Service Log'!$O$5:$O$104,'Service Log'!$E$5:$E$104,$A16,'Service Log'!$Q$5:$Q$104,"Met")+SUMIFS('Service Log'!$O$5:$O$104,'Service Log'!$E$5:$E$104,$A16,'Service Log'!$Q$5:$Q$104,"Check delay"))/(COUNTIFS('Service Log'!$E$5:$E$104,$A16,'Service Log'!$Q$5:$Q$104,"Met")+COUNTIFS('Service Log'!$E$5:$E$104,$A16,'Service Log'!$Q$5:$Q$104,"Check delay")),"") | E16: =COUNTIFS('Service Log'!$E$5:$E$104,$A16,'Service Log'!$Q$5:$Q$104,"Met") | F16: =IFERROR($E16/(COUNTIFS('Service Log'!$E$5:$E$104,$A16,'Service Log'!$Q$5:$Q$104,"Met")+COUNTIFS('Service Log'!$E$5:$E$104,$A16,'Service Log'!$Q$5:$Q$104,"Check delay")),"")
A19: Response by technician
A20: Technician | B20: Assigned | C20: Valid Measures | D20: Avg. Response (min) | E20: Met Rate
A21: Avery Example | B21: =COUNTIF('Service Log'!$D$5:$D$104,$A21) | C21: =COUNTIFS('Service Log'!$D$5:$D$104,$A21,'Service Log'!$Q$5:$Q$104,"Met")+COUNTIFS('Service Log'!$D$5:$D$104,$A21,'Service Log'!$Q$5:$Q$104,"Check delay") | D21: =IFERROR((SUMIFS('Service Log'!$O$5:$O$104,'Service Log'!$D$5:$D$104,$A21,'Service Log'!$Q$5:$Q$104,"Met")+SUMIFS('Service Log'!$O$5:$O$104,'Service Log'!$D$5:$D$104,$A21,'Service Log'!$Q$5:$Q$104,"Check delay"))/$C21,"") | E21: =IFERROR(COUNTIFS('Service Log'!$D$5:$D$104,$A21,'Service Log'!$Q$5:$Q$104,"Met")/$C21,"")
A22: Jordan Sample | B22: =COUNTIF('Service Log'!$D$5:$D$104,$A22) | C22: =COUNTIFS('Service Log'!$D$5:$D$104,$A22,'Service Log'!$Q$5:$Q$104,"Met")+COUNTIFS('Service Log'!$D$5:$D$104,$A22,'Service Log'!$Q$5:$Q$104,"Check delay") | D22: =IFERROR((SUMIFS('Service Log'!$O$5:$O$104,'Service Log'!$D$5:$D$104,$A22,'Service Log'!$Q$5:$Q$104,"Met")+SUMIFS('Service Log'!$O$5:$O$104,'Service Log'!$D$5:$D$104,$A22,'Service Log'!$Q$5:$Q$104,"Check delay"))/$C22,"") | E22: =IFERROR(COUNTIFS('Service Log'!$D$5:$D$104,$A22,'Service Log'!$Q$5:$Q$104,"Met")/$C22,"")
A23: Riley Demo | B23: =COUNTIF('Service Log'!$D$5:$D$104,$A23) | C23: =COUNTIFS('Service Log'!$D$5:$D$104,$A23,'Service Log'!$Q$5:$Q$104,"Met")+COUNTIFS('Service Log'!$D$5:$D$104,$A23,'Service Log'!$Q$5:$Q$104,"Check delay") | D23: =IFERROR((SUMIFS('Service Log'!$O$5:$O$104,'Service Log'!$D$5:$D$104,$A23,'Service Log'!$Q$5:$Q$104,"Met")+SUMIFS('Service Log'!$O$5:$O$104,'Service Log'!$D$5:$D$104,$A23,'Service Log'!$Q$5:$Q$104,"Check delay"))/$C23,"") | E23: =IFERROR(COUNTIFS('Service Log'!$D$5:$D$104,$A23,'Service Log'!$Q$5:$Q$104,"Met")/$C23,"")
A24: Morgan Test | B24: =COUNTIF('Service Log'!$D$5:$D$104,$A24) | C24: =COUNTIFS('Service Log'!$D$5:$D$104,$A24,'Service Log'!$Q$5:$Q$104,"Met")+COUNTIFS('Service Log'!$D$5:$D$104,$A24,'Service Log'!$Q$5:$Q$104,"Check delay") | D24: =IFERROR((SUMIFS('Service Log'!$O$5:$O$104,'Service Log'!$D$5:$D$104,$A24,'Service Log'!$Q$5:$Q$104,"Met")+SUMIFS('Service Log'!$O$5:$O$104,'Service Log'!$D$5:$D$104,$A24,'Service Log'!$Q$5:$Q$104,"Check delay"))/$C24,"") | E24: =IFERROR(COUNTIFS('Service Log'!$D$5:$D$104,$A24,'Service Log'!$Q$5:$Q$104,"Met")/$C24,"")
A25: Casey Placeholder | B25: =COUNTIF('Service Log'!$D$5:$D$104,$A25) | C25: =COUNTIFS('Service Log'!$D$5:$D$104,$A25,'Service Log'!$Q$5:$Q$104,"Met")+COUNTIFS('Service Log'!$D$5:$D$104,$A25,'Service Log'!$Q$5:$Q$104,"Check delay") | D25: =IFERROR((SUMIFS('Service Log'!$O$5:$O$104,'Service Log'!$D$5:$D$104,$A25,'Service Log'!$Q$5:$Q$104,"Met")+SUMIFS('Service Log'!$O$5:$O$104,'Service Log'!$D$5:$D$104,$A25,'Service Log'!$Q$5:$Q$104,"Check delay"))/$C25,"") | E25: =IFERROR(COUNTIFS('Service Log'!$D$5:$D$104,$A25,'Service Log'!$Q$5:$Q$104,"Met")/$C25,"")
A26: Taylor Fiction | B26: =COUNTIF('Service Log'!$D$5:$D$104,$A26) | C26: =COUNTIFS('Service Log'!$D$5:$D$104,$A26,'Service Log'!$Q$5:$Q$104,"Met")+COUNTIFS('Service Log'!$D$5:$D$104,$A26,'Service Log'!$Q$5:$Q$104,"Check delay") | D26: =IFERROR((SUMIFS('Service Log'!$O$5:$O$104,'Service Log'!$D$5:$D$104,$A26,'Service Log'!$Q$5:$Q$104,"Met")+SUMIFS('Service Log'!$O$5:$O$104,'Service Log'!$D$5:$D$104,$A26,'Service Log'!$Q$5:$Q$104,"Check delay"))/$C26,"") | E26: =IFERROR(COUNTIFS('Service Log'!$D$5:$D$104,$A26,'Service Log'!$Q$5:$Q$104,"Met")/$C26,"")

Sheet Service Log
A1: Service Response Log
A2: Enter one fictional or actual service request per row. Orange cells are editable; calculated timing fields extend through row 104.
A4: Job ID | B4: Customer | C4: Equipment | D4: Technician | E4: Priority | F4: Requested At | G4: Dispatched At | H4: Arrival At | I4: Completed At | J4: Description | K4: Current Responsibility | L4: Status | M4: Target Response (min) | N4: Dispatch Delay (min) | O4: Response Time (min) | P4: Completion Time (hrs) | Q4: Response Check
A5: DEMO-26-001 | B5: Bluebird Example Bakery | C5: Demo Rooftop Unit | D5: Avery Example | E5: Urgent | F5: 46267.312 | G5: 46267.318 | H5: 46267.337 | I5: 46267.431 | J5: No cooling reported in the fictional prep area. | K5: Technician | L5: Completed | M5: =IF($A5="","",IFERROR(VLOOKUP($E5,Assumptions!$A$5:$B$8,2,FALSE),"")) | N5: =IF(OR($A5="",$F5="",$G5=""),"",IF($G5<$F5,"",ROUND(($G5-$F5)*1440,1))) | O5: =IF(OR($A5="",$F5="",$H5=""),"",IF(OR($H5<$F5,AND($G5<>"",$H5<$G5)),"",ROUND(($H5-$F5)*1440,1))) | P5: =IF(OR($A5="",$F5="",$I5=""),"",IF(OR($I5<$F5,AND($H5<>"",$I5<$H5),AND($G5<>"",$I5<$G5)),"",ROUND(($I5-$F5)*24,2))) | Q5: =IF($A5="","",IF($L5="Canceled","Excluded",IF($F5="","Enter request time",IF(OR(AND($G5<>"",$G5<$F5),AND($H5<>"",$H5<$F5),AND($G5<>"",$H5<>"",$H5<$G5),AND($I5<>"",$I5<$F5),AND($H5<>"",$I5<>"",$I5<$H5),AND($G5<>"",$I5<>"",$I5<$G5)),"Review timestamps",IF($O5="","Awaiting arrival",IF($M5="","Set priority target",IF($O5<=$M5,"Met","Check delay")))))))
A6: DEMO-26-002 | B6: Northstar Demo Offices | C6: Example Split System | D6: Jordan Sample | E6: High | F6: 46268.382 | G6: 46268.399 | H6: 46268.476 | I6: 46268.545 | J6: Example office zone was warmer than the entered setpoint. | K6: Technician | L6: Completed | M6: =IF($A6="","",IFERROR(VLOOKUP($E6,Assumptions!$A$5:$B$8,2,FALSE),"")) | N6: =IF(OR($A6="",$F6="",$G6=""),"",IF($G6<$F6,"",ROUND(($G6-$F6)*1440,1))) | O6: =IF(OR($A6="",$F6="",$H6=""),"",IF(OR($H6<$F6,AND($G6<>"",$H6<$G6)),"",ROUND(($H6-$F6)*1440,1))) | P6: =IF(OR($A6="",$F6="",$I6=""),"",IF(OR($I6<$F6,AND($H6<>"",$I6<$H6),AND($G6<>"",$I6<$G6)),"",ROUND(($I6-$F6)*24,2))) | Q6: =IF($A6="","",IF($L6="Canceled","Excluded",IF($F6="","Enter request time",IF(OR(AND($G6<>"",$G6<$F6),AND($H6<>"",$H6<$F6),AND($G6<>"",$H6<>"",$H6<$G6),AND($I6<>"",$I6<$F6),AND($H6<>"",$I6<>"",$I6<$H6),AND($G6<>"",$I6<>"",$I6<$G6)),"Review timestamps",IF($O6="","Awaiting arrival",IF($M6="","Set priority target",IF($O6<=$M6,"Met","Check delay")))))))
A7: DEMO-26-003 | B7: Copper Kite Fictional Cafe | C7: Sample Heat Pump | D7: Riley Demo | E7: Normal | F7: 46269.333 | G7: 46269.375 | H7: 46269.5 | I7: 46269.583 | J7: Sample heat pump required a basic operating check. | K7: Technician | L7: Completed | M7: =IF($A7="","",IFERROR(VLOOKUP($E7,Assumptions!$A$5:$B$8,2,FALSE),"")) | N7: =IF(OR($A7="",$F7="",$G7=""),"",IF($G7<$F7,"",ROUND(($G7-$F7)*1440,1))) | O7: =IF(OR($A7="",$F7="",$H7=""),"",IF(OR($H7<$F7,AND($G7<>"",$H7<$G7)),"",ROUND(($H7-$F7)*1440,1))) | P7: =IF(OR($A7="",$F7="",$I7=""),"",IF(OR($I7<$F7,AND($H7<>"",$I7<$H7),AND($G7<>"",$I7<$G7)),"",ROUND(($I7-$F7)*24,2))) | Q7: =IF($A7="","",IF($L7="Canceled","Excluded",IF($F7="","Enter request time",IF(OR(AND($G7<>"",$G7<$F7),AND($H7<>"",$H7<$F7),AND($G7<>"",$H7<>"",$H7<$G7),AND($I7<>"",$I7<$F7),AND($H7<>"",$I7<>"",$I7<$H7),AND($G7<>"",$I7<>"",$I7<$G7)),"Review timestamps",IF($O7="","Awaiting arrival",IF($M7="","Set priority target",IF($O7<=$M7,"Met","Check delay")))))))
A8: DEMO-26-004 | B8: Juniper Test Studio | C8: Fictional Boiler | D8: Morgan Test | E8: Low | F8: 46270.417 | G8: 46270.5 | H8: 46270.733 | I8: 46270.764 | J8: Fictional studio requested a low-priority noise review. | K8: Technician | L8: Completed | M8: =IF($A8="","",IFERROR(VLOOKUP($E8,Assumptions!$A$5:$B$8,2,FALSE),"")) | N8: =IF(OR($A8="",$F8="",$G8=""),"",IF($G8<$F8,"",ROUND(($G8-$F8)*1440,1))) | O8: =IF(OR($A8="",$F8="",$H8=""),"",IF(OR($H8<$F8,AND($G8<>"",$H8<$G8)),"",ROUND(($H8-$F8)*1440,1))) | P8: =IF(OR($A8="",$F8="",$I8=""),"",IF(OR($I8<$F8,AND($H8<>"",$I8<$H8),AND($G8<>"",$I8<$G8)),"",ROUND(($I8-$F8)*24,2))) | Q8: =IF($A8="","",IF($L8="Canceled","Excluded",IF($F8="","Enter request time",IF(OR(AND($G8<>"",$G8<$F8),AND($H8<>"",$H8<$F8),AND($G8<>"",$H8<>"",$H8<$G8),AND($I8<>"",$I8<$F8),AND($H8<>"",$I8<>"",$I8<$H8),AND($G8<>"",$I8<>"",$I8<$G8)),"Review timestamps",IF($O8="","Awaiting arrival",IF($M8="","Set priority target",IF($O8<=$M8,"Met","Check delay")))))))
A9: DEMO-26-005 | B9: Maple Lantern Sample Market | C9: Test Air Handler | D9: Avery Example | E9: Urgent | F9: 46271.542 | G9: 46271.549 | H9: 46271.594 | J9: Sample air handler stopped during the entered service period. | K9: Technician | L9: On Site | M9: =IF($A9="","",IFERROR(VLOOKUP($E9,Assumptions!$A$5:$B$8,2,FALSE),"")) | N9: =IF(OR($A9="",$F9="",$G9=""),"",IF($G9<$F9,"",ROUND(($G9-$F9)*1440,1))) | O9: =IF(OR($A9="",$F9="",$H9=""),"",IF(OR($H9<$F9,AND($G9<>"",$H9<$G9)),"",ROUND(($H9-$F9)*1440,1))) | P9: =IF(OR($A9="",$F9="",$I9=""),"",IF(OR($I9<$F9,AND($H9<>"",$I9<$H9),AND($G9<>"",$I9<$G9)),"",ROUND(($I9-$F9)*24,2))) | Q9: =IF($A9="","",IF($L9="Canceled","Excluded",IF($F9="","Enter request time",IF(OR(AND($G9<>"",$G9<$F9),AND($H9<>"",$H9<$F9),AND($G9<>"",$H9<>"",$H9<$G9),AND($I9<>"",$I9<$F9),AND($H9<>"",$I9<>"",$I9<$H9),AND($G9<>"",$I9<>"",$I9<$G9)),"Review timestamps",IF($O9="","Awaiting arrival",IF($M9="","Set priority target",IF($O9<=$M9,"Met","Check delay")))))))
A10: DEMO-26-006 | B10: Silver Acorn Demo Clinic | C10: Placeholder Mini-Split | D10: Casey Placeholder | E10: High | F10: 46272.344 | G10: 46272.361 | J10: Demo treatment room temperature complaint awaits arrival. | K10: Office | L10: Dispatched | M10: =IF($A10="","",IFERROR(VLOOKUP($E10,Assumptions!$A$5:$B$8,2,FALSE),"")) | N10: =IF(OR($A10="",$F10="",$G10=""),"",IF($G10<$F10,"",ROUND(($G10-$F10)*1440,1))) | O10: =IF(OR($A10="",$F10="",$H10=""),"",IF(OR($H10<$F10,AND($G10<>"",$H10<$G10)),"",ROUND(($H10-$F10)*1440,1))) | P10: =IF(OR($A10="",$F10="",$I10=""),"",IF(OR($I10<$F10,AND($H10<>"",$I10<$H10),AND($G10<>"",$I10<$G10)),"",ROUND(($I10-$F10)*24,2))) | Q10: =IF($A10="","",IF($L10="Canceled","Excluded",IF($F10="","Enter request time",IF(OR(AND($G10<>"",$G10<$F10),AND($H10<>"",$H10<$F10),AND($G10<>"",$H10<>"",$H10<$G10),AND($I10<>"",$I10<$F10),AND($H10<>"",$I10<>"",$I10<$H10),AND($G10<>"",$I10<>"",$I10<$G10)),"Review timestamps",IF($O10="","Awaiting arrival",IF($M10="","Set priority target",IF($O10<=$M10,"Met","Check delay")))))))
A11: DEMO-26-007 | B11: Sunset Example School | C11: Demo Rooftop Unit | D11: Taylor Fiction | E11: Normal | F11: 46273.681 | J11: Example classroom comfort request awaits dispatch. | K11: Office | L11: New | M11: =IF($A11="","",IFERROR(VLOOKUP($E11,Assumptions!$A$5:$B$8,2,FALSE),"")) | N11: =IF(OR($A11="",$F11="",$G11=""),"",IF($G11<$F11,"",ROUND(($G11-$F11)*1440,1))) | O11: =IF(OR($A11="",$F11="",$H11=""),"",IF(OR($H11<$F11,AND($G11<>"",$H11<$G11)),"",ROUND(($H11-$F11)*1440,1))) | P11: =IF(OR($A11="",$F11="",$I11=""),"",IF(OR($I11<$F11,AND($H11<>"",$I11<$H11),AND($G11<>"",$I11<$G11)),"",ROUND(($I11-$F11)*24,2))) | Q11: =IF($A11="","",IF($L11="Canceled","Excluded",IF($F11="","Enter request time",IF(OR(AND($G11<>"",$G11<$F11),AND($H11<>"",$H11<$F11),AND($G11<>"",$H11<>"",$H11<$G11),AND($I11<>"",$I11<$F11),AND($H11<>"",$I11<>"",$I11<$H11),AND($G11<>"",$I11<>"",$I11<$G11)),"Review timestamps",IF($O11="","Awaiting arrival",IF($M11="","Set priority target",IF($O11<=$M11,"Met","Check delay")))))))
A12: DEMO-26-008 | B12: Harbor Fiction Workshop | C12: Example Split System | D12: Jordan Sample | E12: Low | F12: 46274.458 | J12: Fictional customer canceled before dispatch. | K12: Customer | L12: Canceled | M12: =IF($A12="","",IFERROR(VLOOKUP($E12,Assumptions!$A$5:$B$8,2,FALSE),"")) | N12: =IF(OR($A12="",$F12="",$G12=""),"",IF($G12<$F12,"",ROUND(($G12-$F12)*1440,1))) | O12: =IF(OR($A12="",$F12="",$H12=""),"",IF(OR($H12<$F12,AND($G12<>"",$H12<$G12)),"",ROUND(($H12-$F12)*1440,1))) | P12: =IF(OR($A12="",$F12="",$I12=""),"",IF(OR($I12<$F12,AND($H12<>"",$I12<$H12),AND($G12<>"",$I12<$G12)),"",ROUND(($I12-$F12)*24,2))) | Q12: =IF($A12="","",IF($L12="Canceled","Excluded",IF($F12="","Enter request time",IF(OR(AND($G12<>"",$G12<$F12),AND($H12<>"",$H12<$F12),AND($G12<>"",$H12<>"",$H12<$G12),AND($I12<>"",$I12<$F12),AND($H12<>"",$I12<>"",$I12<$H12),AND($G12<>"",$I12<>"",$I12<$G12)),"Review timestamps",IF($O12="","Awaiting arrival",IF($M12="","Set priority target",IF($O12<=$M12,"Met","Check delay")))))))
A13: DEMO-26-009 | B13: Cedar Pixel Demo Shop | C13: Sample Heat Pump | D13: Riley Demo | E13: Urgent | F13: 46275.281 | G13: 46275.292 | H13: 46275.323 | I13: 46275.378 | J13: Boundary example reaches the response target exactly. | K13: Technician | L13: Completed | M13: =IF($A13="","",IFERROR(VLOOKUP($E13,Assumptions!$A$5:$B$8,2,FALSE),"")) | N13: =IF(OR($A13="",$F13="",$G13=""),"",IF($G13<$F13,"",ROUND(($G13-$F13)*1440,1))) | O13: =IF(OR($A13="",$F13="",$H13=""),"",IF(OR($H13<$F13,AND($G13<>"",$H13<$G13)),"",ROUND(($H13-$F13)*1440,1))) | P13: =IF(OR($A13="",$F13="",$I13=""),"",IF(OR($I13<$F13,AND($H13<>"",$I13<$H13),AND($G13<>"",$I13<$G13)),"",ROUND(($I13-$F13)*24,2))) | Q13: =IF($A13="","",IF($L13="Canceled","Excluded",IF($F13="","Enter request time",IF(OR(AND($G13<>"",$G13<$F13),AND($H13<>"",$H13<$F13),AND($G13<>"",$H13<>"",$H13<$G13),AND($I13<>"",$I13<$F13),AND($H13<>"",$I13<>"",$I13<$H13),AND($G13<>"",$I13<>"",$I13<$G13)),"Review timestamps",IF($O13="","Awaiting arrival",IF($M13="","Set priority target",IF($O13<=$M13,"Met","Check delay")))))))
A14: DEMO-26-010 | B14: Moonbeam Sample Library | C14: Test Air Handler | D14: Morgan Test | E14: Normal | F14: 46276.583 | G14: 46276.594 | H14: 46276.632 | I14: 46276.622 | J14: Test entry includes a completion timestamp needing review. | K14: Technician | L14: Completed | M14: =IF($A14="","",IFERROR(VLOOKUP($E14,Assumptions!$A$5:$B$8,2,FALSE),"")) | N14: =IF(OR($A14="",$F14="",$G14=""),"",IF($G14<$F14,"",ROUND(($G14-$F14)*1440,1))) | O14: =IF(OR($A14="",$F14="",$H14=""),"",IF(OR($H14<$F14,AND($G14<>"",$H14<$G14)),"",ROUND(($H14-$F14)*1440,1))) | P14: =IF(OR($A14="",$F14="",$I14=""),"",IF(OR($I14<$F14,AND($H14<>"",$I14<$H14),AND($G14<>"",$I14<$G14)),"",ROUND(($I14-$F14)*24,2))) | Q14: =IF($A14="","",IF($L14="Canceled","Excluded",IF($F14="","Enter request time",IF(OR(AND($G14<>"",$G14<$F14),AND($H14<>"",$H14<$F14),AND($G14<>"",$H14<>"",$H14<$G14),AND($I14<>"",$I14<$F14),AND($H14<>"",$I14<>"",$I14<$H14),AND($G14<>"",$I14<>"",$I14<$G14)),"Review timestamps",IF($O14="","Awaiting arrival",IF($M14="","Set priority target",IF($O14<=$M14,"Met","Check delay")))))))
M15: =IF($A15="","",IFERROR(VLOOKUP($E15,Assumptions!$A$5:$B$8,2,FALSE),"")) | N15: =IF(OR($A15="",$F15="",$G15=""),"",IF($G15<$F15,"",ROUND(($G15-$F15)*1440,1))) | O15: =IF(OR($A15="",$F15="",$H15=""),"",IF(OR($H15<$F15,AND($G15<>"",$H15<$G15)),"",ROUND(($H15-$F15)*1440,1))) | P15: =IF(OR($A15="",$F15="",$I15=""),"",IF(OR($I15<$F15,AND($H15<>"",$I15<$H15),AND($G15<>"",$I15<$G15)),"",ROUND(($I15-$F15)*24,2))) | Q15: =IF($A15="","",IF($L15="Canceled","Excluded",IF($F15="","Enter request time",IF(OR(AND($G15<>"",$G15<$F15),AND($H15<>"",$H15<$F15),AND($G15<>"",$H15<>"",$H15<$G15),AND($I15<>"",$I15<$F15),AND($H15<>"",$I15<>"",$I15<$H15),AND($G15<>"",$I15<>"",$I15<$G15)),"Review timestamps",IF($O15="","Awaiting arrival",IF($M15="","Set priority target",IF($O15<=$M15,"Met","Check delay")))))))
M16: =IF($A16="","",IFERROR(VLOOKUP($E16,Assumptions!$A$5:$B$8,2,FALSE),"")) | N16: =IF(OR($A16="",$F16="",$G16=""),"",IF($G16<$F16,"",ROUND(($G16-$F16)*1440,1))) | O16: =IF(OR($A16="",$F16="",$H16=""),"",IF(OR($H16<$F16,AND($G16<>"",$H16<$G16)),"",ROUND(($H16-$F16)*1440,1))) | P16: =IF(OR($A16="",$F16="",$I16=""),"",IF(OR($I16<$F16,AND($H16<>"",$I16<$H16),AND($G16<>"",$I16<$G16)),"",ROUND(($I16-$F16)*24,2))) | Q16: =IF($A16="","",IF($L16="Canceled","Excluded",IF($F16="","Enter request time",IF(OR(AND($G16<>"",$G16<$F16),AND($H16<>"",$H16<$F16),AND($G16<>"",$H16<>"",$H16<$G16),AND($I16<>"",$I16<$F16),AND($H16<>"",$I16<>"",$I16<$H16),AND($G16<>"",$I16<>"",$I16<$G16)),"Review timestamps",IF($O16="","Awaiting arrival",IF($M16="","Set priority target",IF($O16<=$M16,"Met","Check delay")))))))
M17: =IF($A17="","",IFERROR(VLOOKUP($E17,Assumptions!$A$5:$B$8,2,FALSE),"")) | N17: =IF(OR($A17="",$F17="",$G17=""),"",IF($G17<$F17,"",ROUND(($G17-$F17)*1440,1))) | O17: =IF(OR($A17="",$F17="",$H17=""),"",IF(OR($H17<$F17,AND($G17<>"",$H17<$G17)),"",ROUND(($H17-$F17)*1440,1))) | P17: =IF(OR($A17="",$F17="",$I17=""),"",IF(OR($I17<$F17,AND($H17<>"",$I17<$H17),AND($G17<>"",$I17<$G17)),"",ROUND(($I17-$F17)*24,2))) | Q17: =IF($A17="","",IF($L17="Canceled","Excluded",IF($F17="","Enter request time",IF(OR(AND($G17<>"",$G17<$F17),AND($H17<>"",$H17<$F17),AND($G17<>"",$H17<>"",$H17<$G17),AND($I17<>"",$I17<$F17),AND($H17<>"",$I17<>"",$I17<$H17),AND($G17<>"",$I17<>"",$I17<$G17)),"Review timestamps",IF($O17="","Awaiting arrival",IF($M17="","Set priority target",IF($O17<=$M17,"Met","Check delay")))))))
M18: =IF($A18="","",IFERROR(VLOOKUP($E18,Assumptions!$A$5:$B$8,2,FALSE),"")) | N18: =IF(OR($A18="",$F18="",$G18=""),"",IF($G18<$F18,"",ROUND(($G18-$F18)*1440,1))) | O18: =IF(OR($A18="",$F18="",$H18=""),"",IF(OR($H18<$F18,AND($G18<>"",$H18<$G18)),"",ROUND(($H18-$F18)*1440,1))) | P18: =IF(OR($A18="",$F18="",$I18=""),"",IF(OR($I18<$F18,AND($H18<>"",$I18<$H18),AND($G18<>"",$I18<$G18)),"",ROUND(($I18-$F18)*24,2))) | Q18: =IF($A18="","",IF($L18="Canceled","Excluded",IF($F18="","Enter request time",IF(OR(AND($G18<>"",$G18<$F18),AND($H18<>"",$H18<$F18),AND($G18<>"",$H18<>"",$H18<$G18),AND($I18<>"",$I18<$F18),AND($H18<>"",$I18<>"",$I18<$H18),AND($G18<>"",$I18<>"",$I18<$G18)),"Review timestamps",IF($O18="","Awaiting arrival",IF($M18="","Set priority target",IF($O18<=$M18,"Met","Check delay")))))))
M19: =IF($A19="","",IFERROR(VLOOKUP($E19,Assumptions!$A$5:$B$8,2,FALSE),"")) | N19: =IF(OR($A19="",$F19="",$G19=""),"",IF($G19<$F19,"",ROUND(($G19-$F19)*1440,1))) | O19: =IF(OR($A19="",$F19="",$H19=""),"",IF(OR($H19<$F19,AND($G19<>"",$H19<$G19)),"",ROUND(($H19-$F19)*1440,1))) | P19: =IF(OR($A19="",$F19="",$I19=""),"",IF(OR($I19<$F19,AND($H19<>"",$I19<$H19),AND($G19<>"",$I19<$G19)),"",ROUND(($I19-$F19)*24,2))) | Q19: =IF($A19="","",IF($L19="Canceled","Excluded",IF($F19="","Enter request time",IF(OR(AND($G19<>"",$G19<$F19),AND($H19<>"",$H19<$F19),AND($G19<>"",$H19<>"",$H19<$G19),AND($I19<>"",$I19<$F19),AND($H19<>"",$I19<>"",$I19<$H19),AND($G19<>"",$I19<>"",$I19<$G19)),"Review timestamps",IF($O19="","Awaiting arrival",IF($M19="","Set priority target",IF($O19<=$M19,"Met","Check delay")))))))
M20: =IF($A20="","",IFERROR(VLOOKUP($E20,Assumptions!$A$5:$B$8,2,FALSE),"")) | N20: =IF(OR($A20="",$F20="",$G20=""),"",IF($G20<$F20,"",ROUND(($G20-$F20)*1440,1))) | O20: =IF(OR($A20="",$F20="",$H20=""),"",IF(OR($H20<$F20,AND($G20<>"",$H20<$G20)),"",ROUND(($H20-$F20)*1440,1))) | P20: =IF(OR($A20="",$F20="",$I20=""),"",IF(OR($I20<$F20,AND($H20<>"",$I20<$H20),AND($G20<>"",$I20<$G20)),"",ROUND(($I20-$F20)*24,2))) | Q20: =IF($A20="","",IF($L20="Canceled","Excluded",IF($F20="","Enter request time",IF(OR(AND($G20<>"",$G20<$F20),AND($H20<>"",$H20<$F20),AND($G20<>"",$H20<>"",$H20<$G20),AND($I20<>"",$I20<$F20),AND($H20<>"",$I20<>"",$I20<$H20),AND($G20<>"",$I20<>"",$I20<$G20)),"Review timestamps",IF($O20="","Awaiting arrival",IF($M20="","Set priority target",IF($O20<=$M20,"Met","Check delay")))))))
M21: =IF($A21="","",IFERROR(VLOOKUP($E21,Assumptions!$A$5:$B$8,2,FALSE),"")) | N21: =IF(OR($A21="",$F21="",$G21=""),"",IF($G21<$F21,"",ROUND(($G21-$F21)*1440,1))) | O21: =IF(OR($A21="",$F21="",$H21=""),"",IF(OR($H21<$F21,AND($G21<>"",$H21<$G21)),"",ROUND(($H21-$F21)*1440,1))) | P21: =IF(OR($A21="",$F21="",$I21=""),"",IF(OR($I21<$F21,AND($H21<>"",$I21<$H21),AND($G21<>"",$I21<$G21)),"",ROUND(($I21-$F21)*24,2))) | Q21: =IF($A21="","",IF($L21="Canceled","Excluded",IF($F21="","Enter request time",IF(OR(AND($G21<>"",$G21<$F21),AND($H21<>"",$H21<$F21),AND($G21<>"",$H21<>"",$H21<$G21),AND($I21<>"",$I21<$F21),AND($H21<>"",$I21<>"",$I21<$H21),AND($G21<>"",$I21<>"",$I21<$G21)),"Review timestamps",IF($O21="","Awaiting arrival",IF($M21="","Set priority target",IF($O21<=$M21,"Met","Check delay")))))))
M22: =IF($A22="","",IFERROR(VLOOKUP($E22,Assumptions!$A$5:$B$8,2,FALSE),"")) | N22: =IF(OR($A22="",$F22="",$G22=""),"",IF($G22<$F22,"",ROUND(($G22-$F22)*1440,1))) | O22: =IF(OR($A22="",$F22="",$H22=""),"",IF(OR($H22<$F22,AND($G22<>"",$H22<$G22)),"",ROUND(($H22-$F22)*1440,1))) | P22: =IF(OR($A22="",$F22="",$I22=""),"",IF(OR($I22<$F22,AND($H22<>"",$I22<$H22),AND($G22<>"",$I22<$G22)),"",ROUND(($I22-$F22)*24,2))) | Q22: =IF($A22="","",IF($L22="Canceled","Excluded",IF($F22="","Enter request time",IF(OR(AND($G22<>"",$G22<$F22),AND($H22<>"",$H22<$F22),AND($G22<>"",$H22<>"",$H22<$G22),AND($I22<>"",$I22<$F22),AND($H22<>"",$I22<>"",$I22<$H22),AND($G22<>"",$I22<>"",$I22<$G22)),"Review timestamps",IF($O22="","Awaiting arrival",IF($M22="","Set priority target",IF($O22<=$M22,"Met","Check delay")))))))
M23: =IF($A23="","",IFERROR(VLOOKUP($E23,Assumptions!$A$5:$B$8,2,FALSE),"")) | N23: =IF(OR($A23="",$F23="",$G23=""),"",IF($G23<$F23,"",ROUND(($G23-$F23)*1440,1))) | O23: =IF(OR($A23="",$F23="",$H23=""),"",IF(OR($H23<$F23,AND($G23<>"",$H23<$G23)),"",ROUND(($H23-$F23)*1440,1))) | P23: =IF(OR($A23="",$F23="",$I23=""),"",IF(OR($I23<$F23,AND($H23<>"",$I23<$H23),AND($G23<>"",$I23<$G23)),"",ROUND(($I23-$F23)*24,2))) | Q23: =IF($A23="","",IF($L23="Canceled","Excluded",IF($F23="","Enter request time",IF(OR(AND($G23<>"",$G23<$F23),AND($H23<>"",$H23<$F23),AND($G23<>"",$H23<>"",$H23<$G23),AND($I23<>"",$I23<$F23),AND($H23<>"",$I23<>"",$I23<$H23),AND($G23<>"",$I23<>"",$I23<$G23)),"Review timestamps",IF($O23="","Awaiting arrival",IF($M23="","Set priority target",IF($O23<=$M23,"Met","Check delay")))))))
M24: =IF($A24="","",IFERROR(VLOOKUP($E24,Assumptions!$A$5:$B$8,2,FALSE),"")) | N24: =IF(OR($A24="",$F24="",$G24=""),"",IF($G24<$F24,"",ROUND(($G24-$F24)*1440,1))) | O24: =IF(OR($A24="",$F24="",$H24=""),"",IF(OR($H24<$F24,AND($G24<>"",$H24<$G24)),"",ROUND(($H24-$F24)*1440,1))) | P24: =IF(OR($A24="",$F24="",$I24=""),"",IF(OR($I24<$F24,AND($H24<>"",$I24<$H24),AND($G24<>"",$I24<$G24)),"",ROUND(($I24-$F24)*24,2))) | Q24: =IF($A24="","",IF($L24="Canceled","Excluded",IF($F24="","Enter request time",IF(OR(AND($G24<>"",$G24<$F24),AND($H24<>"",$H24<$F24),AND($G24<>"",$H24<>"",$H24<$G24),AND($I24<>"",$I24<$F24),AND($H24<>"",$I24<>"",$I24<$H24),AND($G24<>"",$I24<>"",$I24<$G24)),"Review timestamps",IF($O24="","Awaiting arrival",IF($M24="","Set priority target",IF($O24<=$M24,"Met","Check delay")))))))
M25: =IF($A25="","",IFERROR(VLOOKUP($E25,Assumptions!$A$5:$B$8,2,FALSE),"")) | N25: =IF(OR($A25="",$F25="",$G25=""),"",IF($G25<$F25,"",ROUND(($G25-$F25)*1440,1))) | O25: =IF(OR($A25="",$F25="",$H25=""),"",IF(OR($H25<$F25,AND($G25<>"",$H25<$G25)),"",ROUND(($H25-$F25)*1440,1))) | P25: =IF(OR($A25="",$F25="",$I25=""),"",IF(OR($I25<$F25,AND($H25<>"",$I25<$H25),AND($G25<>"",$I25<$G25)),"",ROUND(($I25-$F25)*24,2))) | Q25: =IF($A25="","",IF($L25="Canceled","Excluded",IF($F25="","Enter request time",IF(OR(AND($G25<>"",$G25<$F25),AND($H25<>"",$H25<$F25),AND($G25<>"",$H25<>"",$H25<$G25),AND($I25<>"",$I25<$F25),AND($H25<>"",$I25<>"",$I25<$H25),AND($G25<>"",$I25<>"",$I25<$G25)),"Review timestamps",IF($O25="","Awaiting arrival",IF($M25="","Set priority target",IF($O25<=$M25,"Met","Check delay")))))))
M26: =IF($A26="","",IFERROR(VLOOKUP($E26,Assumptions!$A$5:$B$8,2,FALSE),"")) | N26: =IF(OR($A26="",$F26="",$G26=""),"",IF($G26<$F26,"",ROUND(($G26-$F26)*1440,1))) | O26: =IF(OR($A26="",$F26="",$H26=""),"",IF(OR($H26<$F26,AND($G26<>"",$H26<$G26)),"",ROUND(($H26-$F26)*1440,1))) | P26: =IF(OR($A26="",$F26="",$I26=""),"",IF(OR($I26<$F26,AND($H26<>"",$I26<$H26),AND($G26<>"",$I26<$G26)),"",ROUND(($I26-$F26)*24,2))) | Q26: =IF($A26="","",IF($L26="Canceled","Excluded",IF($F26="","Enter request time",IF(OR(AND($G26<>"",$G26<$F26),AND($H26<>"",$H26<$F26),AND($G26<>"",$H26<>"",$H26<$G26),AND($I26<>"",$I26<$F26),AND($H26<>"",$I26<>"",$I26<$H26),AND($G26<>"",$I26<>"",$I26<$G26)),"Review timestamps",IF($O26="","Awaiting arrival",IF($M26="","Set priority target",IF($O26<=$M26,"Met","Check delay")))))))
... M104: =IF($A104="","",IFERROR(VLOOKUP($E104,Assumptions!$A$5:$B$8,2,FALSE),"")) | N104: =IF(OR($A104="",$F104="",$G104=""),"",IF($G104<$F104,"",ROUND(($G104-$F104)*1440,1))) | O104: =IF(OR($A104="",$F104="",$H104=""),"",IF(OR($H104<$F104,AND($G104<>"",$H104<$G104)),"",ROUND(($H104-$F104)*1440,1))) | P104: =IF(OR($A104="",$F104="",$I104=""),"",IF(OR($I104<$F104,AND($H104<>"",$I104<$H104),AND($G104<>"",$I104<$G104)),"",ROUND(($I104-$F104)*24,2))) | Q104: =IF($A104="","",IF($L104="Canceled","Excluded",IF($F104="","Enter request time",IF(OR(AND($G104<>"",$G104<$F104),AND($H104<>"",$H104<$F104),AND($G104<>"",$H104<>"",$H104<$G104),AND($I104<>"",$I104<$F104),AND($H104<>"",$I104<>"",$I104<$H104),AND($G104<>"",$I104<>"",$I104<$G104)),"Review timestamps",IF($O104="","Awaiting arrival",IF($M104="","Set priority target",IF($O104<=$M104,"Met","Check delay")))))))

Sheet Assumptions
A1: Response Time Assumptions and Lists
A2: Orange cells are editable. Targets and lists are contractor assumptions, not guarantees. Review existing service entries after changing a list value.
A4: Priority | B4: Target Response (min) | D4: Technician | F4: Status | H4: Responsibility | J4: Equipment Choice
A5: Urgent | B5: 60 | D5: Avery Example | F5: New | H5: Office | J5: Demo Rooftop Unit
A6: High | B6: 120 | D6: Jordan Sample | F6: Dispatched | H6: Technician | J6: Example Split System
A7: Normal | B7: 240 | D7: Riley Demo | F7: On Site | H7: Customer | J7: Sample Heat Pump
A8: Low | B8: 480 | D8: Morgan Test | F8: Completed | H8: Parts | J8: Fictional Boiler
D9: Casey Placeholder | F9: Canceled | H9: Other | J9: Test Air Handler
D10: Taylor Fiction | J10: Placeholder Mini-Split
A12: Timestamp entry window
A13: Earliest timestamp | B13: 45658
A14: Latest timestamp | B14: 46752
A16: Date window check | B16: =IF(B13>B14,"Review date window","Ready")
