Workbook

Sheet Summary
A1: HVAC Repair Estimate Summary
A2: Fictional Airflow Services | All populated customer, job, equipment, employee, and estimate data is fictional.
A3: Estimate Context
A4: Customer | B4: =IF('Estimate Lines'!$B$4="","",'Estimate Lines'!$B$4) | D4: Job | E4: =IF('Estimate Lines'!$B$5="","",'Estimate Lines'!$B$5)
A5: Equipment | B5: =IF('Estimate Lines'!$B$6="","",'Estimate Lines'!$B$6) | D5: Technician | E5: =IF('Estimate Lines'!$E$4="","",'Estimate Lines'!$E$4)
A6: Estimate Date | B6: =IF('Estimate Lines'!$E$5="","",'Estimate Lines'!$E$5)
A8: Calculated Estimate Indicators
A9: Lines Entered | B9: =IF(COUNTIF('Estimate Lines'!$C$11:$C$110,"<>")=0,"",COUNTIF('Estimate Lines'!$C$11:$C$110,"<>")) | D9: Labor Hours | E9: =IF(COUNTIF('Estimate Lines'!$C$11:$C$110,"<>")=0,"",SUM('Estimate Lines'!$F$11:$F$110))
A10: Direct Cost | B10: =IF(COUNTIF('Estimate Lines'!$C$11:$C$110,"<>")=0,"",SUM('Estimate Lines'!$H$11:$H$110)) | D10: All Line Estimated Price | E10: =IF(COUNTIF('Estimate Lines'!$C$11:$C$110,"<>")=0,"",SUM('Estimate Lines'!$L$11:$L$110))
A11: Customer Approval Total (Proposed + Approved) | B11: =IF(COUNTIF('Estimate Lines'!$C$11:$C$110,"<>")=0,"",SUMIFS('Estimate Lines'!$L$11:$L$110,'Estimate Lines'!$M$11:$M$110,"Customer",'Estimate Lines'!$N$11:$N$110,"Proposed")+SUMIFS('Estimate Lines'!$L$11:$L$110,'Estimate Lines'!$M$11:$M$110,"Customer",'Estimate Lines'!$N$11:$N$110,"Approved")) | D11: Approved Customer Total | E11: =IF(COUNTIF('Estimate Lines'!$C$11:$C$110,"<>")=0,"",SUMIFS('Estimate Lines'!$L$11:$L$110,'Estimate Lines'!$M$11:$M$110,"Customer",'Estimate Lines'!$N$11:$N$110,"Approved"))
A12: Optional Customer Total | B12: =IF(COUNTIF('Estimate Lines'!$C$11:$C$110,"<>")=0,"",SUMIFS('Estimate Lines'!$L$11:$L$110,'Estimate Lines'!$M$11:$M$110,"Customer",'Estimate Lines'!$N$11:$N$110,"Optional")) | D12: Contractor Responsibility Total | E12: =IF(COUNTIF('Estimate Lines'!$C$11:$C$110,"<>")=0,"",SUMIFS('Estimate Lines'!$L$11:$L$110,'Estimate Lines'!$M$11:$M$110,"Contractor",'Estimate Lines'!$N$11:$N$110,"<>Declined"))
A13: Declined Price | B13: =IF(COUNTIF('Estimate Lines'!$C$11:$C$110,"<>")=0,"",SUMIF('Estimate Lines'!$N$11:$N$110,"Declined",'Estimate Lines'!$L$11:$L$110)) | D13: Incomplete Lines | E13: =IF(COUNTIF('Estimate Lines'!$C$11:$C$110,"<>")=0,"",SUMPRODUCT(--('Estimate Lines'!$C$11:$C$110<>""),--((('Estimate Lines'!$B$11:$B$110="")+('Estimate Lines'!$D$11:$D$110="")+('Estimate Lines'!$E$11:$E$110="")+('Estimate Lines'!$F$11:$F$110="")+('Estimate Lines'!$G$11:$G$110="")+('Estimate Lines'!$M$11:$M$110="")+('Estimate Lines'!$N$11:$N$110=""))>0)))
A14: Lines Above Review Threshold | B14: =IF(COUNTIF('Estimate Lines'!$C$11:$C$110,"<>")=0,"",COUNTIF('Estimate Lines'!$L$11:$L$110,">"&Assumptions!$K$11))
A16: Price by Line Type
A17: Line Type | B17: Direct Cost | C17: Estimated Price
A18: =IF(Assumptions!$A$5="","",Assumptions!$A$5) | B18: =IF($A18="","",SUMIF('Estimate Lines'!$B$11:$B$110,$A18,'Estimate Lines'!$H$11:$H$110)) | C18: =IF($A18="","",SUMIF('Estimate Lines'!$B$11:$B$110,$A18,'Estimate Lines'!$L$11:$L$110))
A19: =IF(Assumptions!$A$6="","",Assumptions!$A$6) | B19: =IF($A19="","",SUMIF('Estimate Lines'!$B$11:$B$110,$A19,'Estimate Lines'!$H$11:$H$110)) | C19: =IF($A19="","",SUMIF('Estimate Lines'!$B$11:$B$110,$A19,'Estimate Lines'!$L$11:$L$110))
A20: =IF(Assumptions!$A$7="","",Assumptions!$A$7) | B20: =IF($A20="","",SUMIF('Estimate Lines'!$B$11:$B$110,$A20,'Estimate Lines'!$H$11:$H$110)) | C20: =IF($A20="","",SUMIF('Estimate Lines'!$B$11:$B$110,$A20,'Estimate Lines'!$L$11:$L$110))
A21: =IF(Assumptions!$A$8="","",Assumptions!$A$8) | B21: =IF($A21="","",SUMIF('Estimate Lines'!$B$11:$B$110,$A21,'Estimate Lines'!$H$11:$H$110)) | C21: =IF($A21="","",SUMIF('Estimate Lines'!$B$11:$B$110,$A21,'Estimate Lines'!$L$11:$L$110))

Sheet Estimate Lines
A1: HVAC Repair Estimate Lines
A2: Fictional example for planning diagnostic labor, repair parts, repair labor, and allowances.
A3: Estimate Details
A4: Customer | B4: Fictional Customer - Maple Test Site | D4: Technician | E4: Alex Example
A5: Job | B5: Demo Repair Job 1001 | D5: Estimate Date | E5: 46276 | P5: =Assumptions!$A$5 | Q5: =Assumptions!$E$5 | R5: =Assumptions!$F$5 | S5: =Assumptions!$G$5 | T5: =Assumptions!$H$5 | U5: =Assumptions!$K$5
A6: Equipment | B6: Fictional Training Unit A - 3-ton split system | P6: =Assumptions!$A$6 | Q6: =Assumptions!$E$6 | R6: =Assumptions!$F$6 | S6: =Assumptions!$G$6 | T6: =Assumptions!$H$6 | U6: =Assumptions!$K$6
P7: =Assumptions!$A$7 | Q7: =Assumptions!$E$7 | R7: =Assumptions!$F$7 | S7: =Assumptions!$G$7 | T7: =Assumptions!$H$7 | U7: =Assumptions!$K$7
A8: Light orange cells are editable. Review every quantity, responsibility, status, and calculated price before use. | P8: =Assumptions!$A$8 | Q8: =Assumptions!$E$8 | S8: =Assumptions!$G$8 | U8: =Assumptions!$K$8
Q9: =Assumptions!$E$9 | U9: =Assumptions!$K$9
A10: Line | B10: Line Type | C10: Description | D10: Quantity | E10: Unit | F10: Labor Hours | G10: Unit Cost | H10: Extended Cost | I10: Markup | J10: Labor Rate | K10: Labor Price | L10: Estimated Price | M10: Responsibility | N10: Status | Q10: =Assumptions!$E$10 | U10: =Assumptions!$K$10
A11: =IF($C11="","",ROW()-10) | B11: Diagnostic Labor | C11: Initial diagnostic visit for fictional intermittent cooling concern | D11: 1 | E11: visit | F11: 1.5 | G11: 0 | H11: =IF($C11="","",IF(OR($D11="",$G11=""),"",IFERROR($D11*$G11,""))) | I11: =IF(OR($B11="",$C11=""),"",IFERROR(VLOOKUP($B11,Assumptions!$A$5:$C$8,2,FALSE),"")) | J11: =IF(OR($B11="",$C11=""),"",IFERROR(VLOOKUP($B11,Assumptions!$A$5:$C$8,3,FALSE),"")) | K11: =IF($C11="","",IF(OR($F11="",$J11=""),"",IFERROR($F11*$J11,""))) | L11: =IF($C11="","",IF(OR($H11="",$I11="",$K11=""),"",IFERROR($H11*(1+$I11)+$K11,""))) | M11: Customer | N11: Approved | Q11: =Assumptions!$E$11 | U11: =Assumptions!$K$11
A12: =IF($C12="","",ROW()-10) | B12: Repair Part | C12: Dual run capacitor for fictional training unit | D12: 1 | E12: each | F12: 0.75 | G12: 24.5 | H12: =IF($C12="","",IF(OR($D12="",$G12=""),"",IFERROR($D12*$G12,""))) | I12: =IF(OR($B12="",$C12=""),"",IFERROR(VLOOKUP($B12,Assumptions!$A$5:$C$8,2,FALSE),"")) | J12: =IF(OR($B12="",$C12=""),"",IFERROR(VLOOKUP($B12,Assumptions!$A$5:$C$8,3,FALSE),"")) | K12: =IF($C12="","",IF(OR($F12="",$J12=""),"",IFERROR($F12*$J12,""))) | L12: =IF($C12="","",IF(OR($H12="",$I12="",$K12=""),"",IFERROR($H12*(1+$I12)+$K12,""))) | M12: Customer | N12: Proposed | Q12: =Assumptions!$E$12 | U12: =Assumptions!$K$12
A13: =IF($C13="","",ROW()-10) | B13: Repair Part | C13: Two-pole contactor for fictional training unit | D13: 1 | E13: each | F13: 1 | G13: 42 | H13: =IF($C13="","",IF(OR($D13="",$G13=""),"",IFERROR($D13*$G13,""))) | I13: =IF(OR($B13="",$C13=""),"",IFERROR(VLOOKUP($B13,Assumptions!$A$5:$C$8,2,FALSE),"")) | J13: =IF(OR($B13="",$C13=""),"",IFERROR(VLOOKUP($B13,Assumptions!$A$5:$C$8,3,FALSE),"")) | K13: =IF($C13="","",IF(OR($F13="",$J13=""),"",IFERROR($F13*$J13,""))) | L13: =IF($C13="","",IF(OR($H13="",$I13="",$K13=""),"",IFERROR($H13*(1+$I13)+$K13,""))) | M13: Customer | N13: Proposed | Q13: =Assumptions!$E$13 | U13: =Assumptions!$K$13
A14: =IF($C14="","",ROW()-10) | B14: Repair Part | C14: Low-voltage fuse pack | D14: 1 | E14: pack | F14: 0.25 | G14: 8.25 | H14: =IF($C14="","",IF(OR($D14="",$G14=""),"",IFERROR($D14*$G14,""))) | I14: =IF(OR($B14="",$C14=""),"",IFERROR(VLOOKUP($B14,Assumptions!$A$5:$C$8,2,FALSE),"")) | J14: =IF(OR($B14="",$C14=""),"",IFERROR(VLOOKUP($B14,Assumptions!$A$5:$C$8,3,FALSE),"")) | K14: =IF($C14="","",IF(OR($F14="",$J14=""),"",IFERROR($F14*$J14,""))) | L14: =IF($C14="","",IF(OR($H14="",$I14="",$K14=""),"",IFERROR($H14*(1+$I14)+$K14,""))) | M14: Customer | N14: Proposed | Q14: =Assumptions!$E$14
A15: =IF($C15="","",ROW()-10) | B15: Repair Labor | C15: Electrical troubleshooting follow-up labor | D15: 1 | E15: job | F15: 1.25 | G15: 0 | H15: =IF($C15="","",IF(OR($D15="",$G15=""),"",IFERROR($D15*$G15,""))) | I15: =IF(OR($B15="",$C15=""),"",IFERROR(VLOOKUP($B15,Assumptions!$A$5:$C$8,2,FALSE),"")) | J15: =IF(OR($B15="",$C15=""),"",IFERROR(VLOOKUP($B15,Assumptions!$A$5:$C$8,3,FALSE),"")) | K15: =IF($C15="","",IF(OR($F15="",$J15=""),"",IFERROR($F15*$J15,""))) | L15: =IF($C15="","",IF(OR($H15="",$I15="",$K15=""),"",IFERROR($H15*(1+$I15)+$K15,""))) | M15: Customer | N15: Proposed
A16: =IF($C16="","",ROW()-10) | B16: Repair Part | C16: Condensate drain fitting kit | D16: 1 | E16: kit | F16: 0.75 | G16: 18.5 | H16: =IF($C16="","",IF(OR($D16="",$G16=""),"",IFERROR($D16*$G16,""))) | I16: =IF(OR($B16="",$C16=""),"",IFERROR(VLOOKUP($B16,Assumptions!$A$5:$C$8,2,FALSE),"")) | J16: =IF(OR($B16="",$C16=""),"",IFERROR(VLOOKUP($B16,Assumptions!$A$5:$C$8,3,FALSE),"")) | K16: =IF($C16="","",IF(OR($F16="",$J16=""),"",IFERROR($F16*$J16,""))) | L16: =IF($C16="","",IF(OR($H16="",$I16="",$K16=""),"",IFERROR($H16*(1+$I16)+$K16,""))) | M16: Contractor | N16: Proposed
A17: =IF($C17="","",ROW()-10) | B17: Allowance | C17: Refrigerant allowance up to entered quantity | D17: 2 | E17: lb | F17: 0.5 | G17: 38 | H17: =IF($C17="","",IF(OR($D17="",$G17=""),"",IFERROR($D17*$G17,""))) | I17: =IF(OR($B17="",$C17=""),"",IFERROR(VLOOKUP($B17,Assumptions!$A$5:$C$8,2,FALSE),"")) | J17: =IF(OR($B17="",$C17=""),"",IFERROR(VLOOKUP($B17,Assumptions!$A$5:$C$8,3,FALSE),"")) | K17: =IF($C17="","",IF(OR($F17="",$J17=""),"",IFERROR($F17*$J17,""))) | L17: =IF($C17="","",IF(OR($H17="",$I17="",$K17=""),"",IFERROR($H17*(1+$I17)+$K17,""))) | M17: Customer | N17: Proposed
A18: =IF($C18="","",ROW()-10) | B18: Repair Part | C18: Material-only return-air filter option | D18: 1 | E18: each | F18: 0 | G18: 12 | H18: =IF($C18="","",IF(OR($D18="",$G18=""),"",IFERROR($D18*$G18,""))) | I18: =IF(OR($B18="",$C18=""),"",IFERROR(VLOOKUP($B18,Assumptions!$A$5:$C$8,2,FALSE),"")) | J18: =IF(OR($B18="",$C18=""),"",IFERROR(VLOOKUP($B18,Assumptions!$A$5:$C$8,3,FALSE),"")) | K18: =IF($C18="","",IF(OR($F18="",$J18=""),"",IFERROR($F18*$J18,""))) | L18: =IF($C18="","",IF(OR($H18="",$I18="",$K18=""),"",IFERROR($H18*(1+$I18)+$K18,""))) | M18: Customer | N18: Optional
A19: =IF($C19="","",ROW()-10) | B19: Allowance | C19: Indoor coil cleaning material allowance | D19: 1 | E19: allowance | F19: 1 | G19: 15 | H19: =IF($C19="","",IF(OR($D19="",$G19=""),"",IFERROR($D19*$G19,""))) | I19: =IF(OR($B19="",$C19=""),"",IFERROR(VLOOKUP($B19,Assumptions!$A$5:$C$8,2,FALSE),"")) | J19: =IF(OR($B19="",$C19=""),"",IFERROR(VLOOKUP($B19,Assumptions!$A$5:$C$8,3,FALSE),"")) | K19: =IF($C19="","",IF(OR($F19="",$J19=""),"",IFERROR($F19*$J19,""))) | L19: =IF($C19="","",IF(OR($H19="",$I19="",$K19=""),"",IFERROR($H19*(1+$I19)+$K19,""))) | M19: Customer | N19: Declined
A20: =IF($C20="","",ROW()-10) | B20: Repair Labor | C20: Post-repair operating check for fictional unit | D20: 1 | E20: job | F20: 0.5 | G20: 0 | H20: =IF($C20="","",IF(OR($D20="",$G20=""),"",IFERROR($D20*$G20,""))) | I20: =IF(OR($B20="",$C20=""),"",IFERROR(VLOOKUP($B20,Assumptions!$A$5:$C$8,2,FALSE),"")) | J20: =IF(OR($B20="",$C20=""),"",IFERROR(VLOOKUP($B20,Assumptions!$A$5:$C$8,3,FALSE),"")) | K20: =IF($C20="","",IF(OR($F20="",$J20=""),"",IFERROR($F20*$J20,""))) | L20: =IF($C20="","",IF(OR($H20="",$I20="",$K20=""),"",IFERROR($H20*(1+$I20)+$K20,""))) | M20: Contractor | N20: Approved
A21: =IF($C21="","",ROW()-10) | H21: =IF($C21="","",IF(OR($D21="",$G21=""),"",IFERROR($D21*$G21,""))) | I21: =IF(OR($B21="",$C21=""),"",IFERROR(VLOOKUP($B21,Assumptions!$A$5:$C$8,2,FALSE),"")) | J21: =IF(OR($B21="",$C21=""),"",IFERROR(VLOOKUP($B21,Assumptions!$A$5:$C$8,3,FALSE),"")) | K21: =IF($C21="","",IF(OR($F21="",$J21=""),"",IFERROR($F21*$J21,""))) | L21: =IF($C21="","",IF(OR($H21="",$I21="",$K21=""),"",IFERROR($H21*(1+$I21)+$K21,"")))
A22: =IF($C22="","",ROW()-10) | H22: =IF($C22="","",IF(OR($D22="",$G22=""),"",IFERROR($D22*$G22,""))) | I22: =IF(OR($B22="",$C22=""),"",IFERROR(VLOOKUP($B22,Assumptions!$A$5:$C$8,2,FALSE),"")) | J22: =IF(OR($B22="",$C22=""),"",IFERROR(VLOOKUP($B22,Assumptions!$A$5:$C$8,3,FALSE),"")) | K22: =IF($C22="","",IF(OR($F22="",$J22=""),"",IFERROR($F22*$J22,""))) | L22: =IF($C22="","",IF(OR($H22="",$I22="",$K22=""),"",IFERROR($H22*(1+$I22)+$K22,"")))
A23: =IF($C23="","",ROW()-10) | H23: =IF($C23="","",IF(OR($D23="",$G23=""),"",IFERROR($D23*$G23,""))) | I23: =IF(OR($B23="",$C23=""),"",IFERROR(VLOOKUP($B23,Assumptions!$A$5:$C$8,2,FALSE),"")) | J23: =IF(OR($B23="",$C23=""),"",IFERROR(VLOOKUP($B23,Assumptions!$A$5:$C$8,3,FALSE),"")) | K23: =IF($C23="","",IF(OR($F23="",$J23=""),"",IFERROR($F23*$J23,""))) | L23: =IF($C23="","",IF(OR($H23="",$I23="",$K23=""),"",IFERROR($H23*(1+$I23)+$K23,"")))
A24: =IF($C24="","",ROW()-10) | H24: =IF($C24="","",IF(OR($D24="",$G24=""),"",IFERROR($D24*$G24,""))) | I24: =IF(OR($B24="",$C24=""),"",IFERROR(VLOOKUP($B24,Assumptions!$A$5:$C$8,2,FALSE),"")) | J24: =IF(OR($B24="",$C24=""),"",IFERROR(VLOOKUP($B24,Assumptions!$A$5:$C$8,3,FALSE),"")) | K24: =IF($C24="","",IF(OR($F24="",$J24=""),"",IFERROR($F24*$J24,""))) | L24: =IF($C24="","",IF(OR($H24="",$I24="",$K24=""),"",IFERROR($H24*(1+$I24)+$K24,"")))
A25: =IF($C25="","",ROW()-10) | H25: =IF($C25="","",IF(OR($D25="",$G25=""),"",IFERROR($D25*$G25,""))) | I25: =IF(OR($B25="",$C25=""),"",IFERROR(VLOOKUP($B25,Assumptions!$A$5:$C$8,2,FALSE),"")) | J25: =IF(OR($B25="",$C25=""),"",IFERROR(VLOOKUP($B25,Assumptions!$A$5:$C$8,3,FALSE),"")) | K25: =IF($C25="","",IF(OR($F25="",$J25=""),"",IFERROR($F25*$J25,""))) | L25: =IF($C25="","",IF(OR($H25="",$I25="",$K25=""),"",IFERROR($H25*(1+$I25)+$K25,"")))
A26: =IF($C26="","",ROW()-10) | H26: =IF($C26="","",IF(OR($D26="",$G26=""),"",IFERROR($D26*$G26,""))) | I26: =IF(OR($B26="",$C26=""),"",IFERROR(VLOOKUP($B26,Assumptions!$A$5:$C$8,2,FALSE),"")) | J26: =IF(OR($B26="",$C26=""),"",IFERROR(VLOOKUP($B26,Assumptions!$A$5:$C$8,3,FALSE),"")) | K26: =IF($C26="","",IF(OR($F26="",$J26=""),"",IFERROR($F26*$J26,""))) | L26: =IF($C26="","",IF(OR($H26="",$I26="",$K26=""),"",IFERROR($H26*(1+$I26)+$K26,"")))
A27: =IF($C27="","",ROW()-10) | H27: =IF($C27="","",IF(OR($D27="",$G27=""),"",IFERROR($D27*$G27,""))) | I27: =IF(OR($B27="",$C27=""),"",IFERROR(VLOOKUP($B27,Assumptions!$A$5:$C$8,2,FALSE),"")) | J27: =IF(OR($B27="",$C27=""),"",IFERROR(VLOOKUP($B27,Assumptions!$A$5:$C$8,3,FALSE),"")) | K27: =IF($C27="","",IF(OR($F27="",$J27=""),"",IFERROR($F27*$J27,""))) | L27: =IF($C27="","",IF(OR($H27="",$I27="",$K27=""),"",IFERROR($H27*(1+$I27)+$K27,"")))
A28: =IF($C28="","",ROW()-10) | H28: =IF($C28="","",IF(OR($D28="",$G28=""),"",IFERROR($D28*$G28,""))) | I28: =IF(OR($B28="",$C28=""),"",IFERROR(VLOOKUP($B28,Assumptions!$A$5:$C$8,2,FALSE),"")) | J28: =IF(OR($B28="",$C28=""),"",IFERROR(VLOOKUP($B28,Assumptions!$A$5:$C$8,3,FALSE),"")) | K28: =IF($C28="","",IF(OR($F28="",$J28=""),"",IFERROR($F28*$J28,""))) | L28: =IF($C28="","",IF(OR($H28="",$I28="",$K28=""),"",IFERROR($H28*(1+$I28)+$K28,"")))
A29: =IF($C29="","",ROW()-10) | H29: =IF($C29="","",IF(OR($D29="",$G29=""),"",IFERROR($D29*$G29,""))) | I29: =IF(OR($B29="",$C29=""),"",IFERROR(VLOOKUP($B29,Assumptions!$A$5:$C$8,2,FALSE),"")) | J29: =IF(OR($B29="",$C29=""),"",IFERROR(VLOOKUP($B29,Assumptions!$A$5:$C$8,3,FALSE),"")) | K29: =IF($C29="","",IF(OR($F29="",$J29=""),"",IFERROR($F29*$J29,""))) | L29: =IF($C29="","",IF(OR($H29="",$I29="",$K29=""),"",IFERROR($H29*(1+$I29)+$K29,"")))
A30: =IF($C30="","",ROW()-10) | H30: =IF($C30="","",IF(OR($D30="",$G30=""),"",IFERROR($D30*$G30,""))) | I30: =IF(OR($B30="",$C30=""),"",IFERROR(VLOOKUP($B30,Assumptions!$A$5:$C$8,2,FALSE),"")) | J30: =IF(OR($B30="",$C30=""),"",IFERROR(VLOOKUP($B30,Assumptions!$A$5:$C$8,3,FALSE),"")) | K30: =IF($C30="","",IF(OR($F30="",$J30=""),"",IFERROR($F30*$J30,""))) | L30: =IF($C30="","",IF(OR($H30="",$I30="",$K30=""),"",IFERROR($H30*(1+$I30)+$K30,"")))
A31: =IF($C31="","",ROW()-10) | H31: =IF($C31="","",IF(OR($D31="",$G31=""),"",IFERROR($D31*$G31,""))) | I31: =IF(OR($B31="",$C31=""),"",IFERROR(VLOOKUP($B31,Assumptions!$A$5:$C$8,2,FALSE),"")) | J31: =IF(OR($B31="",$C31=""),"",IFERROR(VLOOKUP($B31,Assumptions!$A$5:$C$8,3,FALSE),"")) | K31: =IF($C31="","",IF(OR($F31="",$J31=""),"",IFERROR($F31*$J31,""))) | L31: =IF($C31="","",IF(OR($H31="",$I31="",$K31=""),"",IFERROR($H31*(1+$I31)+$K31,"")))
A32: =IF($C32="","",ROW()-10) | H32: =IF($C32="","",IF(OR($D32="",$G32=""),"",IFERROR($D32*$G32,""))) | I32: =IF(OR($B32="",$C32=""),"",IFERROR(VLOOKUP($B32,Assumptions!$A$5:$C$8,2,FALSE),"")) | J32: =IF(OR($B32="",$C32=""),"",IFERROR(VLOOKUP($B32,Assumptions!$A$5:$C$8,3,FALSE),"")) | K32: =IF($C32="","",IF(OR($F32="",$J32=""),"",IFERROR($F32*$J32,""))) | L32: =IF($C32="","",IF(OR($H32="",$I32="",$K32=""),"",IFERROR($H32*(1+$I32)+$K32,"")))
... A110: =IF($C110="","",ROW()-10) | H110: =IF($C110="","",IF(OR($D110="",$G110=""),"",IFERROR($D110*$G110,""))) | I110: =IF(OR($B110="",$C110=""),"",IFERROR(VLOOKUP($B110,Assumptions!$A$5:$C$8,2,FALSE),"")) | J110: =IF(OR($B110="",$C110=""),"",IFERROR(VLOOKUP($B110,Assumptions!$A$5:$C$8,3,FALSE),"")) | K110: =IF($C110="","",IF(OR($F110="",$J110=""),"",IFERROR($F110*$J110,""))) | L110: =IF($C110="","",IF(OR($H110="",$I110="",$K110=""),"",IFERROR($H110*(1+$I110)+$K110,"")))

Sheet Assumptions
A1: HVAC Repair Estimate Assumptions
A2: Editable planning defaults and stable validation choices for this fictional workbook.
A3: Pricing Defaults | E3: Validation Choices | J3: Entry Limits
A4: Line Type | B4: Default Markup | C4: Labor Rate | E4: Unit | F4: Responsibility | G4: Status | H4: Technician | J4: Setting | K4: Value
A5: Diagnostic Labor | B5: 0 | C5: 145 | E5: each | F5: Customer | G5: Proposed | H5: Alex Example | J5: Minimum nonnegative input | K5: 0
A6: Repair Part | B6: 0.35 | C6: 145 | E6: hour | F6: Contractor | G6: Approved | H6: Morgan Placeholder | J6: Maximum quantity per line | K6: 1000
A7: Repair Labor | B7: 0 | C7: 145 | E7: visit | F7: Other | G7: Declined | H7: Riley Demo | J7: Maximum labor hours per line | K7: 80
A8: Allowance | B8: 0.1 | C8: 145 | E8: job | G8: Optional | J8: Maximum unit cost | K8: 100000
E9: kit | J9: Earliest estimate date | K9: 45911
E10: pack | J10: Latest estimate date | K10: 46641
E11: lb | J11: Line price review threshold | K11: 5000
E12: ft | J12: Maximum markup | K12: 2
E13: gallon | J13: Maximum labor rate | K13: 1000
E14: allowance
J15: Review Note | K15: These defaults are editable planning assumptions. Review them for each estimate; this workbook does not verify pricing, responsibility, coverage, or outside requirements.
