Workbook

Sheet Summary
A1: HVAC Refrigerant Usage Log Summary
A2: Calculated from fictional sample entries and user-entered records.
A3: Report Start | B3: =Assumptions!B4 | D3: Report End | E3: =Assumptions!B5
A5: Indicator | B5: Calculated Value
A6: Transactions in Period | B6: =IFERROR(COUNTIFS('Usage Log'!$A$6:$A$105,">="&Assumptions!$B$4,'Usage Log'!$A$6:$A$105,"<="&Assumptions!$B$5,'Usage Log'!$B$6:$B$105,"<>",'Usage Log'!$Q$6:$Q$105,"<>Voided"),0)
A7: Refrigerant Used | B7: =IFERROR(SUMIFS('Usage Log'!$J$6:$J$105,'Usage Log'!$A$6:$A$105,">="&Assumptions!$B$4,'Usage Log'!$A$6:$A$105,"<="&Assumptions!$B$5,'Usage Log'!$Q$6:$Q$105,"<>Voided"),0)
A8: Usage Cost | B8: =IFERROR(SUMIFS('Usage Log'!$N$6:$N$105,'Usage Log'!$A$6:$A$105,">="&Assumptions!$B$4,'Usage Log'!$A$6:$A$105,"<="&Assumptions!$B$5,'Usage Log'!$Q$6:$Q$105,"<>Voided"),0)
A9: Records Needing Check | B9: =IFERROR(COUNTIF('Usage Log'!$S$6:$S$105,"CHECK*"),0)
A10: Active Cylinders | B10: =IFERROR(COUNTIF(Cylinders!$F$6:$F$105,"In Service"),0)
A11: Low-Balance Cylinders | B11: =IFERROR(COUNTIF(Cylinders!$J$6:$J$105,"CHECK LOW BALANCE"),0)
A12: Draft Records | B12: =IFERROR(COUNTIF('Usage Log'!$Q$6:$Q$105,"Draft"),0)
A13: Average Used per Transaction | B13: =IF(B6=0,"",IFERROR(B7/B6,""))
A16: Refrigerant | B16: Used (lb)
A17: =IF(Assumptions!D4="","",Assumptions!D4) | B17: =IF(A17="","",IFERROR(SUMIFS('Usage Log'!$J$6:$J$105,'Usage Log'!$C$6:$C$105,A17,'Usage Log'!$A$6:$A$105,">="&Assumptions!$B$4,'Usage Log'!$A$6:$A$105,"<="&Assumptions!$B$5,'Usage Log'!$Q$6:$Q$105,"<>Voided"),0))
A18: =IF(Assumptions!D5="","",Assumptions!D5) | B18: =IF(A18="","",IFERROR(SUMIFS('Usage Log'!$J$6:$J$105,'Usage Log'!$C$6:$C$105,A18,'Usage Log'!$A$6:$A$105,">="&Assumptions!$B$4,'Usage Log'!$A$6:$A$105,"<="&Assumptions!$B$5,'Usage Log'!$Q$6:$Q$105,"<>Voided"),0))
A19: =IF(Assumptions!D6="","",Assumptions!D6) | B19: =IF(A19="","",IFERROR(SUMIFS('Usage Log'!$J$6:$J$105,'Usage Log'!$C$6:$C$105,A19,'Usage Log'!$A$6:$A$105,">="&Assumptions!$B$4,'Usage Log'!$A$6:$A$105,"<="&Assumptions!$B$5,'Usage Log'!$Q$6:$Q$105,"<>Voided"),0))
A20: =IF(Assumptions!D7="","",Assumptions!D7) | B20: =IF(A20="","",IFERROR(SUMIFS('Usage Log'!$J$6:$J$105,'Usage Log'!$C$6:$C$105,A20,'Usage Log'!$A$6:$A$105,">="&Assumptions!$B$4,'Usage Log'!$A$6:$A$105,"<="&Assumptions!$B$5,'Usage Log'!$Q$6:$Q$105,"<>Voided"),0))
A21: =IF(Assumptions!D8="","",Assumptions!D8) | B21: =IF(A21="","",IFERROR(SUMIFS('Usage Log'!$J$6:$J$105,'Usage Log'!$C$6:$C$105,A21,'Usage Log'!$A$6:$A$105,">="&Assumptions!$B$4,'Usage Log'!$A$6:$A$105,"<="&Assumptions!$B$5,'Usage Log'!$Q$6:$Q$105,"<>Voided"),0))
A22: =IF(Assumptions!D9="","",Assumptions!D9) | B22: =IF(A22="","",IFERROR(SUMIFS('Usage Log'!$J$6:$J$105,'Usage Log'!$C$6:$C$105,A22,'Usage Log'!$A$6:$A$105,">="&Assumptions!$B$4,'Usage Log'!$A$6:$A$105,"<="&Assumptions!$B$5,'Usage Log'!$Q$6:$Q$105,"<>Voided"),0))
A23: =IF(Assumptions!D10="","",Assumptions!D10) | B23: =IF(A23="","",IFERROR(SUMIFS('Usage Log'!$J$6:$J$105,'Usage Log'!$C$6:$C$105,A23,'Usage Log'!$A$6:$A$105,">="&Assumptions!$B$4,'Usage Log'!$A$6:$A$105,"<="&Assumptions!$B$5,'Usage Log'!$Q$6:$Q$105,"<>Voided"),0))
A24: =IF(Assumptions!D11="","",Assumptions!D11) | B24: =IF(A24="","",IFERROR(SUMIFS('Usage Log'!$J$6:$J$105,'Usage Log'!$C$6:$C$105,A24,'Usage Log'!$A$6:$A$105,">="&Assumptions!$B$4,'Usage Log'!$A$6:$A$105,"<="&Assumptions!$B$5,'Usage Log'!$Q$6:$Q$105,"<>Voided"),0))

Sheet Usage Log
A1: Refrigerant Usage Entries
A2: Enter records in transaction order so each cylinder balance reflects the entries above it.
A3: Orange cells are user inputs. Calculated checks request human review.
A5: Date | B5: Cylinder ID | C5: Refrigerant | D5: Technician | E5: Customer | F5: Job # | G5: Equipment | H5: Description | I5: Qty Issued | J5: Qty Used | K5: Qty Returned | L5: Unit | M5: Unit Cost | N5: Usage Cost | O5: Responsibility | P5: Job Status | Q5: Record Status | R5: Balance After Entry | S5: Check
A6: 46257 | B6: DEMO-CYL-001 | C6: =IF(B6="","",IFERROR(VLOOKUP(B6,Cylinders!$A$6:$J$105,2,FALSE),"CHECK CYLINDER")) | D6: Alex Rowan (Fictional) | E6: Fictional Acorn Market | F6: DEMO-JOB-001 | G6: Demo RTU-1 | H6: Cooling service refrigerant entry | I6: 5 | J6: 5 | K6: 0 | L6: =IF(B6="","","lb") | M6: =IF(B6="","",IFERROR(VLOOKUP(B6,Cylinders!$A$6:$J$105,5,FALSE),"")) | N6: =IF(OR(B6="",Q6="Voided"),"",IF(COUNT(J6,M6)<2,"",IFERROR(J6*M6,""))) | O6: Customer | P6: Complete | Q6: Reviewed | R6: =IF(B6="","",IFERROR(VLOOKUP(B6,Cylinders!$A$6:$J$105,4,FALSE)-SUMIFS($I$6:I6,$B$6:B6,B6,$Q$6:Q6,"<>Voided")+SUMIFS($K$6:K6,$B$6:B6,B6,$Q$6:Q6,"<>Voided"),"")) | S6: =IF(B6="","",IF(OR(A6="",D6="",Q6=""),"CHECK REQUIRED INPUTS",IF(C6="CHECK CYLINDER","CHECK CYLINDER",IF(Q6="Voided","VOIDED",IF(COUNT(I6:K6)<3,"CHECK QUANTITIES",IF(ABS(I6-J6-K6)>Assumptions!$B$7,"CHECK QUANTITIES",IF(R6<0,"CHECK NEGATIVE BALANCE",IF(R6<IFERROR(VLOOKUP(B6,Cylinders!$A$6:$J$105,4,FALSE),0)*Assumptions!$B$6,"CHECK LOW BALANCE","OK")))))))
A7: 46259 | B7: DEMO-CYL-002 | C7: =IF(B7="","",IFERROR(VLOOKUP(B7,Cylinders!$A$6:$J$105,2,FALSE),"CHECK CYLINDER")) | D7: Jordan Vale (Fictional) | E7: Fictional Bluebird Clinic | F7: DEMO-JOB-002 | G7: Demo Split-2 | H7: Service refrigerant issue and return | I7: 8 | J7: 7.5 | K7: 0.5 | L7: =IF(B7="","","lb") | M7: =IF(B7="","",IFERROR(VLOOKUP(B7,Cylinders!$A$6:$J$105,5,FALSE),"")) | N7: =IF(OR(B7="",Q7="Voided"),"",IF(COUNT(J7,M7)<2,"",IFERROR(J7*M7,""))) | O7: Company | P7: Complete | Q7: Reviewed | R7: =IF(B7="","",IFERROR(VLOOKUP(B7,Cylinders!$A$6:$J$105,4,FALSE)-SUMIFS($I$6:I7,$B$6:B7,B7,$Q$6:Q7,"<>Voided")+SUMIFS($K$6:K7,$B$6:B7,B7,$Q$6:Q7,"<>Voided"),"")) | S7: =IF(B7="","",IF(OR(A7="",D7="",Q7=""),"CHECK REQUIRED INPUTS",IF(C7="CHECK CYLINDER","CHECK CYLINDER",IF(Q7="Voided","VOIDED",IF(COUNT(I7:K7)<3,"CHECK QUANTITIES",IF(ABS(I7-J7-K7)>Assumptions!$B$7,"CHECK QUANTITIES",IF(R7<0,"CHECK NEGATIVE BALANCE",IF(R7<IFERROR(VLOOKUP(B7,Cylinders!$A$6:$J$105,4,FALSE),0)*Assumptions!$B$6,"CHECK LOW BALANCE","OK")))))))
A8: 46261 | B8: DEMO-CYL-003 | C8: =IF(B8="","",IFERROR(VLOOKUP(B8,Cylinders!$A$6:$J$105,2,FALSE),"CHECK CYLINDER")) | D8: Casey North (Fictional) | E8: Fictional Copper Kettle Cafe | F8: DEMO-JOB-003 | G8: Demo Heat Pump-3 | H8: Refrigerant used during service | I8: 6.5 | J8: 6.5 | K8: 0 | L8: =IF(B8="","","lb") | M8: =IF(B8="","",IFERROR(VLOOKUP(B8,Cylinders!$A$6:$J$105,5,FALSE),"")) | N8: =IF(OR(B8="",Q8="Voided"),"",IF(COUNT(J8,M8)<2,"",IFERROR(J8*M8,""))) | O8: Customer | P8: Follow-up | Q8: Reviewed | R8: =IF(B8="","",IFERROR(VLOOKUP(B8,Cylinders!$A$6:$J$105,4,FALSE)-SUMIFS($I$6:I8,$B$6:B8,B8,$Q$6:Q8,"<>Voided")+SUMIFS($K$6:K8,$B$6:B8,B8,$Q$6:Q8,"<>Voided"),"")) | S8: =IF(B8="","",IF(OR(A8="",D8="",Q8=""),"CHECK REQUIRED INPUTS",IF(C8="CHECK CYLINDER","CHECK CYLINDER",IF(Q8="Voided","VOIDED",IF(COUNT(I8:K8)<3,"CHECK QUANTITIES",IF(ABS(I8-J8-K8)>Assumptions!$B$7,"CHECK QUANTITIES",IF(R8<0,"CHECK NEGATIVE BALANCE",IF(R8<IFERROR(VLOOKUP(B8,Cylinders!$A$6:$J$105,4,FALSE),0)*Assumptions!$B$6,"CHECK LOW BALANCE","OK")))))))
A9: 46263 | B9: DEMO-CYL-004 | C9: =IF(B9="","",IFERROR(VLOOKUP(B9,Cylinders!$A$6:$J$105,2,FALSE),"CHECK CYLINDER")) | D9: Taylor Finch (Fictional) | E9: Fictional Driftwood Offices | F9: DEMO-JOB-004 | G9: Demo Package Unit-4 | H9: Recorded refrigerant used | I9: 2 | J9: 2 | K9: 0 | L9: =IF(B9="","","lb") | M9: =IF(B9="","",IFERROR(VLOOKUP(B9,Cylinders!$A$6:$J$105,5,FALSE),"")) | N9: =IF(OR(B9="",Q9="Voided"),"",IF(COUNT(J9,M9)<2,"",IFERROR(J9*M9,""))) | O9: Warranty Review | P9: Complete | Q9: Reviewed | R9: =IF(B9="","",IFERROR(VLOOKUP(B9,Cylinders!$A$6:$J$105,4,FALSE)-SUMIFS($I$6:I9,$B$6:B9,B9,$Q$6:Q9,"<>Voided")+SUMIFS($K$6:K9,$B$6:B9,B9,$Q$6:Q9,"<>Voided"),"")) | S9: =IF(B9="","",IF(OR(A9="",D9="",Q9=""),"CHECK REQUIRED INPUTS",IF(C9="CHECK CYLINDER","CHECK CYLINDER",IF(Q9="Voided","VOIDED",IF(COUNT(I9:K9)<3,"CHECK QUANTITIES",IF(ABS(I9-J9-K9)>Assumptions!$B$7,"CHECK QUANTITIES",IF(R9<0,"CHECK NEGATIVE BALANCE",IF(R9<IFERROR(VLOOKUP(B9,Cylinders!$A$6:$J$105,4,FALSE),0)*Assumptions!$B$6,"CHECK LOW BALANCE","OK")))))))
A10: 46265 | B10: DEMO-CYL-005 | C10: =IF(B10="","",IFERROR(VLOOKUP(B10,Cylinders!$A$6:$J$105,2,FALSE),"CHECK CYLINDER")) | D10: Morgan Pine (Fictional) | E10: Fictional Elm Street Bakery | F10: DEMO-JOB-005 | G10: Demo Cooler-5 | H10: Issue with unused quantity returned | I10: 10 | J10: 9 | K10: 1 | L10: =IF(B10="","","lb") | M10: =IF(B10="","",IFERROR(VLOOKUP(B10,Cylinders!$A$6:$J$105,5,FALSE),"")) | N10: =IF(OR(B10="",Q10="Voided"),"",IF(COUNT(J10,M10)<2,"",IFERROR(J10*M10,""))) | O10: Customer | P10: Complete | Q10: Reviewed | R10: =IF(B10="","",IFERROR(VLOOKUP(B10,Cylinders!$A$6:$J$105,4,FALSE)-SUMIFS($I$6:I10,$B$6:B10,B10,$Q$6:Q10,"<>Voided")+SUMIFS($K$6:K10,$B$6:B10,B10,$Q$6:Q10,"<>Voided"),"")) | S10: =IF(B10="","",IF(OR(A10="",D10="",Q10=""),"CHECK REQUIRED INPUTS",IF(C10="CHECK CYLINDER","CHECK CYLINDER",IF(Q10="Voided","VOIDED",IF(COUNT(I10:K10)<3,"CHECK QUANTITIES",IF(ABS(I10-J10-K10)>Assumptions!$B$7,"CHECK QUANTITIES",IF(R10<0,"CHECK NEGATIVE BALANCE",IF(R10<IFERROR(VLOOKUP(B10,Cylinders!$A$6:$J$105,4,FALSE),0)*Assumptions!$B$6,"CHECK LOW BALANCE","OK")))))))
A11: 46267 | B11: DEMO-CYL-006 | C11: =IF(B11="","",IFERROR(VLOOKUP(B11,Cylinders!$A$6:$J$105,2,FALSE),"CHECK CYLINDER")) | D11: Riley Ember (Fictional) | E11: Fictional Foxglove Studio | F11: DEMO-JOB-006 | G11: Demo Air Handler-6 | H11: Service refrigerant entry | I11: 4 | J11: 4 | K11: 0 | L11: =IF(B11="","","lb") | M11: =IF(B11="","",IFERROR(VLOOKUP(B11,Cylinders!$A$6:$J$105,5,FALSE),"")) | N11: =IF(OR(B11="",Q11="Voided"),"",IF(COUNT(J11,M11)<2,"",IFERROR(J11*M11,""))) | O11: Company | P11: In Progress | Q11: Reviewed | R11: =IF(B11="","",IFERROR(VLOOKUP(B11,Cylinders!$A$6:$J$105,4,FALSE)-SUMIFS($I$6:I11,$B$6:B11,B11,$Q$6:Q11,"<>Voided")+SUMIFS($K$6:K11,$B$6:B11,B11,$Q$6:Q11,"<>Voided"),"")) | S11: =IF(B11="","",IF(OR(A11="",D11="",Q11=""),"CHECK REQUIRED INPUTS",IF(C11="CHECK CYLINDER","CHECK CYLINDER",IF(Q11="Voided","VOIDED",IF(COUNT(I11:K11)<3,"CHECK QUANTITIES",IF(ABS(I11-J11-K11)>Assumptions!$B$7,"CHECK QUANTITIES",IF(R11<0,"CHECK NEGATIVE BALANCE",IF(R11<IFERROR(VLOOKUP(B11,Cylinders!$A$6:$J$105,4,FALSE),0)*Assumptions!$B$6,"CHECK LOW BALANCE","OK")))))))
A12: 46269 | B12: DEMO-CYL-007 | C12: =IF(B12="","",IFERROR(VLOOKUP(B12,Cylinders!$A$6:$J$105,2,FALSE),"CHECK CYLINDER")) | D12: Sam Harbor (Fictional) | E12: Fictional Granite Library | F12: DEMO-JOB-007 | G12: Demo Freezer-7 | H12: Cylinder quantity fully issued and used | I12: 15 | J12: 15 | K12: 0 | L12: =IF(B12="","","lb") | M12: =IF(B12="","",IFERROR(VLOOKUP(B12,Cylinders!$A$6:$J$105,5,FALSE),"")) | N12: =IF(OR(B12="",Q12="Voided"),"",IF(COUNT(J12,M12)<2,"",IFERROR(J12*M12,""))) | O12: Customer | P12: Complete | Q12: Reviewed | R12: =IF(B12="","",IFERROR(VLOOKUP(B12,Cylinders!$A$6:$J$105,4,FALSE)-SUMIFS($I$6:I12,$B$6:B12,B12,$Q$6:Q12,"<>Voided")+SUMIFS($K$6:K12,$B$6:B12,B12,$Q$6:Q12,"<>Voided"),"")) | S12: =IF(B12="","",IF(OR(A12="",D12="",Q12=""),"CHECK REQUIRED INPUTS",IF(C12="CHECK CYLINDER","CHECK CYLINDER",IF(Q12="Voided","VOIDED",IF(COUNT(I12:K12)<3,"CHECK QUANTITIES",IF(ABS(I12-J12-K12)>Assumptions!$B$7,"CHECK QUANTITIES",IF(R12<0,"CHECK NEGATIVE BALANCE",IF(R12<IFERROR(VLOOKUP(B12,Cylinders!$A$6:$J$105,4,FALSE),0)*Assumptions!$B$6,"CHECK LOW BALANCE","OK")))))))
A13: 46271 | B13: DEMO-CYL-008 | C13: =IF(B13="","",IFERROR(VLOOKUP(B13,Cylinders!$A$6:$J$105,2,FALSE),"CHECK CYLINDER")) | D13: Jamie Frost (Fictional) | E13: Fictional Harbor Workshop | F13: DEMO-JOB-008 | G13: Demo Mobile AC-8 | H13: Boundary quantity with return | I13: 3 | J13: 2.95 | K13: 0.05 | L13: =IF(B13="","","lb") | M13: =IF(B13="","",IFERROR(VLOOKUP(B13,Cylinders!$A$6:$J$105,5,FALSE),"")) | N13: =IF(OR(B13="",Q13="Voided"),"",IF(COUNT(J13,M13)<2,"",IFERROR(J13*M13,""))) | O13: Company | P13: Complete | Q13: Draft | R13: =IF(B13="","",IFERROR(VLOOKUP(B13,Cylinders!$A$6:$J$105,4,FALSE)-SUMIFS($I$6:I13,$B$6:B13,B13,$Q$6:Q13,"<>Voided")+SUMIFS($K$6:K13,$B$6:B13,B13,$Q$6:Q13,"<>Voided"),"")) | S13: =IF(B13="","",IF(OR(A13="",D13="",Q13=""),"CHECK REQUIRED INPUTS",IF(C13="CHECK CYLINDER","CHECK CYLINDER",IF(Q13="Voided","VOIDED",IF(COUNT(I13:K13)<3,"CHECK QUANTITIES",IF(ABS(I13-J13-K13)>Assumptions!$B$7,"CHECK QUANTITIES",IF(R13<0,"CHECK NEGATIVE BALANCE",IF(R13<IFERROR(VLOOKUP(B13,Cylinders!$A$6:$J$105,4,FALSE),0)*Assumptions!$B$6,"CHECK LOW BALANCE","OK")))))))
A14: 46273 | B14: DEMO-CYL-001 | C14: =IF(B14="","",IFERROR(VLOOKUP(B14,Cylinders!$A$6:$J$105,2,FALSE),"CHECK CYLINDER")) | D14: Alex Rowan (Fictional) | E14: Fictional Indigo Test Site | F14: DEMO-JOB-009 | G14: Demo Split-9 | H14: Additional refrigerant used | I14: 2 | J14: 2 | K14: 0 | L14: =IF(B14="","","lb") | M14: =IF(B14="","",IFERROR(VLOOKUP(B14,Cylinders!$A$6:$J$105,5,FALSE),"")) | N14: =IF(OR(B14="",Q14="Voided"),"",IF(COUNT(J14,M14)<2,"",IFERROR(J14*M14,""))) | O14: Customer | P14: Complete | Q14: Reviewed | R14: =IF(B14="","",IFERROR(VLOOKUP(B14,Cylinders!$A$6:$J$105,4,FALSE)-SUMIFS($I$6:I14,$B$6:B14,B14,$Q$6:Q14,"<>Voided")+SUMIFS($K$6:K14,$B$6:B14,B14,$Q$6:Q14,"<>Voided"),"")) | S14: =IF(B14="","",IF(OR(A14="",D14="",Q14=""),"CHECK REQUIRED INPUTS",IF(C14="CHECK CYLINDER","CHECK CYLINDER",IF(Q14="Voided","VOIDED",IF(COUNT(I14:K14)<3,"CHECK QUANTITIES",IF(ABS(I14-J14-K14)>Assumptions!$B$7,"CHECK QUANTITIES",IF(R14<0,"CHECK NEGATIVE BALANCE",IF(R14<IFERROR(VLOOKUP(B14,Cylinders!$A$6:$J$105,4,FALSE),0)*Assumptions!$B$6,"CHECK LOW BALANCE","OK")))))))
A15: 46275 | B15: DEMO-CYL-003 | C15: =IF(B15="","",IFERROR(VLOOKUP(B15,Cylinders!$A$6:$J$105,2,FALSE),"CHECK CYLINDER")) | D15: Casey North (Fictional) | E15: Fictional Juniper Retail | F15: DEMO-JOB-010 | G15: Demo RTU-10 | H15: Voided fictional test entry | I15: 1 | J15: 1 | K15: 0 | L15: =IF(B15="","","lb") | M15: =IF(B15="","",IFERROR(VLOOKUP(B15,Cylinders!$A$6:$J$105,5,FALSE),"")) | N15: =IF(OR(B15="",Q15="Voided"),"",IF(COUNT(J15,M15)<2,"",IFERROR(J15*M15,""))) | O15: Company | P15: Scheduled | Q15: Voided | R15: =IF(B15="","",IFERROR(VLOOKUP(B15,Cylinders!$A$6:$J$105,4,FALSE)-SUMIFS($I$6:I15,$B$6:B15,B15,$Q$6:Q15,"<>Voided")+SUMIFS($K$6:K15,$B$6:B15,B15,$Q$6:Q15,"<>Voided"),"")) | S15: =IF(B15="","",IF(OR(A15="",D15="",Q15=""),"CHECK REQUIRED INPUTS",IF(C15="CHECK CYLINDER","CHECK CYLINDER",IF(Q15="Voided","VOIDED",IF(COUNT(I15:K15)<3,"CHECK QUANTITIES",IF(ABS(I15-J15-K15)>Assumptions!$B$7,"CHECK QUANTITIES",IF(R15<0,"CHECK NEGATIVE BALANCE",IF(R15<IFERROR(VLOOKUP(B15,Cylinders!$A$6:$J$105,4,FALSE),0)*Assumptions!$B$6,"CHECK LOW BALANCE","OK")))))))
C16: =IF(B16="","",IFERROR(VLOOKUP(B16,Cylinders!$A$6:$J$105,2,FALSE),"CHECK CYLINDER")) | L16: =IF(B16="","","lb") | M16: =IF(B16="","",IFERROR(VLOOKUP(B16,Cylinders!$A$6:$J$105,5,FALSE),"")) | N16: =IF(OR(B16="",Q16="Voided"),"",IF(COUNT(J16,M16)<2,"",IFERROR(J16*M16,""))) | R16: =IF(B16="","",IFERROR(VLOOKUP(B16,Cylinders!$A$6:$J$105,4,FALSE)-SUMIFS($I$6:I16,$B$6:B16,B16,$Q$6:Q16,"<>Voided")+SUMIFS($K$6:K16,$B$6:B16,B16,$Q$6:Q16,"<>Voided"),"")) | S16: =IF(B16="","",IF(OR(A16="",D16="",Q16=""),"CHECK REQUIRED INPUTS",IF(C16="CHECK CYLINDER","CHECK CYLINDER",IF(Q16="Voided","VOIDED",IF(COUNT(I16:K16)<3,"CHECK QUANTITIES",IF(ABS(I16-J16-K16)>Assumptions!$B$7,"CHECK QUANTITIES",IF(R16<0,"CHECK NEGATIVE BALANCE",IF(R16<IFERROR(VLOOKUP(B16,Cylinders!$A$6:$J$105,4,FALSE),0)*Assumptions!$B$6,"CHECK LOW BALANCE","OK")))))))
C17: =IF(B17="","",IFERROR(VLOOKUP(B17,Cylinders!$A$6:$J$105,2,FALSE),"CHECK CYLINDER")) | L17: =IF(B17="","","lb") | M17: =IF(B17="","",IFERROR(VLOOKUP(B17,Cylinders!$A$6:$J$105,5,FALSE),"")) | N17: =IF(OR(B17="",Q17="Voided"),"",IF(COUNT(J17,M17)<2,"",IFERROR(J17*M17,""))) | R17: =IF(B17="","",IFERROR(VLOOKUP(B17,Cylinders!$A$6:$J$105,4,FALSE)-SUMIFS($I$6:I17,$B$6:B17,B17,$Q$6:Q17,"<>Voided")+SUMIFS($K$6:K17,$B$6:B17,B17,$Q$6:Q17,"<>Voided"),"")) | S17: =IF(B17="","",IF(OR(A17="",D17="",Q17=""),"CHECK REQUIRED INPUTS",IF(C17="CHECK CYLINDER","CHECK CYLINDER",IF(Q17="Voided","VOIDED",IF(COUNT(I17:K17)<3,"CHECK QUANTITIES",IF(ABS(I17-J17-K17)>Assumptions!$B$7,"CHECK QUANTITIES",IF(R17<0,"CHECK NEGATIVE BALANCE",IF(R17<IFERROR(VLOOKUP(B17,Cylinders!$A$6:$J$105,4,FALSE),0)*Assumptions!$B$6,"CHECK LOW BALANCE","OK")))))))
C18: =IF(B18="","",IFERROR(VLOOKUP(B18,Cylinders!$A$6:$J$105,2,FALSE),"CHECK CYLINDER")) | L18: =IF(B18="","","lb") | M18: =IF(B18="","",IFERROR(VLOOKUP(B18,Cylinders!$A$6:$J$105,5,FALSE),"")) | N18: =IF(OR(B18="",Q18="Voided"),"",IF(COUNT(J18,M18)<2,"",IFERROR(J18*M18,""))) | R18: =IF(B18="","",IFERROR(VLOOKUP(B18,Cylinders!$A$6:$J$105,4,FALSE)-SUMIFS($I$6:I18,$B$6:B18,B18,$Q$6:Q18,"<>Voided")+SUMIFS($K$6:K18,$B$6:B18,B18,$Q$6:Q18,"<>Voided"),"")) | S18: =IF(B18="","",IF(OR(A18="",D18="",Q18=""),"CHECK REQUIRED INPUTS",IF(C18="CHECK CYLINDER","CHECK CYLINDER",IF(Q18="Voided","VOIDED",IF(COUNT(I18:K18)<3,"CHECK QUANTITIES",IF(ABS(I18-J18-K18)>Assumptions!$B$7,"CHECK QUANTITIES",IF(R18<0,"CHECK NEGATIVE BALANCE",IF(R18<IFERROR(VLOOKUP(B18,Cylinders!$A$6:$J$105,4,FALSE),0)*Assumptions!$B$6,"CHECK LOW BALANCE","OK")))))))
C19: =IF(B19="","",IFERROR(VLOOKUP(B19,Cylinders!$A$6:$J$105,2,FALSE),"CHECK CYLINDER")) | L19: =IF(B19="","","lb") | M19: =IF(B19="","",IFERROR(VLOOKUP(B19,Cylinders!$A$6:$J$105,5,FALSE),"")) | N19: =IF(OR(B19="",Q19="Voided"),"",IF(COUNT(J19,M19)<2,"",IFERROR(J19*M19,""))) | R19: =IF(B19="","",IFERROR(VLOOKUP(B19,Cylinders!$A$6:$J$105,4,FALSE)-SUMIFS($I$6:I19,$B$6:B19,B19,$Q$6:Q19,"<>Voided")+SUMIFS($K$6:K19,$B$6:B19,B19,$Q$6:Q19,"<>Voided"),"")) | S19: =IF(B19="","",IF(OR(A19="",D19="",Q19=""),"CHECK REQUIRED INPUTS",IF(C19="CHECK CYLINDER","CHECK CYLINDER",IF(Q19="Voided","VOIDED",IF(COUNT(I19:K19)<3,"CHECK QUANTITIES",IF(ABS(I19-J19-K19)>Assumptions!$B$7,"CHECK QUANTITIES",IF(R19<0,"CHECK NEGATIVE BALANCE",IF(R19<IFERROR(VLOOKUP(B19,Cylinders!$A$6:$J$105,4,FALSE),0)*Assumptions!$B$6,"CHECK LOW BALANCE","OK")))))))
C20: =IF(B20="","",IFERROR(VLOOKUP(B20,Cylinders!$A$6:$J$105,2,FALSE),"CHECK CYLINDER")) | L20: =IF(B20="","","lb") | M20: =IF(B20="","",IFERROR(VLOOKUP(B20,Cylinders!$A$6:$J$105,5,FALSE),"")) | N20: =IF(OR(B20="",Q20="Voided"),"",IF(COUNT(J20,M20)<2,"",IFERROR(J20*M20,""))) | R20: =IF(B20="","",IFERROR(VLOOKUP(B20,Cylinders!$A$6:$J$105,4,FALSE)-SUMIFS($I$6:I20,$B$6:B20,B20,$Q$6:Q20,"<>Voided")+SUMIFS($K$6:K20,$B$6:B20,B20,$Q$6:Q20,"<>Voided"),"")) | S20: =IF(B20="","",IF(OR(A20="",D20="",Q20=""),"CHECK REQUIRED INPUTS",IF(C20="CHECK CYLINDER","CHECK CYLINDER",IF(Q20="Voided","VOIDED",IF(COUNT(I20:K20)<3,"CHECK QUANTITIES",IF(ABS(I20-J20-K20)>Assumptions!$B$7,"CHECK QUANTITIES",IF(R20<0,"CHECK NEGATIVE BALANCE",IF(R20<IFERROR(VLOOKUP(B20,Cylinders!$A$6:$J$105,4,FALSE),0)*Assumptions!$B$6,"CHECK LOW BALANCE","OK")))))))
C21: =IF(B21="","",IFERROR(VLOOKUP(B21,Cylinders!$A$6:$J$105,2,FALSE),"CHECK CYLINDER")) | L21: =IF(B21="","","lb") | M21: =IF(B21="","",IFERROR(VLOOKUP(B21,Cylinders!$A$6:$J$105,5,FALSE),"")) | N21: =IF(OR(B21="",Q21="Voided"),"",IF(COUNT(J21,M21)<2,"",IFERROR(J21*M21,""))) | R21: =IF(B21="","",IFERROR(VLOOKUP(B21,Cylinders!$A$6:$J$105,4,FALSE)-SUMIFS($I$6:I21,$B$6:B21,B21,$Q$6:Q21,"<>Voided")+SUMIFS($K$6:K21,$B$6:B21,B21,$Q$6:Q21,"<>Voided"),"")) | S21: =IF(B21="","",IF(OR(A21="",D21="",Q21=""),"CHECK REQUIRED INPUTS",IF(C21="CHECK CYLINDER","CHECK CYLINDER",IF(Q21="Voided","VOIDED",IF(COUNT(I21:K21)<3,"CHECK QUANTITIES",IF(ABS(I21-J21-K21)>Assumptions!$B$7,"CHECK QUANTITIES",IF(R21<0,"CHECK NEGATIVE BALANCE",IF(R21<IFERROR(VLOOKUP(B21,Cylinders!$A$6:$J$105,4,FALSE),0)*Assumptions!$B$6,"CHECK LOW BALANCE","OK")))))))
C22: =IF(B22="","",IFERROR(VLOOKUP(B22,Cylinders!$A$6:$J$105,2,FALSE),"CHECK CYLINDER")) | L22: =IF(B22="","","lb") | M22: =IF(B22="","",IFERROR(VLOOKUP(B22,Cylinders!$A$6:$J$105,5,FALSE),"")) | N22: =IF(OR(B22="",Q22="Voided"),"",IF(COUNT(J22,M22)<2,"",IFERROR(J22*M22,""))) | R22: =IF(B22="","",IFERROR(VLOOKUP(B22,Cylinders!$A$6:$J$105,4,FALSE)-SUMIFS($I$6:I22,$B$6:B22,B22,$Q$6:Q22,"<>Voided")+SUMIFS($K$6:K22,$B$6:B22,B22,$Q$6:Q22,"<>Voided"),"")) | S22: =IF(B22="","",IF(OR(A22="",D22="",Q22=""),"CHECK REQUIRED INPUTS",IF(C22="CHECK CYLINDER","CHECK CYLINDER",IF(Q22="Voided","VOIDED",IF(COUNT(I22:K22)<3,"CHECK QUANTITIES",IF(ABS(I22-J22-K22)>Assumptions!$B$7,"CHECK QUANTITIES",IF(R22<0,"CHECK NEGATIVE BALANCE",IF(R22<IFERROR(VLOOKUP(B22,Cylinders!$A$6:$J$105,4,FALSE),0)*Assumptions!$B$6,"CHECK LOW BALANCE","OK")))))))
C23: =IF(B23="","",IFERROR(VLOOKUP(B23,Cylinders!$A$6:$J$105,2,FALSE),"CHECK CYLINDER")) | L23: =IF(B23="","","lb") | M23: =IF(B23="","",IFERROR(VLOOKUP(B23,Cylinders!$A$6:$J$105,5,FALSE),"")) | N23: =IF(OR(B23="",Q23="Voided"),"",IF(COUNT(J23,M23)<2,"",IFERROR(J23*M23,""))) | R23: =IF(B23="","",IFERROR(VLOOKUP(B23,Cylinders!$A$6:$J$105,4,FALSE)-SUMIFS($I$6:I23,$B$6:B23,B23,$Q$6:Q23,"<>Voided")+SUMIFS($K$6:K23,$B$6:B23,B23,$Q$6:Q23,"<>Voided"),"")) | S23: =IF(B23="","",IF(OR(A23="",D23="",Q23=""),"CHECK REQUIRED INPUTS",IF(C23="CHECK CYLINDER","CHECK CYLINDER",IF(Q23="Voided","VOIDED",IF(COUNT(I23:K23)<3,"CHECK QUANTITIES",IF(ABS(I23-J23-K23)>Assumptions!$B$7,"CHECK QUANTITIES",IF(R23<0,"CHECK NEGATIVE BALANCE",IF(R23<IFERROR(VLOOKUP(B23,Cylinders!$A$6:$J$105,4,FALSE),0)*Assumptions!$B$6,"CHECK LOW BALANCE","OK")))))))
C24: =IF(B24="","",IFERROR(VLOOKUP(B24,Cylinders!$A$6:$J$105,2,FALSE),"CHECK CYLINDER")) | L24: =IF(B24="","","lb") | M24: =IF(B24="","",IFERROR(VLOOKUP(B24,Cylinders!$A$6:$J$105,5,FALSE),"")) | N24: =IF(OR(B24="",Q24="Voided"),"",IF(COUNT(J24,M24)<2,"",IFERROR(J24*M24,""))) | R24: =IF(B24="","",IFERROR(VLOOKUP(B24,Cylinders!$A$6:$J$105,4,FALSE)-SUMIFS($I$6:I24,$B$6:B24,B24,$Q$6:Q24,"<>Voided")+SUMIFS($K$6:K24,$B$6:B24,B24,$Q$6:Q24,"<>Voided"),"")) | S24: =IF(B24="","",IF(OR(A24="",D24="",Q24=""),"CHECK REQUIRED INPUTS",IF(C24="CHECK CYLINDER","CHECK CYLINDER",IF(Q24="Voided","VOIDED",IF(COUNT(I24:K24)<3,"CHECK QUANTITIES",IF(ABS(I24-J24-K24)>Assumptions!$B$7,"CHECK QUANTITIES",IF(R24<0,"CHECK NEGATIVE BALANCE",IF(R24<IFERROR(VLOOKUP(B24,Cylinders!$A$6:$J$105,4,FALSE),0)*Assumptions!$B$6,"CHECK LOW BALANCE","OK")))))))
C25: =IF(B25="","",IFERROR(VLOOKUP(B25,Cylinders!$A$6:$J$105,2,FALSE),"CHECK CYLINDER")) | L25: =IF(B25="","","lb") | M25: =IF(B25="","",IFERROR(VLOOKUP(B25,Cylinders!$A$6:$J$105,5,FALSE),"")) | N25: =IF(OR(B25="",Q25="Voided"),"",IF(COUNT(J25,M25)<2,"",IFERROR(J25*M25,""))) | R25: =IF(B25="","",IFERROR(VLOOKUP(B25,Cylinders!$A$6:$J$105,4,FALSE)-SUMIFS($I$6:I25,$B$6:B25,B25,$Q$6:Q25,"<>Voided")+SUMIFS($K$6:K25,$B$6:B25,B25,$Q$6:Q25,"<>Voided"),"")) | S25: =IF(B25="","",IF(OR(A25="",D25="",Q25=""),"CHECK REQUIRED INPUTS",IF(C25="CHECK CYLINDER","CHECK CYLINDER",IF(Q25="Voided","VOIDED",IF(COUNT(I25:K25)<3,"CHECK QUANTITIES",IF(ABS(I25-J25-K25)>Assumptions!$B$7,"CHECK QUANTITIES",IF(R25<0,"CHECK NEGATIVE BALANCE",IF(R25<IFERROR(VLOOKUP(B25,Cylinders!$A$6:$J$105,4,FALSE),0)*Assumptions!$B$6,"CHECK LOW BALANCE","OK")))))))
C26: =IF(B26="","",IFERROR(VLOOKUP(B26,Cylinders!$A$6:$J$105,2,FALSE),"CHECK CYLINDER")) | L26: =IF(B26="","","lb") | M26: =IF(B26="","",IFERROR(VLOOKUP(B26,Cylinders!$A$6:$J$105,5,FALSE),"")) | N26: =IF(OR(B26="",Q26="Voided"),"",IF(COUNT(J26,M26)<2,"",IFERROR(J26*M26,""))) | R26: =IF(B26="","",IFERROR(VLOOKUP(B26,Cylinders!$A$6:$J$105,4,FALSE)-SUMIFS($I$6:I26,$B$6:B26,B26,$Q$6:Q26,"<>Voided")+SUMIFS($K$6:K26,$B$6:B26,B26,$Q$6:Q26,"<>Voided"),"")) | S26: =IF(B26="","",IF(OR(A26="",D26="",Q26=""),"CHECK REQUIRED INPUTS",IF(C26="CHECK CYLINDER","CHECK CYLINDER",IF(Q26="Voided","VOIDED",IF(COUNT(I26:K26)<3,"CHECK QUANTITIES",IF(ABS(I26-J26-K26)>Assumptions!$B$7,"CHECK QUANTITIES",IF(R26<0,"CHECK NEGATIVE BALANCE",IF(R26<IFERROR(VLOOKUP(B26,Cylinders!$A$6:$J$105,4,FALSE),0)*Assumptions!$B$6,"CHECK LOW BALANCE","OK")))))))
C27: =IF(B27="","",IFERROR(VLOOKUP(B27,Cylinders!$A$6:$J$105,2,FALSE),"CHECK CYLINDER")) | L27: =IF(B27="","","lb") | M27: =IF(B27="","",IFERROR(VLOOKUP(B27,Cylinders!$A$6:$J$105,5,FALSE),"")) | N27: =IF(OR(B27="",Q27="Voided"),"",IF(COUNT(J27,M27)<2,"",IFERROR(J27*M27,""))) | R27: =IF(B27="","",IFERROR(VLOOKUP(B27,Cylinders!$A$6:$J$105,4,FALSE)-SUMIFS($I$6:I27,$B$6:B27,B27,$Q$6:Q27,"<>Voided")+SUMIFS($K$6:K27,$B$6:B27,B27,$Q$6:Q27,"<>Voided"),"")) | S27: =IF(B27="","",IF(OR(A27="",D27="",Q27=""),"CHECK REQUIRED INPUTS",IF(C27="CHECK CYLINDER","CHECK CYLINDER",IF(Q27="Voided","VOIDED",IF(COUNT(I27:K27)<3,"CHECK QUANTITIES",IF(ABS(I27-J27-K27)>Assumptions!$B$7,"CHECK QUANTITIES",IF(R27<0,"CHECK NEGATIVE BALANCE",IF(R27<IFERROR(VLOOKUP(B27,Cylinders!$A$6:$J$105,4,FALSE),0)*Assumptions!$B$6,"CHECK LOW BALANCE","OK")))))))
... C105: =IF(B105="","",IFERROR(VLOOKUP(B105,Cylinders!$A$6:$J$105,2,FALSE),"CHECK CYLINDER")) | L105: =IF(B105="","","lb") | M105: =IF(B105="","",IFERROR(VLOOKUP(B105,Cylinders!$A$6:$J$105,5,FALSE),"")) | N105: =IF(OR(B105="",Q105="Voided"),"",IF(COUNT(J105,M105)<2,"",IFERROR(J105*M105,""))) | R105: =IF(B105="","",IFERROR(VLOOKUP(B105,Cylinders!$A$6:$J$105,4,FALSE)-SUMIFS($I$6:I105,$B$6:B105,B105,$Q$6:Q105,"<>Voided")+SUMIFS($K$6:K105,$B$6:B105,B105,$Q$6:Q105,"<>Voided"),"")) | S105: =IF(B105="","",IF(OR(A105="",D105="",Q105=""),"CHECK REQUIRED INPUTS",IF(C105="CHECK CYLINDER","CHECK CYLINDER",IF(Q105="Voided","VOIDED",IF(COUNT(I105:K105)<3,"CHECK QUANTITIES",IF(ABS(I105-J105-K105)>Assumptions!$B$7,"CHECK QUANTITIES",IF(R105<0,"CHECK NEGATIVE BALANCE",IF(R105<IFERROR(VLOOKUP(B105,Cylinders!$A$6:$J$105,4,FALSE),0)*Assumptions!$B$6,"CHECK LOW BALANCE","OK")))))))

Sheet Cylinders
A1: Cylinder Records and Current Balances
A2: Opening quantity and unit cost are editable starting values for this workbook.
A3: Current quantity is calculated from non-voided Usage Log entries.
A5: Cylinder ID | B5: Refrigerant | C5: Description | D5: Opening Qty | E5: Unit Cost | F5: Cylinder Status | G5: Unit | H5: Current Qty | I5: Remaining | J5: Check
A6: DEMO-CYL-001 | B6: R-410A | C6: Demo 30 lb supply cylinder | D6: 25 | E6: 14.75 | F6: In Service | G6: =IF(A6="","","lb") | H6: =IF(A6="","",IFERROR(D6-SUMIFS('Usage Log'!$I$6:$I$105,'Usage Log'!$B$6:$B$105,A6,'Usage Log'!$Q$6:$Q$105,"<>Voided")+SUMIFS('Usage Log'!$K$6:$K$105,'Usage Log'!$B$6:$B$105,A6,'Usage Log'!$Q$6:$Q$105,"<>Voided"),"")) | I6: =IF(A6="","",IFERROR(H6/D6,"")) | J6: =IF(A6="","",IF(F6="Retired","RETIRED",IF(COUNT(D6)<1,"CHECK OPENING QTY",IF(D6<=0,"CHECK OPENING QTY",IF(H6<0,"CHECK NEGATIVE BALANCE",IF(I6<Assumptions!$B$6,"CHECK LOW BALANCE","OK"))))))
A7: DEMO-CYL-002 | B7: R-32 | C7: Demo 20 lb supply cylinder | D7: 10 | E7: 12.4 | F7: In Service | G7: =IF(A7="","","lb") | H7: =IF(A7="","",IFERROR(D7-SUMIFS('Usage Log'!$I$6:$I$105,'Usage Log'!$B$6:$B$105,A7,'Usage Log'!$Q$6:$Q$105,"<>Voided")+SUMIFS('Usage Log'!$K$6:$K$105,'Usage Log'!$B$6:$B$105,A7,'Usage Log'!$Q$6:$Q$105,"<>Voided"),"")) | I7: =IF(A7="","",IFERROR(H7/D7,"")) | J7: =IF(A7="","",IF(F7="Retired","RETIRED",IF(COUNT(D7)<1,"CHECK OPENING QTY",IF(D7<=0,"CHECK OPENING QTY",IF(H7<0,"CHECK NEGATIVE BALANCE",IF(I7<Assumptions!$B$6,"CHECK LOW BALANCE","OK"))))))
A8: DEMO-CYL-003 | B8: R-454B | C8: Demo 20 lb supply cylinder | D8: 8 | E8: 16.25 | F8: In Service | G8: =IF(A8="","","lb") | H8: =IF(A8="","",IFERROR(D8-SUMIFS('Usage Log'!$I$6:$I$105,'Usage Log'!$B$6:$B$105,A8,'Usage Log'!$Q$6:$Q$105,"<>Voided")+SUMIFS('Usage Log'!$K$6:$K$105,'Usage Log'!$B$6:$B$105,A8,'Usage Log'!$Q$6:$Q$105,"<>Voided"),"")) | I8: =IF(A8="","",IFERROR(H8/D8,"")) | J8: =IF(A8="","",IF(F8="Retired","RETIRED",IF(COUNT(D8)<1,"CHECK OPENING QTY",IF(D8<=0,"CHECK OPENING QTY",IF(H8<0,"CHECK NEGATIVE BALANCE",IF(I8<Assumptions!$B$6,"CHECK LOW BALANCE","OK"))))))
A9: DEMO-CYL-004 | B9: R-22 | C9: Demo 30 lb supply cylinder | D9: 12 | E9: 24.5 | F9: Hold | G9: =IF(A9="","","lb") | H9: =IF(A9="","",IFERROR(D9-SUMIFS('Usage Log'!$I$6:$I$105,'Usage Log'!$B$6:$B$105,A9,'Usage Log'!$Q$6:$Q$105,"<>Voided")+SUMIFS('Usage Log'!$K$6:$K$105,'Usage Log'!$B$6:$B$105,A9,'Usage Log'!$Q$6:$Q$105,"<>Voided"),"")) | I9: =IF(A9="","",IFERROR(H9/D9,"")) | J9: =IF(A9="","",IF(F9="Retired","RETIRED",IF(COUNT(D9)<1,"CHECK OPENING QTY",IF(D9<=0,"CHECK OPENING QTY",IF(H9<0,"CHECK NEGATIVE BALANCE",IF(I9<Assumptions!$B$6,"CHECK LOW BALANCE","OK"))))))
A10: DEMO-CYL-005 | B10: R-134a | C10: Demo 30 lb supply cylinder | D10: 30 | E10: 10.8 | F10: In Service | G10: =IF(A10="","","lb") | H10: =IF(A10="","",IFERROR(D10-SUMIFS('Usage Log'!$I$6:$I$105,'Usage Log'!$B$6:$B$105,A10,'Usage Log'!$Q$6:$Q$105,"<>Voided")+SUMIFS('Usage Log'!$K$6:$K$105,'Usage Log'!$B$6:$B$105,A10,'Usage Log'!$Q$6:$Q$105,"<>Voided"),"")) | I10: =IF(A10="","",IFERROR(H10/D10,"")) | J10: =IF(A10="","",IF(F10="Retired","RETIRED",IF(COUNT(D10)<1,"CHECK OPENING QTY",IF(D10<=0,"CHECK OPENING QTY",IF(H10<0,"CHECK NEGATIVE BALANCE",IF(I10<Assumptions!$B$6,"CHECK LOW BALANCE","OK"))))))
A11: DEMO-CYL-006 | B11: R-407C | C11: Demo 25 lb supply cylinder | D11: 20 | E11: 15.6 | F11: In Service | G11: =IF(A11="","","lb") | H11: =IF(A11="","",IFERROR(D11-SUMIFS('Usage Log'!$I$6:$I$105,'Usage Log'!$B$6:$B$105,A11,'Usage Log'!$Q$6:$Q$105,"<>Voided")+SUMIFS('Usage Log'!$K$6:$K$105,'Usage Log'!$B$6:$B$105,A11,'Usage Log'!$Q$6:$Q$105,"<>Voided"),"")) | I11: =IF(A11="","",IFERROR(H11/D11,"")) | J11: =IF(A11="","",IF(F11="Retired","RETIRED",IF(COUNT(D11)<1,"CHECK OPENING QTY",IF(D11<=0,"CHECK OPENING QTY",IF(H11<0,"CHECK NEGATIVE BALANCE",IF(I11<Assumptions!$B$6,"CHECK LOW BALANCE","OK"))))))
A12: DEMO-CYL-007 | B12: R-404A | C12: Demo 20 lb supply cylinder | D12: 15 | E12: 18.9 | F12: In Service | G12: =IF(A12="","","lb") | H12: =IF(A12="","",IFERROR(D12-SUMIFS('Usage Log'!$I$6:$I$105,'Usage Log'!$B$6:$B$105,A12,'Usage Log'!$Q$6:$Q$105,"<>Voided")+SUMIFS('Usage Log'!$K$6:$K$105,'Usage Log'!$B$6:$B$105,A12,'Usage Log'!$Q$6:$Q$105,"<>Voided"),"")) | I12: =IF(A12="","",IFERROR(H12/D12,"")) | J12: =IF(A12="","",IF(F12="Retired","RETIRED",IF(COUNT(D12)<1,"CHECK OPENING QTY",IF(D12<=0,"CHECK OPENING QTY",IF(H12<0,"CHECK NEGATIVE BALANCE",IF(I12<Assumptions!$B$6,"CHECK LOW BALANCE","OK"))))))
A13: DEMO-CYL-008 | B13: R-1234yf | C13: Demo 10 lb supply cylinder | D13: 10 | E13: 22.35 | F13: In Service | G13: =IF(A13="","","lb") | H13: =IF(A13="","",IFERROR(D13-SUMIFS('Usage Log'!$I$6:$I$105,'Usage Log'!$B$6:$B$105,A13,'Usage Log'!$Q$6:$Q$105,"<>Voided")+SUMIFS('Usage Log'!$K$6:$K$105,'Usage Log'!$B$6:$B$105,A13,'Usage Log'!$Q$6:$Q$105,"<>Voided"),"")) | I13: =IF(A13="","",IFERROR(H13/D13,"")) | J13: =IF(A13="","",IF(F13="Retired","RETIRED",IF(COUNT(D13)<1,"CHECK OPENING QTY",IF(D13<=0,"CHECK OPENING QTY",IF(H13<0,"CHECK NEGATIVE BALANCE",IF(I13<Assumptions!$B$6,"CHECK LOW BALANCE","OK"))))))
G14: =IF(A14="","","lb") | H14: =IF(A14="","",IFERROR(D14-SUMIFS('Usage Log'!$I$6:$I$105,'Usage Log'!$B$6:$B$105,A14,'Usage Log'!$Q$6:$Q$105,"<>Voided")+SUMIFS('Usage Log'!$K$6:$K$105,'Usage Log'!$B$6:$B$105,A14,'Usage Log'!$Q$6:$Q$105,"<>Voided"),"")) | I14: =IF(A14="","",IFERROR(H14/D14,"")) | J14: =IF(A14="","",IF(F14="Retired","RETIRED",IF(COUNT(D14)<1,"CHECK OPENING QTY",IF(D14<=0,"CHECK OPENING QTY",IF(H14<0,"CHECK NEGATIVE BALANCE",IF(I14<Assumptions!$B$6,"CHECK LOW BALANCE","OK"))))))
G15: =IF(A15="","","lb") | H15: =IF(A15="","",IFERROR(D15-SUMIFS('Usage Log'!$I$6:$I$105,'Usage Log'!$B$6:$B$105,A15,'Usage Log'!$Q$6:$Q$105,"<>Voided")+SUMIFS('Usage Log'!$K$6:$K$105,'Usage Log'!$B$6:$B$105,A15,'Usage Log'!$Q$6:$Q$105,"<>Voided"),"")) | I15: =IF(A15="","",IFERROR(H15/D15,"")) | J15: =IF(A15="","",IF(F15="Retired","RETIRED",IF(COUNT(D15)<1,"CHECK OPENING QTY",IF(D15<=0,"CHECK OPENING QTY",IF(H15<0,"CHECK NEGATIVE BALANCE",IF(I15<Assumptions!$B$6,"CHECK LOW BALANCE","OK"))))))
G16: =IF(A16="","","lb") | H16: =IF(A16="","",IFERROR(D16-SUMIFS('Usage Log'!$I$6:$I$105,'Usage Log'!$B$6:$B$105,A16,'Usage Log'!$Q$6:$Q$105,"<>Voided")+SUMIFS('Usage Log'!$K$6:$K$105,'Usage Log'!$B$6:$B$105,A16,'Usage Log'!$Q$6:$Q$105,"<>Voided"),"")) | I16: =IF(A16="","",IFERROR(H16/D16,"")) | J16: =IF(A16="","",IF(F16="Retired","RETIRED",IF(COUNT(D16)<1,"CHECK OPENING QTY",IF(D16<=0,"CHECK OPENING QTY",IF(H16<0,"CHECK NEGATIVE BALANCE",IF(I16<Assumptions!$B$6,"CHECK LOW BALANCE","OK"))))))
G17: =IF(A17="","","lb") | H17: =IF(A17="","",IFERROR(D17-SUMIFS('Usage Log'!$I$6:$I$105,'Usage Log'!$B$6:$B$105,A17,'Usage Log'!$Q$6:$Q$105,"<>Voided")+SUMIFS('Usage Log'!$K$6:$K$105,'Usage Log'!$B$6:$B$105,A17,'Usage Log'!$Q$6:$Q$105,"<>Voided"),"")) | I17: =IF(A17="","",IFERROR(H17/D17,"")) | J17: =IF(A17="","",IF(F17="Retired","RETIRED",IF(COUNT(D17)<1,"CHECK OPENING QTY",IF(D17<=0,"CHECK OPENING QTY",IF(H17<0,"CHECK NEGATIVE BALANCE",IF(I17<Assumptions!$B$6,"CHECK LOW BALANCE","OK"))))))
G18: =IF(A18="","","lb") | H18: =IF(A18="","",IFERROR(D18-SUMIFS('Usage Log'!$I$6:$I$105,'Usage Log'!$B$6:$B$105,A18,'Usage Log'!$Q$6:$Q$105,"<>Voided")+SUMIFS('Usage Log'!$K$6:$K$105,'Usage Log'!$B$6:$B$105,A18,'Usage Log'!$Q$6:$Q$105,"<>Voided"),"")) | I18: =IF(A18="","",IFERROR(H18/D18,"")) | J18: =IF(A18="","",IF(F18="Retired","RETIRED",IF(COUNT(D18)<1,"CHECK OPENING QTY",IF(D18<=0,"CHECK OPENING QTY",IF(H18<0,"CHECK NEGATIVE BALANCE",IF(I18<Assumptions!$B$6,"CHECK LOW BALANCE","OK"))))))
G19: =IF(A19="","","lb") | H19: =IF(A19="","",IFERROR(D19-SUMIFS('Usage Log'!$I$6:$I$105,'Usage Log'!$B$6:$B$105,A19,'Usage Log'!$Q$6:$Q$105,"<>Voided")+SUMIFS('Usage Log'!$K$6:$K$105,'Usage Log'!$B$6:$B$105,A19,'Usage Log'!$Q$6:$Q$105,"<>Voided"),"")) | I19: =IF(A19="","",IFERROR(H19/D19,"")) | J19: =IF(A19="","",IF(F19="Retired","RETIRED",IF(COUNT(D19)<1,"CHECK OPENING QTY",IF(D19<=0,"CHECK OPENING QTY",IF(H19<0,"CHECK NEGATIVE BALANCE",IF(I19<Assumptions!$B$6,"CHECK LOW BALANCE","OK"))))))
G20: =IF(A20="","","lb") | H20: =IF(A20="","",IFERROR(D20-SUMIFS('Usage Log'!$I$6:$I$105,'Usage Log'!$B$6:$B$105,A20,'Usage Log'!$Q$6:$Q$105,"<>Voided")+SUMIFS('Usage Log'!$K$6:$K$105,'Usage Log'!$B$6:$B$105,A20,'Usage Log'!$Q$6:$Q$105,"<>Voided"),"")) | I20: =IF(A20="","",IFERROR(H20/D20,"")) | J20: =IF(A20="","",IF(F20="Retired","RETIRED",IF(COUNT(D20)<1,"CHECK OPENING QTY",IF(D20<=0,"CHECK OPENING QTY",IF(H20<0,"CHECK NEGATIVE BALANCE",IF(I20<Assumptions!$B$6,"CHECK LOW BALANCE","OK"))))))
G21: =IF(A21="","","lb") | H21: =IF(A21="","",IFERROR(D21-SUMIFS('Usage Log'!$I$6:$I$105,'Usage Log'!$B$6:$B$105,A21,'Usage Log'!$Q$6:$Q$105,"<>Voided")+SUMIFS('Usage Log'!$K$6:$K$105,'Usage Log'!$B$6:$B$105,A21,'Usage Log'!$Q$6:$Q$105,"<>Voided"),"")) | I21: =IF(A21="","",IFERROR(H21/D21,"")) | J21: =IF(A21="","",IF(F21="Retired","RETIRED",IF(COUNT(D21)<1,"CHECK OPENING QTY",IF(D21<=0,"CHECK OPENING QTY",IF(H21<0,"CHECK NEGATIVE BALANCE",IF(I21<Assumptions!$B$6,"CHECK LOW BALANCE","OK"))))))
G22: =IF(A22="","","lb") | H22: =IF(A22="","",IFERROR(D22-SUMIFS('Usage Log'!$I$6:$I$105,'Usage Log'!$B$6:$B$105,A22,'Usage Log'!$Q$6:$Q$105,"<>Voided")+SUMIFS('Usage Log'!$K$6:$K$105,'Usage Log'!$B$6:$B$105,A22,'Usage Log'!$Q$6:$Q$105,"<>Voided"),"")) | I22: =IF(A22="","",IFERROR(H22/D22,"")) | J22: =IF(A22="","",IF(F22="Retired","RETIRED",IF(COUNT(D22)<1,"CHECK OPENING QTY",IF(D22<=0,"CHECK OPENING QTY",IF(H22<0,"CHECK NEGATIVE BALANCE",IF(I22<Assumptions!$B$6,"CHECK LOW BALANCE","OK"))))))
G23: =IF(A23="","","lb") | H23: =IF(A23="","",IFERROR(D23-SUMIFS('Usage Log'!$I$6:$I$105,'Usage Log'!$B$6:$B$105,A23,'Usage Log'!$Q$6:$Q$105,"<>Voided")+SUMIFS('Usage Log'!$K$6:$K$105,'Usage Log'!$B$6:$B$105,A23,'Usage Log'!$Q$6:$Q$105,"<>Voided"),"")) | I23: =IF(A23="","",IFERROR(H23/D23,"")) | J23: =IF(A23="","",IF(F23="Retired","RETIRED",IF(COUNT(D23)<1,"CHECK OPENING QTY",IF(D23<=0,"CHECK OPENING QTY",IF(H23<0,"CHECK NEGATIVE BALANCE",IF(I23<Assumptions!$B$6,"CHECK LOW BALANCE","OK"))))))
G24: =IF(A24="","","lb") | H24: =IF(A24="","",IFERROR(D24-SUMIFS('Usage Log'!$I$6:$I$105,'Usage Log'!$B$6:$B$105,A24,'Usage Log'!$Q$6:$Q$105,"<>Voided")+SUMIFS('Usage Log'!$K$6:$K$105,'Usage Log'!$B$6:$B$105,A24,'Usage Log'!$Q$6:$Q$105,"<>Voided"),"")) | I24: =IF(A24="","",IFERROR(H24/D24,"")) | J24: =IF(A24="","",IF(F24="Retired","RETIRED",IF(COUNT(D24)<1,"CHECK OPENING QTY",IF(D24<=0,"CHECK OPENING QTY",IF(H24<0,"CHECK NEGATIVE BALANCE",IF(I24<Assumptions!$B$6,"CHECK LOW BALANCE","OK"))))))
G25: =IF(A25="","","lb") | H25: =IF(A25="","",IFERROR(D25-SUMIFS('Usage Log'!$I$6:$I$105,'Usage Log'!$B$6:$B$105,A25,'Usage Log'!$Q$6:$Q$105,"<>Voided")+SUMIFS('Usage Log'!$K$6:$K$105,'Usage Log'!$B$6:$B$105,A25,'Usage Log'!$Q$6:$Q$105,"<>Voided"),"")) | I25: =IF(A25="","",IFERROR(H25/D25,"")) | J25: =IF(A25="","",IF(F25="Retired","RETIRED",IF(COUNT(D25)<1,"CHECK OPENING QTY",IF(D25<=0,"CHECK OPENING QTY",IF(H25<0,"CHECK NEGATIVE BALANCE",IF(I25<Assumptions!$B$6,"CHECK LOW BALANCE","OK"))))))
... G105: =IF(A105="","","lb") | H105: =IF(A105="","",IFERROR(D105-SUMIFS('Usage Log'!$I$6:$I$105,'Usage Log'!$B$6:$B$105,A105,'Usage Log'!$Q$6:$Q$105,"<>Voided")+SUMIFS('Usage Log'!$K$6:$K$105,'Usage Log'!$B$6:$B$105,A105,'Usage Log'!$Q$6:$Q$105,"<>Voided"),"")) | I105: =IF(A105="","",IFERROR(H105/D105,"")) | J105: =IF(A105="","",IF(F105="Retired","RETIRED",IF(COUNT(D105)<1,"CHECK OPENING QTY",IF(D105<=0,"CHECK OPENING QTY",IF(H105<0,"CHECK NEGATIVE BALANCE",IF(I105<Assumptions!$B$6,"CHECK LOW BALANCE","OK"))))))

Sheet Assumptions
A1: Editable Assumptions and Lists
A2: Edit limits and list choices as needed. Checks are prompts for human review.
A3: Setting | B3: Value | D3: Refrigerants | E3: Technicians | F3: Responsibility | G3: Job Status | H3: Record Status | I3: Cylinder Status
A4: Report Start | B4: 46248 | D4: R-410A | E4: Alex Rowan (Fictional) | F4: Company | G4: Scheduled | H4: Draft | I4: In Service
A5: Report End | B5: 46277 | D5: R-32 | E5: Jordan Vale (Fictional) | F5: Customer | G5: In Progress | H5: Reviewed | I5: Hold
A6: Low Balance Threshold | B6: 0.2 | D6: R-454B | E6: Casey North (Fictional) | F6: Warranty Review | G6: Complete | H6: Voided | I6: Retired
A7: Quantity Variance Tolerance | B7: 0.05 | D7: R-22 | E7: Taylor Finch (Fictional) | G7: Follow-up
A8: Earliest Entry Date | B8: 44452 | D8: R-134a | E8: Morgan Pine (Fictional)
A9: Latest Entry Date | B9: 46642 | D9: R-407C | E9: Riley Ember (Fictional)
A10: Maximum Quantity per Entry | B10: 200 | D10: R-404A | E10: Sam Harbor (Fictional)
A11: Maximum Opening Quantity | B11: 500 | D11: R-1234yf | E11: Jamie Frost (Fictional)
A12: Maximum Unit Cost | B12: 500
A14: All sample people, customers, jobs, equipment, cylinders, and transactions are fictional.
A15: Responsibility and status choices are internal record fields and do not determine compliance or legal treatment.
