Workbook

Sheet Summary
A1: HVAC Bid Comparison Summary
A2: Indicators recalculate from entered bid data. Review alerts are prompts for human judgment.
A4: Job | B4: Bid Count | C4: Lowest Normalized | D4: Average Normalized | E4: Price Spread | F4: Shortest Lead (Days) | G4: Rows to Check | H4: Overall Indicator | I4: Value
A5: =IF(Assumptions!F4="","",Assumptions!F4) | B5: =IF($A5="","",COUNTIFS('Bid Comparison'!$C$5:$C$104,$A5,'Bid Comparison'!$A$5:$A$104,"?*")) | C5: =IF(OR($A5="",$B5=0),"",IFERROR(AGGREGATE(15,6,'Bid Comparison'!$N$5:$N$104/(('Bid Comparison'!$C$5:$C$104=$A5)*('Bid Comparison'!$N$5:$N$104>0)),1),"")) | D5: =IF(OR($A5="",$B5=0),"",IFERROR(SUMIF('Bid Comparison'!$C$5:$C$104,$A5,'Bid Comparison'!$N$5:$N$104)/COUNTIFS('Bid Comparison'!$C$5:$C$104,$A5,'Bid Comparison'!$N$5:$N$104,">0"),"")) | E5: =IF(OR($A5="",$C5=""),"",IFERROR(AGGREGATE(14,6,'Bid Comparison'!$N$5:$N$104/(('Bid Comparison'!$C$5:$C$104=$A5)*('Bid Comparison'!$N$5:$N$104>0)),1)-$C5,"")) | F5: =IF(OR($A5="",$B5=0),"",IFERROR(AGGREGATE(15,6,'Bid Comparison'!$O$5:$O$104/(('Bid Comparison'!$C$5:$C$104=$A5)*('Bid Comparison'!$O$5:$O$104<>"")),1),"")) | G5: =IF($A5="","",COUNTIFS('Bid Comparison'!$C$5:$C$104,$A5,'Bid Comparison'!$S$5:$S$104,"<>Ready for comparison",'Bid Comparison'!$S$5:$S$104,"<>")) | H5: Bid rows entered | I5: =COUNTIF('Bid Comparison'!$A$5:$A$104,"?*")
A6: =IF(Assumptions!F5="","",Assumptions!F5) | B6: =IF($A6="","",COUNTIFS('Bid Comparison'!$C$5:$C$104,$A6,'Bid Comparison'!$A$5:$A$104,"?*")) | C6: =IF(OR($A6="",$B6=0),"",IFERROR(AGGREGATE(15,6,'Bid Comparison'!$N$5:$N$104/(('Bid Comparison'!$C$5:$C$104=$A6)*('Bid Comparison'!$N$5:$N$104>0)),1),"")) | D6: =IF(OR($A6="",$B6=0),"",IFERROR(SUMIF('Bid Comparison'!$C$5:$C$104,$A6,'Bid Comparison'!$N$5:$N$104)/COUNTIFS('Bid Comparison'!$C$5:$C$104,$A6,'Bid Comparison'!$N$5:$N$104,">0"),"")) | E6: =IF(OR($A6="",$C6=""),"",IFERROR(AGGREGATE(14,6,'Bid Comparison'!$N$5:$N$104/(('Bid Comparison'!$C$5:$C$104=$A6)*('Bid Comparison'!$N$5:$N$104>0)),1)-$C6,"")) | F6: =IF(OR($A6="",$B6=0),"",IFERROR(AGGREGATE(15,6,'Bid Comparison'!$O$5:$O$104/(('Bid Comparison'!$C$5:$C$104=$A6)*('Bid Comparison'!$O$5:$O$104<>"")),1),"")) | G6: =IF($A6="","",COUNTIFS('Bid Comparison'!$C$5:$C$104,$A6,'Bid Comparison'!$S$5:$S$104,"<>Ready for comparison",'Bid Comparison'!$S$5:$S$104,"<>")) | H6: Jobs with bids | I6: =COUNTIF($B$5:$B$104,">0")
A7: =IF(Assumptions!F6="","",Assumptions!F6) | B7: =IF($A7="","",COUNTIFS('Bid Comparison'!$C$5:$C$104,$A7,'Bid Comparison'!$A$5:$A$104,"?*")) | C7: =IF(OR($A7="",$B7=0),"",IFERROR(AGGREGATE(15,6,'Bid Comparison'!$N$5:$N$104/(('Bid Comparison'!$C$5:$C$104=$A7)*('Bid Comparison'!$N$5:$N$104>0)),1),"")) | D7: =IF(OR($A7="",$B7=0),"",IFERROR(SUMIF('Bid Comparison'!$C$5:$C$104,$A7,'Bid Comparison'!$N$5:$N$104)/COUNTIFS('Bid Comparison'!$C$5:$C$104,$A7,'Bid Comparison'!$N$5:$N$104,">0"),"")) | E7: =IF(OR($A7="",$C7=""),"",IFERROR(AGGREGATE(14,6,'Bid Comparison'!$N$5:$N$104/(('Bid Comparison'!$C$5:$C$104=$A7)*('Bid Comparison'!$N$5:$N$104>0)),1)-$C7,"")) | F7: =IF(OR($A7="",$B7=0),"",IFERROR(AGGREGATE(15,6,'Bid Comparison'!$O$5:$O$104/(('Bid Comparison'!$C$5:$C$104=$A7)*('Bid Comparison'!$O$5:$O$104<>"")),1),"")) | G7: =IF($A7="","",COUNTIFS('Bid Comparison'!$C$5:$C$104,$A7,'Bid Comparison'!$S$5:$S$104,"<>Ready for comparison",'Bid Comparison'!$S$5:$S$104,"<>")) | H7: Selected bids | I7: =COUNTIF('Bid Comparison'!$Q$5:$Q$104,"Selected")
A8: =IF(Assumptions!F7="","",Assumptions!F7) | B8: =IF($A8="","",COUNTIFS('Bid Comparison'!$C$5:$C$104,$A8,'Bid Comparison'!$A$5:$A$104,"?*")) | C8: =IF(OR($A8="",$B8=0),"",IFERROR(AGGREGATE(15,6,'Bid Comparison'!$N$5:$N$104/(('Bid Comparison'!$C$5:$C$104=$A8)*('Bid Comparison'!$N$5:$N$104>0)),1),"")) | D8: =IF(OR($A8="",$B8=0),"",IFERROR(SUMIF('Bid Comparison'!$C$5:$C$104,$A8,'Bid Comparison'!$N$5:$N$104)/COUNTIFS('Bid Comparison'!$C$5:$C$104,$A8,'Bid Comparison'!$N$5:$N$104,">0"),"")) | E8: =IF(OR($A8="",$C8=""),"",IFERROR(AGGREGATE(14,6,'Bid Comparison'!$N$5:$N$104/(('Bid Comparison'!$C$5:$C$104=$A8)*('Bid Comparison'!$N$5:$N$104>0)),1)-$C8,"")) | F8: =IF(OR($A8="",$B8=0),"",IFERROR(AGGREGATE(15,6,'Bid Comparison'!$O$5:$O$104/(('Bid Comparison'!$C$5:$C$104=$A8)*('Bid Comparison'!$O$5:$O$104<>"")),1),"")) | G8: =IF($A8="","",COUNTIFS('Bid Comparison'!$C$5:$C$104,$A8,'Bid Comparison'!$S$5:$S$104,"<>Ready for comparison",'Bid Comparison'!$S$5:$S$104,"<>")) | H8: Total normalized amount | I8: =IF(I5=0,"",SUM('Bid Comparison'!$N$5:$N$104))
A9: =IF(Assumptions!F8="","",Assumptions!F8) | B9: =IF($A9="","",COUNTIFS('Bid Comparison'!$C$5:$C$104,$A9,'Bid Comparison'!$A$5:$A$104,"?*")) | C9: =IF(OR($A9="",$B9=0),"",IFERROR(AGGREGATE(15,6,'Bid Comparison'!$N$5:$N$104/(('Bid Comparison'!$C$5:$C$104=$A9)*('Bid Comparison'!$N$5:$N$104>0)),1),"")) | D9: =IF(OR($A9="",$B9=0),"",IFERROR(SUMIF('Bid Comparison'!$C$5:$C$104,$A9,'Bid Comparison'!$N$5:$N$104)/COUNTIFS('Bid Comparison'!$C$5:$C$104,$A9,'Bid Comparison'!$N$5:$N$104,">0"),"")) | E9: =IF(OR($A9="",$C9=""),"",IFERROR(AGGREGATE(14,6,'Bid Comparison'!$N$5:$N$104/(('Bid Comparison'!$C$5:$C$104=$A9)*('Bid Comparison'!$N$5:$N$104>0)),1)-$C9,"")) | F9: =IF(OR($A9="",$B9=0),"",IFERROR(AGGREGATE(15,6,'Bid Comparison'!$O$5:$O$104/(('Bid Comparison'!$C$5:$C$104=$A9)*('Bid Comparison'!$O$5:$O$104<>"")),1),"")) | G9: =IF($A9="","",COUNTIFS('Bid Comparison'!$C$5:$C$104,$A9,'Bid Comparison'!$S$5:$S$104,"<>Ready for comparison",'Bid Comparison'!$S$5:$S$104,"<>")) | H9: Rows needing a check | I9: =COUNTIFS('Bid Comparison'!$A$5:$A$104,"?*",'Bid Comparison'!$S$5:$S$104,"<>Ready for comparison")
A10: =IF(Assumptions!F9="","",Assumptions!F9) | B10: =IF($A10="","",COUNTIFS('Bid Comparison'!$C$5:$C$104,$A10,'Bid Comparison'!$A$5:$A$104,"?*")) | C10: =IF(OR($A10="",$B10=0),"",IFERROR(AGGREGATE(15,6,'Bid Comparison'!$N$5:$N$104/(('Bid Comparison'!$C$5:$C$104=$A10)*('Bid Comparison'!$N$5:$N$104>0)),1),"")) | D10: =IF(OR($A10="",$B10=0),"",IFERROR(SUMIF('Bid Comparison'!$C$5:$C$104,$A10,'Bid Comparison'!$N$5:$N$104)/COUNTIFS('Bid Comparison'!$C$5:$C$104,$A10,'Bid Comparison'!$N$5:$N$104,">0"),"")) | E10: =IF(OR($A10="",$C10=""),"",IFERROR(AGGREGATE(14,6,'Bid Comparison'!$N$5:$N$104/(('Bid Comparison'!$C$5:$C$104=$A10)*('Bid Comparison'!$N$5:$N$104>0)),1)-$C10,"")) | F10: =IF(OR($A10="",$B10=0),"",IFERROR(AGGREGATE(15,6,'Bid Comparison'!$O$5:$O$104/(('Bid Comparison'!$C$5:$C$104=$A10)*('Bid Comparison'!$O$5:$O$104<>"")),1),"")) | G10: =IF($A10="","",COUNTIFS('Bid Comparison'!$C$5:$C$104,$A10,'Bid Comparison'!$S$5:$S$104,"<>Ready for comparison",'Bid Comparison'!$S$5:$S$104,"<>")) | H10: Average lead time | I10: =IFERROR(AVERAGE('Bid Comparison'!$O$5:$O$104),"")
A11: =IF(Assumptions!F10="","",Assumptions!F10) | B11: =IF($A11="","",COUNTIFS('Bid Comparison'!$C$5:$C$104,$A11,'Bid Comparison'!$A$5:$A$104,"?*")) | C11: =IF(OR($A11="",$B11=0),"",IFERROR(AGGREGATE(15,6,'Bid Comparison'!$N$5:$N$104/(('Bid Comparison'!$C$5:$C$104=$A11)*('Bid Comparison'!$N$5:$N$104>0)),1),"")) | D11: =IF(OR($A11="",$B11=0),"",IFERROR(SUMIF('Bid Comparison'!$C$5:$C$104,$A11,'Bid Comparison'!$N$5:$N$104)/COUNTIFS('Bid Comparison'!$C$5:$C$104,$A11,'Bid Comparison'!$N$5:$N$104,">0"),"")) | E11: =IF(OR($A11="",$C11=""),"",IFERROR(AGGREGATE(14,6,'Bid Comparison'!$N$5:$N$104/(('Bid Comparison'!$C$5:$C$104=$A11)*('Bid Comparison'!$N$5:$N$104>0)),1)-$C11,"")) | F11: =IF(OR($A11="",$B11=0),"",IFERROR(AGGREGATE(15,6,'Bid Comparison'!$O$5:$O$104/(('Bid Comparison'!$C$5:$C$104=$A11)*('Bid Comparison'!$O$5:$O$104<>"")),1),"")) | G11: =IF($A11="","",COUNTIFS('Bid Comparison'!$C$5:$C$104,$A11,'Bid Comparison'!$S$5:$S$104,"<>Ready for comparison",'Bid Comparison'!$S$5:$S$104,"<>"))
A12: =IF(Assumptions!F11="","",Assumptions!F11) | B12: =IF($A12="","",COUNTIFS('Bid Comparison'!$C$5:$C$104,$A12,'Bid Comparison'!$A$5:$A$104,"?*")) | C12: =IF(OR($A12="",$B12=0),"",IFERROR(AGGREGATE(15,6,'Bid Comparison'!$N$5:$N$104/(('Bid Comparison'!$C$5:$C$104=$A12)*('Bid Comparison'!$N$5:$N$104>0)),1),"")) | D12: =IF(OR($A12="",$B12=0),"",IFERROR(SUMIF('Bid Comparison'!$C$5:$C$104,$A12,'Bid Comparison'!$N$5:$N$104)/COUNTIFS('Bid Comparison'!$C$5:$C$104,$A12,'Bid Comparison'!$N$5:$N$104,">0"),"")) | E12: =IF(OR($A12="",$C12=""),"",IFERROR(AGGREGATE(14,6,'Bid Comparison'!$N$5:$N$104/(('Bid Comparison'!$C$5:$C$104=$A12)*('Bid Comparison'!$N$5:$N$104>0)),1)-$C12,"")) | F12: =IF(OR($A12="",$B12=0),"",IFERROR(AGGREGATE(15,6,'Bid Comparison'!$O$5:$O$104/(('Bid Comparison'!$C$5:$C$104=$A12)*('Bid Comparison'!$O$5:$O$104<>"")),1),"")) | G12: =IF($A12="","",COUNTIFS('Bid Comparison'!$C$5:$C$104,$A12,'Bid Comparison'!$S$5:$S$104,"<>Ready for comparison",'Bid Comparison'!$S$5:$S$104,"<>"))
A13: =IF(Assumptions!F12="","",Assumptions!F12) | B13: =IF($A13="","",COUNTIFS('Bid Comparison'!$C$5:$C$104,$A13,'Bid Comparison'!$A$5:$A$104,"?*")) | C13: =IF(OR($A13="",$B13=0),"",IFERROR(AGGREGATE(15,6,'Bid Comparison'!$N$5:$N$104/(('Bid Comparison'!$C$5:$C$104=$A13)*('Bid Comparison'!$N$5:$N$104>0)),1),"")) | D13: =IF(OR($A13="",$B13=0),"",IFERROR(SUMIF('Bid Comparison'!$C$5:$C$104,$A13,'Bid Comparison'!$N$5:$N$104)/COUNTIFS('Bid Comparison'!$C$5:$C$104,$A13,'Bid Comparison'!$N$5:$N$104,">0"),"")) | E13: =IF(OR($A13="",$C13=""),"",IFERROR(AGGREGATE(14,6,'Bid Comparison'!$N$5:$N$104/(('Bid Comparison'!$C$5:$C$104=$A13)*('Bid Comparison'!$N$5:$N$104>0)),1)-$C13,"")) | F13: =IF(OR($A13="",$B13=0),"",IFERROR(AGGREGATE(15,6,'Bid Comparison'!$O$5:$O$104/(('Bid Comparison'!$C$5:$C$104=$A13)*('Bid Comparison'!$O$5:$O$104<>"")),1),"")) | G13: =IF($A13="","",COUNTIFS('Bid Comparison'!$C$5:$C$104,$A13,'Bid Comparison'!$S$5:$S$104,"<>Ready for comparison",'Bid Comparison'!$S$5:$S$104,"<>"))
A14: =IF(Assumptions!F13="","",Assumptions!F13) | B14: =IF($A14="","",COUNTIFS('Bid Comparison'!$C$5:$C$104,$A14,'Bid Comparison'!$A$5:$A$104,"?*")) | C14: =IF(OR($A14="",$B14=0),"",IFERROR(AGGREGATE(15,6,'Bid Comparison'!$N$5:$N$104/(('Bid Comparison'!$C$5:$C$104=$A14)*('Bid Comparison'!$N$5:$N$104>0)),1),"")) | D14: =IF(OR($A14="",$B14=0),"",IFERROR(SUMIF('Bid Comparison'!$C$5:$C$104,$A14,'Bid Comparison'!$N$5:$N$104)/COUNTIFS('Bid Comparison'!$C$5:$C$104,$A14,'Bid Comparison'!$N$5:$N$104,">0"),"")) | E14: =IF(OR($A14="",$C14=""),"",IFERROR(AGGREGATE(14,6,'Bid Comparison'!$N$5:$N$104/(('Bid Comparison'!$C$5:$C$104=$A14)*('Bid Comparison'!$N$5:$N$104>0)),1)-$C14,"")) | F14: =IF(OR($A14="",$B14=0),"",IFERROR(AGGREGATE(15,6,'Bid Comparison'!$O$5:$O$104/(('Bid Comparison'!$C$5:$C$104=$A14)*('Bid Comparison'!$O$5:$O$104<>"")),1),"")) | G14: =IF($A14="","",COUNTIFS('Bid Comparison'!$C$5:$C$104,$A14,'Bid Comparison'!$S$5:$S$104,"<>Ready for comparison",'Bid Comparison'!$S$5:$S$104,"<>"))
A15: =IF(Assumptions!F14="","",Assumptions!F14) | B15: =IF($A15="","",COUNTIFS('Bid Comparison'!$C$5:$C$104,$A15,'Bid Comparison'!$A$5:$A$104,"?*")) | C15: =IF(OR($A15="",$B15=0),"",IFERROR(AGGREGATE(15,6,'Bid Comparison'!$N$5:$N$104/(('Bid Comparison'!$C$5:$C$104=$A15)*('Bid Comparison'!$N$5:$N$104>0)),1),"")) | D15: =IF(OR($A15="",$B15=0),"",IFERROR(SUMIF('Bid Comparison'!$C$5:$C$104,$A15,'Bid Comparison'!$N$5:$N$104)/COUNTIFS('Bid Comparison'!$C$5:$C$104,$A15,'Bid Comparison'!$N$5:$N$104,">0"),"")) | E15: =IF(OR($A15="",$C15=""),"",IFERROR(AGGREGATE(14,6,'Bid Comparison'!$N$5:$N$104/(('Bid Comparison'!$C$5:$C$104=$A15)*('Bid Comparison'!$N$5:$N$104>0)),1)-$C15,"")) | F15: =IF(OR($A15="",$B15=0),"",IFERROR(AGGREGATE(15,6,'Bid Comparison'!$O$5:$O$104/(('Bid Comparison'!$C$5:$C$104=$A15)*('Bid Comparison'!$O$5:$O$104<>"")),1),"")) | G15: =IF($A15="","",COUNTIFS('Bid Comparison'!$C$5:$C$104,$A15,'Bid Comparison'!$S$5:$S$104,"<>Ready for comparison",'Bid Comparison'!$S$5:$S$104,"<>"))
A16: =IF(Assumptions!F15="","",Assumptions!F15) | B16: =IF($A16="","",COUNTIFS('Bid Comparison'!$C$5:$C$104,$A16,'Bid Comparison'!$A$5:$A$104,"?*")) | C16: =IF(OR($A16="",$B16=0),"",IFERROR(AGGREGATE(15,6,'Bid Comparison'!$N$5:$N$104/(('Bid Comparison'!$C$5:$C$104=$A16)*('Bid Comparison'!$N$5:$N$104>0)),1),"")) | D16: =IF(OR($A16="",$B16=0),"",IFERROR(SUMIF('Bid Comparison'!$C$5:$C$104,$A16,'Bid Comparison'!$N$5:$N$104)/COUNTIFS('Bid Comparison'!$C$5:$C$104,$A16,'Bid Comparison'!$N$5:$N$104,">0"),"")) | E16: =IF(OR($A16="",$C16=""),"",IFERROR(AGGREGATE(14,6,'Bid Comparison'!$N$5:$N$104/(('Bid Comparison'!$C$5:$C$104=$A16)*('Bid Comparison'!$N$5:$N$104>0)),1)-$C16,"")) | F16: =IF(OR($A16="",$B16=0),"",IFERROR(AGGREGATE(15,6,'Bid Comparison'!$O$5:$O$104/(('Bid Comparison'!$C$5:$C$104=$A16)*('Bid Comparison'!$O$5:$O$104<>"")),1),"")) | G16: =IF($A16="","",COUNTIFS('Bid Comparison'!$C$5:$C$104,$A16,'Bid Comparison'!$S$5:$S$104,"<>Ready for comparison",'Bid Comparison'!$S$5:$S$104,"<>"))
A17: =IF(Assumptions!F16="","",Assumptions!F16) | B17: =IF($A17="","",COUNTIFS('Bid Comparison'!$C$5:$C$104,$A17,'Bid Comparison'!$A$5:$A$104,"?*")) | C17: =IF(OR($A17="",$B17=0),"",IFERROR(AGGREGATE(15,6,'Bid Comparison'!$N$5:$N$104/(('Bid Comparison'!$C$5:$C$104=$A17)*('Bid Comparison'!$N$5:$N$104>0)),1),"")) | D17: =IF(OR($A17="",$B17=0),"",IFERROR(SUMIF('Bid Comparison'!$C$5:$C$104,$A17,'Bid Comparison'!$N$5:$N$104)/COUNTIFS('Bid Comparison'!$C$5:$C$104,$A17,'Bid Comparison'!$N$5:$N$104,">0"),"")) | E17: =IF(OR($A17="",$C17=""),"",IFERROR(AGGREGATE(14,6,'Bid Comparison'!$N$5:$N$104/(('Bid Comparison'!$C$5:$C$104=$A17)*('Bid Comparison'!$N$5:$N$104>0)),1)-$C17,"")) | F17: =IF(OR($A17="",$B17=0),"",IFERROR(AGGREGATE(15,6,'Bid Comparison'!$O$5:$O$104/(('Bid Comparison'!$C$5:$C$104=$A17)*('Bid Comparison'!$O$5:$O$104<>"")),1),"")) | G17: =IF($A17="","",COUNTIFS('Bid Comparison'!$C$5:$C$104,$A17,'Bid Comparison'!$S$5:$S$104,"<>Ready for comparison",'Bid Comparison'!$S$5:$S$104,"<>"))
A18: =IF(Assumptions!F17="","",Assumptions!F17) | B18: =IF($A18="","",COUNTIFS('Bid Comparison'!$C$5:$C$104,$A18,'Bid Comparison'!$A$5:$A$104,"?*")) | C18: =IF(OR($A18="",$B18=0),"",IFERROR(AGGREGATE(15,6,'Bid Comparison'!$N$5:$N$104/(('Bid Comparison'!$C$5:$C$104=$A18)*('Bid Comparison'!$N$5:$N$104>0)),1),"")) | D18: =IF(OR($A18="",$B18=0),"",IFERROR(SUMIF('Bid Comparison'!$C$5:$C$104,$A18,'Bid Comparison'!$N$5:$N$104)/COUNTIFS('Bid Comparison'!$C$5:$C$104,$A18,'Bid Comparison'!$N$5:$N$104,">0"),"")) | E18: =IF(OR($A18="",$C18=""),"",IFERROR(AGGREGATE(14,6,'Bid Comparison'!$N$5:$N$104/(('Bid Comparison'!$C$5:$C$104=$A18)*('Bid Comparison'!$N$5:$N$104>0)),1)-$C18,"")) | F18: =IF(OR($A18="",$B18=0),"",IFERROR(AGGREGATE(15,6,'Bid Comparison'!$O$5:$O$104/(('Bid Comparison'!$C$5:$C$104=$A18)*('Bid Comparison'!$O$5:$O$104<>"")),1),"")) | G18: =IF($A18="","",COUNTIFS('Bid Comparison'!$C$5:$C$104,$A18,'Bid Comparison'!$S$5:$S$104,"<>Ready for comparison",'Bid Comparison'!$S$5:$S$104,"<>"))
A19: =IF(Assumptions!F18="","",Assumptions!F18) | B19: =IF($A19="","",COUNTIFS('Bid Comparison'!$C$5:$C$104,$A19,'Bid Comparison'!$A$5:$A$104,"?*")) | C19: =IF(OR($A19="",$B19=0),"",IFERROR(AGGREGATE(15,6,'Bid Comparison'!$N$5:$N$104/(('Bid Comparison'!$C$5:$C$104=$A19)*('Bid Comparison'!$N$5:$N$104>0)),1),"")) | D19: =IF(OR($A19="",$B19=0),"",IFERROR(SUMIF('Bid Comparison'!$C$5:$C$104,$A19,'Bid Comparison'!$N$5:$N$104)/COUNTIFS('Bid Comparison'!$C$5:$C$104,$A19,'Bid Comparison'!$N$5:$N$104,">0"),"")) | E19: =IF(OR($A19="",$C19=""),"",IFERROR(AGGREGATE(14,6,'Bid Comparison'!$N$5:$N$104/(('Bid Comparison'!$C$5:$C$104=$A19)*('Bid Comparison'!$N$5:$N$104>0)),1)-$C19,"")) | F19: =IF(OR($A19="",$B19=0),"",IFERROR(AGGREGATE(15,6,'Bid Comparison'!$O$5:$O$104/(('Bid Comparison'!$C$5:$C$104=$A19)*('Bid Comparison'!$O$5:$O$104<>"")),1),"")) | G19: =IF($A19="","",COUNTIFS('Bid Comparison'!$C$5:$C$104,$A19,'Bid Comparison'!$S$5:$S$104,"<>Ready for comparison",'Bid Comparison'!$S$5:$S$104,"<>"))
A20: =IF(Assumptions!F19="","",Assumptions!F19) | B20: =IF($A20="","",COUNTIFS('Bid Comparison'!$C$5:$C$104,$A20,'Bid Comparison'!$A$5:$A$104,"?*")) | C20: =IF(OR($A20="",$B20=0),"",IFERROR(AGGREGATE(15,6,'Bid Comparison'!$N$5:$N$104/(('Bid Comparison'!$C$5:$C$104=$A20)*('Bid Comparison'!$N$5:$N$104>0)),1),"")) | D20: =IF(OR($A20="",$B20=0),"",IFERROR(SUMIF('Bid Comparison'!$C$5:$C$104,$A20,'Bid Comparison'!$N$5:$N$104)/COUNTIFS('Bid Comparison'!$C$5:$C$104,$A20,'Bid Comparison'!$N$5:$N$104,">0"),"")) | E20: =IF(OR($A20="",$C20=""),"",IFERROR(AGGREGATE(14,6,'Bid Comparison'!$N$5:$N$104/(('Bid Comparison'!$C$5:$C$104=$A20)*('Bid Comparison'!$N$5:$N$104>0)),1)-$C20,"")) | F20: =IF(OR($A20="",$B20=0),"",IFERROR(AGGREGATE(15,6,'Bid Comparison'!$O$5:$O$104/(('Bid Comparison'!$C$5:$C$104=$A20)*('Bid Comparison'!$O$5:$O$104<>"")),1),"")) | G20: =IF($A20="","",COUNTIFS('Bid Comparison'!$C$5:$C$104,$A20,'Bid Comparison'!$S$5:$S$104,"<>Ready for comparison",'Bid Comparison'!$S$5:$S$104,"<>"))
A21: =IF(Assumptions!F20="","",Assumptions!F20) | B21: =IF($A21="","",COUNTIFS('Bid Comparison'!$C$5:$C$104,$A21,'Bid Comparison'!$A$5:$A$104,"?*")) | C21: =IF(OR($A21="",$B21=0),"",IFERROR(AGGREGATE(15,6,'Bid Comparison'!$N$5:$N$104/(('Bid Comparison'!$C$5:$C$104=$A21)*('Bid Comparison'!$N$5:$N$104>0)),1),"")) | D21: =IF(OR($A21="",$B21=0),"",IFERROR(SUMIF('Bid Comparison'!$C$5:$C$104,$A21,'Bid Comparison'!$N$5:$N$104)/COUNTIFS('Bid Comparison'!$C$5:$C$104,$A21,'Bid Comparison'!$N$5:$N$104,">0"),"")) | E21: =IF(OR($A21="",$C21=""),"",IFERROR(AGGREGATE(14,6,'Bid Comparison'!$N$5:$N$104/(('Bid Comparison'!$C$5:$C$104=$A21)*('Bid Comparison'!$N$5:$N$104>0)),1)-$C21,"")) | F21: =IF(OR($A21="",$B21=0),"",IFERROR(AGGREGATE(15,6,'Bid Comparison'!$O$5:$O$104/(('Bid Comparison'!$C$5:$C$104=$A21)*('Bid Comparison'!$O$5:$O$104<>"")),1),"")) | G21: =IF($A21="","",COUNTIFS('Bid Comparison'!$C$5:$C$104,$A21,'Bid Comparison'!$S$5:$S$104,"<>Ready for comparison",'Bid Comparison'!$S$5:$S$104,"<>"))
A22: =IF(Assumptions!F21="","",Assumptions!F21) | B22: =IF($A22="","",COUNTIFS('Bid Comparison'!$C$5:$C$104,$A22,'Bid Comparison'!$A$5:$A$104,"?*")) | C22: =IF(OR($A22="",$B22=0),"",IFERROR(AGGREGATE(15,6,'Bid Comparison'!$N$5:$N$104/(('Bid Comparison'!$C$5:$C$104=$A22)*('Bid Comparison'!$N$5:$N$104>0)),1),"")) | D22: =IF(OR($A22="",$B22=0),"",IFERROR(SUMIF('Bid Comparison'!$C$5:$C$104,$A22,'Bid Comparison'!$N$5:$N$104)/COUNTIFS('Bid Comparison'!$C$5:$C$104,$A22,'Bid Comparison'!$N$5:$N$104,">0"),"")) | E22: =IF(OR($A22="",$C22=""),"",IFERROR(AGGREGATE(14,6,'Bid Comparison'!$N$5:$N$104/(('Bid Comparison'!$C$5:$C$104=$A22)*('Bid Comparison'!$N$5:$N$104>0)),1)-$C22,"")) | F22: =IF(OR($A22="",$B22=0),"",IFERROR(AGGREGATE(15,6,'Bid Comparison'!$O$5:$O$104/(('Bid Comparison'!$C$5:$C$104=$A22)*('Bid Comparison'!$O$5:$O$104<>"")),1),"")) | G22: =IF($A22="","",COUNTIFS('Bid Comparison'!$C$5:$C$104,$A22,'Bid Comparison'!$S$5:$S$104,"<>Ready for comparison",'Bid Comparison'!$S$5:$S$104,"<>"))
... A104: =IF(Assumptions!F103="","",Assumptions!F103) | B104: =IF($A104="","",COUNTIFS('Bid Comparison'!$C$5:$C$104,$A104,'Bid Comparison'!$A$5:$A$104,"?*")) | C104: =IF(OR($A104="",$B104=0),"",IFERROR(AGGREGATE(15,6,'Bid Comparison'!$N$5:$N$104/(('Bid Comparison'!$C$5:$C$104=$A104)*('Bid Comparison'!$N$5:$N$104>0)),1),"")) | D104: =IF(OR($A104="",$B104=0),"",IFERROR(SUMIF('Bid Comparison'!$C$5:$C$104,$A104,'Bid Comparison'!$N$5:$N$104)/COUNTIFS('Bid Comparison'!$C$5:$C$104,$A104,'Bid Comparison'!$N$5:$N$104,">0"),"")) | E104: =IF(OR($A104="",$C104=""),"",IFERROR(AGGREGATE(14,6,'Bid Comparison'!$N$5:$N$104/(('Bid Comparison'!$C$5:$C$104=$A104)*('Bid Comparison'!$N$5:$N$104>0)),1)-$C104,"")) | F104: =IF(OR($A104="",$B104=0),"",IFERROR(AGGREGATE(15,6,'Bid Comparison'!$O$5:$O$104/(('Bid Comparison'!$C$5:$C$104=$A104)*('Bid Comparison'!$O$5:$O$104<>"")),1),"")) | G104: =IF($A104="","",COUNTIFS('Bid Comparison'!$C$5:$C$104,$A104,'Bid Comparison'!$S$5:$S$104,"<>Ready for comparison",'Bid Comparison'!$S$5:$S$104,"<>"))

Sheet Bid Comparison
A1: HVAC Bid Comparison
A2: Enter one row per bid. Use zero for known no-cost adjustments or allowances; orange cells are editable.
A4: Bid Reference | B4: Customer | C4: Job | D4: Bidder | E4: Bid Date | F4: Equipment | G4: Quantity | H4: Unit | I4: Description / Key Exclusions | J4: Labor Hours | K4: Bid Price | L4: Scope Adjustment | M4: Exclusion Allowance | N4: Normalized Total | O4: Lead Time (Days) | P4: Responsibility | Q4: Status | R4: Difference from Lowest | S4: Review Alert
A5: FICTIONAL-BID-001 | B5: Harbor Lantern Clinic (Fictional) | C5: Fictional Harbor Clinic RTU Renewal | D5: Northstar Air Supply (Fictional) | E5: 46270 | F5: 12.5-ton rooftop unit | G5: 1 | H5: each | I5: RTU, curb adapter, economizer, and start-up; controls by contractor. | J5: 68 | K5: 48250 | L5: 1500 | M5: 0 | N5: =IF(OR(K5="",L5="",M5=""),"",IFERROR(SUM(K5:M5),"")) | O5: 28 | P5: Contractor | Q5: Shortlisted | R5: =IF(OR(C5="",N5=""),"",IFERROR(N5-AGGREGATE(15,6,$N$5:$N$104/(($C$5:$C$104=C5)*($N$5:$N$104>0)),1),"")) | S5: =IF(COUNTA(A5:M5,O5:Q5)=0,"",IF(A5="","Enter bid reference",IF(COUNTIF($A$5:$A$104,A5)>1,"Check duplicate bid reference",IF(B5="","Enter customer",IF(C5="","Enter job",IF(COUNTIFS($C$5:$C$104,C5,$B$5:$B$104,"<>"&B5)>0,"Check customer consistency",IF(D5="","Enter bidder",IF(COUNTIFS($C$5:$C$104,C5,$D$5:$D$104,D5)>1,"Check duplicate bidder for job",IF(E5="","Enter bid date",IF(F5="","Enter equipment",IF(G5="","Enter quantity",IF(H5="","Select unit",IF(I5="","Enter scope description",IF(J5="","Enter labor hours",IF(K5="","Enter bid price",IF(K5<=0,"Check bid price",IF(L5="","Enter scope adjustment",IF(M5="","Enter exclusion allowance",IF(N5<=0,"Check normalized total",IF(O5="","Enter lead time",IF(P5="","Assign responsibility",IF(Q5="","Set status",IF(AND(Q5="Selected",COUNTIFS($C$5:$C$104,C5,$Q$5:$Q$104,"Selected")>1),"Check multiple selected bids",IF(O5>Assumptions!$B$4,"Check lead time",IF(IFERROR(TODAY()-E5,0)>Assumptions!$B$5,"Check bid age",IF(IFERROR(ABS(SUM(L5:M5))/K5,0)>Assumptions!$B$6,"Check adjustments",IF(Q5="Clarification Needed","Follow up on clarification",IF(Q5="Received","Review received bid","Ready for comparison"))))))))))))))))))))))))))))
A6: FICTIONAL-BID-002 | B6: Harbor Lantern Clinic (Fictional) | C6: Fictional Harbor Clinic RTU Renewal | D6: Copper Finch Mechanical (Fictional) | E6: 46272 | F6: 12.5-ton rooftop unit | G6: 1 | H6: each | I6: RTU and crane included; curb adapter and controls excluded. | J6: 72 | K6: 46800 | L6: 3900 | M6: 1200 | N6: =IF(OR(K6="",L6="",M6=""),"",IFERROR(SUM(K6:M6),"")) | O6: 42 | P6: Shared | Q6: Under Review | R6: =IF(OR(C6="",N6=""),"",IFERROR(N6-AGGREGATE(15,6,$N$5:$N$104/(($C$5:$C$104=C6)*($N$5:$N$104>0)),1),"")) | S6: =IF(COUNTA(A6:M6,O6:Q6)=0,"",IF(A6="","Enter bid reference",IF(COUNTIF($A$5:$A$104,A6)>1,"Check duplicate bid reference",IF(B6="","Enter customer",IF(C6="","Enter job",IF(COUNTIFS($C$5:$C$104,C6,$B$5:$B$104,"<>"&B6)>0,"Check customer consistency",IF(D6="","Enter bidder",IF(COUNTIFS($C$5:$C$104,C6,$D$5:$D$104,D6)>1,"Check duplicate bidder for job",IF(E6="","Enter bid date",IF(F6="","Enter equipment",IF(G6="","Enter quantity",IF(H6="","Select unit",IF(I6="","Enter scope description",IF(J6="","Enter labor hours",IF(K6="","Enter bid price",IF(K6<=0,"Check bid price",IF(L6="","Enter scope adjustment",IF(M6="","Enter exclusion allowance",IF(N6<=0,"Check normalized total",IF(O6="","Enter lead time",IF(P6="","Assign responsibility",IF(Q6="","Set status",IF(AND(Q6="Selected",COUNTIFS($C$5:$C$104,C6,$Q$5:$Q$104,"Selected")>1),"Check multiple selected bids",IF(O6>Assumptions!$B$4,"Check lead time",IF(IFERROR(TODAY()-E6,0)>Assumptions!$B$5,"Check bid age",IF(IFERROR(ABS(SUM(L6:M6))/K6,0)>Assumptions!$B$6,"Check adjustments",IF(Q6="Clarification Needed","Follow up on clarification",IF(Q6="Received","Review received bid","Ready for comparison"))))))))))))))))))))))))))))
A7: FICTIONAL-BID-003 | B7: Harbor Lantern Clinic (Fictional) | C7: Fictional Harbor Clinic RTU Renewal | D7: Blue Kestrel HVAC (Fictional) | E7: 46265 | F7: 12.5-ton rooftop unit | G7: 1 | H7: each | I7: Complete listed replacement scope with standard start-up. | J7: 74 | K7: 50600 | L7: 0 | M7: 0 | N7: =IF(OR(K7="",L7="",M7=""),"",IFERROR(SUM(K7:M7),"")) | O7: 24 | P7: Bidder | Q7: Selected | R7: =IF(OR(C7="",N7=""),"",IFERROR(N7-AGGREGATE(15,6,$N$5:$N$104/(($C$5:$C$104=C7)*($N$5:$N$104>0)),1),"")) | S7: =IF(COUNTA(A7:M7,O7:Q7)=0,"",IF(A7="","Enter bid reference",IF(COUNTIF($A$5:$A$104,A7)>1,"Check duplicate bid reference",IF(B7="","Enter customer",IF(C7="","Enter job",IF(COUNTIFS($C$5:$C$104,C7,$B$5:$B$104,"<>"&B7)>0,"Check customer consistency",IF(D7="","Enter bidder",IF(COUNTIFS($C$5:$C$104,C7,$D$5:$D$104,D7)>1,"Check duplicate bidder for job",IF(E7="","Enter bid date",IF(F7="","Enter equipment",IF(G7="","Enter quantity",IF(H7="","Select unit",IF(I7="","Enter scope description",IF(J7="","Enter labor hours",IF(K7="","Enter bid price",IF(K7<=0,"Check bid price",IF(L7="","Enter scope adjustment",IF(M7="","Enter exclusion allowance",IF(N7<=0,"Check normalized total",IF(O7="","Enter lead time",IF(P7="","Assign responsibility",IF(Q7="","Set status",IF(AND(Q7="Selected",COUNTIFS($C$5:$C$104,C7,$Q$5:$Q$104,"Selected")>1),"Check multiple selected bids",IF(O7>Assumptions!$B$4,"Check lead time",IF(IFERROR(TODAY()-E7,0)>Assumptions!$B$5,"Check bid age",IF(IFERROR(ABS(SUM(L7:M7))/K7,0)>Assumptions!$B$6,"Check adjustments",IF(Q7="Clarification Needed","Follow up on clarification",IF(Q7="Received","Review received bid","Ready for comparison"))))))))))))))))))))))))))))
A8: FICTIONAL-BID-004 | B8: Mesa Story Library (Fictional) | C8: Fictional Mesa Library Heat Pump Retrofit | D8: Paper Kite Climate Supply (Fictional) | E8: 46268 | F8: Variable-speed heat pump system | G8: 4 | H8: each | I8: Indoor and outdoor equipment; controls and crane excluded. | J8: 156 | K8: 82400 | L8: 8000 | M8: 2500 | N8: =IF(OR(K8="",L8="",M8=""),"",IFERROR(SUM(K8:M8),"")) | O8: 70 | P8: Contractor | Q8: Under Review | R8: =IF(OR(C8="",N8=""),"",IFERROR(N8-AGGREGATE(15,6,$N$5:$N$104/(($C$5:$C$104=C8)*($N$5:$N$104>0)),1),"")) | S8: =IF(COUNTA(A8:M8,O8:Q8)=0,"",IF(A8="","Enter bid reference",IF(COUNTIF($A$5:$A$104,A8)>1,"Check duplicate bid reference",IF(B8="","Enter customer",IF(C8="","Enter job",IF(COUNTIFS($C$5:$C$104,C8,$B$5:$B$104,"<>"&B8)>0,"Check customer consistency",IF(D8="","Enter bidder",IF(COUNTIFS($C$5:$C$104,C8,$D$5:$D$104,D8)>1,"Check duplicate bidder for job",IF(E8="","Enter bid date",IF(F8="","Enter equipment",IF(G8="","Enter quantity",IF(H8="","Select unit",IF(I8="","Enter scope description",IF(J8="","Enter labor hours",IF(K8="","Enter bid price",IF(K8<=0,"Check bid price",IF(L8="","Enter scope adjustment",IF(M8="","Enter exclusion allowance",IF(N8<=0,"Check normalized total",IF(O8="","Enter lead time",IF(P8="","Assign responsibility",IF(Q8="","Set status",IF(AND(Q8="Selected",COUNTIFS($C$5:$C$104,C8,$Q$5:$Q$104,"Selected")>1),"Check multiple selected bids",IF(O8>Assumptions!$B$4,"Check lead time",IF(IFERROR(TODAY()-E8,0)>Assumptions!$B$5,"Check bid age",IF(IFERROR(ABS(SUM(L8:M8))/K8,0)>Assumptions!$B$6,"Check adjustments",IF(Q8="Clarification Needed","Follow up on clarification",IF(Q8="Received","Review received bid","Ready for comparison"))))))))))))))))))))))))))))
A9: FICTIONAL-BID-005 | B9: Mesa Story Library (Fictional) | C9: Fictional Mesa Library Heat Pump Retrofit | D9: Juniper Moon Mechanical (Fictional) | E9: 46262 | F9: Variable-speed heat pump system | G9: 4 | H9: each | I9: Equipment, controls, refrigerant piping, and start-up included. | J9: 168 | K9: 89300 | L9: 1500 | M9: 0 | N9: =IF(OR(K9="",L9="",M9=""),"",IFERROR(SUM(K9:M9),"")) | O9: 50 | P9: Bidder | Q9: Shortlisted | R9: =IF(OR(C9="",N9=""),"",IFERROR(N9-AGGREGATE(15,6,$N$5:$N$104/(($C$5:$C$104=C9)*($N$5:$N$104>0)),1),"")) | S9: =IF(COUNTA(A9:M9,O9:Q9)=0,"",IF(A9="","Enter bid reference",IF(COUNTIF($A$5:$A$104,A9)>1,"Check duplicate bid reference",IF(B9="","Enter customer",IF(C9="","Enter job",IF(COUNTIFS($C$5:$C$104,C9,$B$5:$B$104,"<>"&B9)>0,"Check customer consistency",IF(D9="","Enter bidder",IF(COUNTIFS($C$5:$C$104,C9,$D$5:$D$104,D9)>1,"Check duplicate bidder for job",IF(E9="","Enter bid date",IF(F9="","Enter equipment",IF(G9="","Enter quantity",IF(H9="","Select unit",IF(I9="","Enter scope description",IF(J9="","Enter labor hours",IF(K9="","Enter bid price",IF(K9<=0,"Check bid price",IF(L9="","Enter scope adjustment",IF(M9="","Enter exclusion allowance",IF(N9<=0,"Check normalized total",IF(O9="","Enter lead time",IF(P9="","Assign responsibility",IF(Q9="","Set status",IF(AND(Q9="Selected",COUNTIFS($C$5:$C$104,C9,$Q$5:$Q$104,"Selected")>1),"Check multiple selected bids",IF(O9>Assumptions!$B$4,"Check lead time",IF(IFERROR(TODAY()-E9,0)>Assumptions!$B$5,"Check bid age",IF(IFERROR(ABS(SUM(L9:M9))/K9,0)>Assumptions!$B$6,"Check adjustments",IF(Q9="Clarification Needed","Follow up on clarification",IF(Q9="Received","Review received bid","Ready for comparison"))))))))))))))))))))))))))))
A10: FICTIONAL-BID-006 | B10: Mesa Story Library (Fictional) | C10: Fictional Mesa Library Heat Pump Retrofit | D10: Silver Acorn HVAC (Fictional) | E10: 46259 | F10: Variable-speed heat pump system | G10: 4 | H10: each | I10: Equipment and controls included; roof protection allowance added. | J10: 162 | K10: 87600 | L10: 2500 | M10: 1800 | N10: =IF(OR(K10="",L10="",M10=""),"",IFERROR(SUM(K10:M10),"")) | O10: 44 | P10: Shared | Q10: Under Review | R10: =IF(OR(C10="",N10=""),"",IFERROR(N10-AGGREGATE(15,6,$N$5:$N$104/(($C$5:$C$104=C10)*($N$5:$N$104>0)),1),"")) | S10: =IF(COUNTA(A10:M10,O10:Q10)=0,"",IF(A10="","Enter bid reference",IF(COUNTIF($A$5:$A$104,A10)>1,"Check duplicate bid reference",IF(B10="","Enter customer",IF(C10="","Enter job",IF(COUNTIFS($C$5:$C$104,C10,$B$5:$B$104,"<>"&B10)>0,"Check customer consistency",IF(D10="","Enter bidder",IF(COUNTIFS($C$5:$C$104,C10,$D$5:$D$104,D10)>1,"Check duplicate bidder for job",IF(E10="","Enter bid date",IF(F10="","Enter equipment",IF(G10="","Enter quantity",IF(H10="","Select unit",IF(I10="","Enter scope description",IF(J10="","Enter labor hours",IF(K10="","Enter bid price",IF(K10<=0,"Check bid price",IF(L10="","Enter scope adjustment",IF(M10="","Enter exclusion allowance",IF(N10<=0,"Check normalized total",IF(O10="","Enter lead time",IF(P10="","Assign responsibility",IF(Q10="","Set status",IF(AND(Q10="Selected",COUNTIFS($C$5:$C$104,C10,$Q$5:$Q$104,"Selected")>1),"Check multiple selected bids",IF(O10>Assumptions!$B$4,"Check lead time",IF(IFERROR(TODAY()-E10,0)>Assumptions!$B$5,"Check bid age",IF(IFERROR(ABS(SUM(L10:M10))/K10,0)>Assumptions!$B$6,"Check adjustments",IF(Q10="Clarification Needed","Follow up on clarification",IF(Q10="Received","Review received bid","Ready for comparison"))))))))))))))))))))))))))))
A11: FICTIONAL-BID-007 | B11: Willow Crumb Bakery (Fictional) | C11: Fictional Willow Bakery Make-Up Air Upgrade | D11: Orange Compass Airworks (Fictional) | E11: 46269 | F11: 2,500 CFM make-up air unit | G11: 1 | H11: each | I11: Unit and roof curb included; gas train and electrical work excluded. | J11: 92 | K11: 35750 | L11: 4200 | M11: 1200 | N11: =IF(OR(K11="",L11="",M11=""),"",IFERROR(SUM(K11:M11),"")) | O11: 35 | P11: Contractor | Q11: Clarification Needed | R11: =IF(OR(C11="",N11=""),"",IFERROR(N11-AGGREGATE(15,6,$N$5:$N$104/(($C$5:$C$104=C11)*($N$5:$N$104>0)),1),"")) | S11: =IF(COUNTA(A11:M11,O11:Q11)=0,"",IF(A11="","Enter bid reference",IF(COUNTIF($A$5:$A$104,A11)>1,"Check duplicate bid reference",IF(B11="","Enter customer",IF(C11="","Enter job",IF(COUNTIFS($C$5:$C$104,C11,$B$5:$B$104,"<>"&B11)>0,"Check customer consistency",IF(D11="","Enter bidder",IF(COUNTIFS($C$5:$C$104,C11,$D$5:$D$104,D11)>1,"Check duplicate bidder for job",IF(E11="","Enter bid date",IF(F11="","Enter equipment",IF(G11="","Enter quantity",IF(H11="","Select unit",IF(I11="","Enter scope description",IF(J11="","Enter labor hours",IF(K11="","Enter bid price",IF(K11<=0,"Check bid price",IF(L11="","Enter scope adjustment",IF(M11="","Enter exclusion allowance",IF(N11<=0,"Check normalized total",IF(O11="","Enter lead time",IF(P11="","Assign responsibility",IF(Q11="","Set status",IF(AND(Q11="Selected",COUNTIFS($C$5:$C$104,C11,$Q$5:$Q$104,"Selected")>1),"Check multiple selected bids",IF(O11>Assumptions!$B$4,"Check lead time",IF(IFERROR(TODAY()-E11,0)>Assumptions!$B$5,"Check bid age",IF(IFERROR(ABS(SUM(L11:M11))/K11,0)>Assumptions!$B$6,"Check adjustments",IF(Q11="Clarification Needed","Follow up on clarification",IF(Q11="Received","Review received bid","Ready for comparison"))))))))))))))))))))))))))))
A12: FICTIONAL-BID-008 | B12: Willow Crumb Bakery (Fictional) | C12: Fictional Willow Bakery Make-Up Air Upgrade | D12: Fable Ridge Mechanical (Fictional) | E12: 46271 | F12: 2,500 CFM make-up air unit | G12: 1 | H12: each | I12: Unit, curb, gas train, controls, and start-up included. | J12: 98 | K12: 39200 | L12: 0 | M12: 0 | N12: =IF(OR(K12="",L12="",M12=""),"",IFERROR(SUM(K12:M12),"")) | O12: 21 | P12: Bidder | Q12: Shortlisted | R12: =IF(OR(C12="",N12=""),"",IFERROR(N12-AGGREGATE(15,6,$N$5:$N$104/(($C$5:$C$104=C12)*($N$5:$N$104>0)),1),"")) | S12: =IF(COUNTA(A12:M12,O12:Q12)=0,"",IF(A12="","Enter bid reference",IF(COUNTIF($A$5:$A$104,A12)>1,"Check duplicate bid reference",IF(B12="","Enter customer",IF(C12="","Enter job",IF(COUNTIFS($C$5:$C$104,C12,$B$5:$B$104,"<>"&B12)>0,"Check customer consistency",IF(D12="","Enter bidder",IF(COUNTIFS($C$5:$C$104,C12,$D$5:$D$104,D12)>1,"Check duplicate bidder for job",IF(E12="","Enter bid date",IF(F12="","Enter equipment",IF(G12="","Enter quantity",IF(H12="","Select unit",IF(I12="","Enter scope description",IF(J12="","Enter labor hours",IF(K12="","Enter bid price",IF(K12<=0,"Check bid price",IF(L12="","Enter scope adjustment",IF(M12="","Enter exclusion allowance",IF(N12<=0,"Check normalized total",IF(O12="","Enter lead time",IF(P12="","Assign responsibility",IF(Q12="","Set status",IF(AND(Q12="Selected",COUNTIFS($C$5:$C$104,C12,$Q$5:$Q$104,"Selected")>1),"Check multiple selected bids",IF(O12>Assumptions!$B$4,"Check lead time",IF(IFERROR(TODAY()-E12,0)>Assumptions!$B$5,"Check bid age",IF(IFERROR(ABS(SUM(L12:M12))/K12,0)>Assumptions!$B$6,"Check adjustments",IF(Q12="Clarification Needed","Follow up on clarification",IF(Q12="Received","Review received bid","Ready for comparison"))))))))))))))))))))))))))))
A13: FICTIONAL-BID-009 | B13: Willow Crumb Bakery (Fictional) | C13: Fictional Willow Bakery Make-Up Air Upgrade | D13: Velvet Pine HVAC (Fictional) | E13: 46257 | F13: 2,500 CFM make-up air unit | G13: 1 | H13: each | I13: Unit and controls included; roofing and electrical allowances added. | J13: 88 | K13: 37100 | L13: 1200 | M13: 2400 | N13: =IF(OR(K13="",L13="",M13=""),"",IFERROR(SUM(K13:M13),"")) | O13: 48 | P13: Shared | Q13: Under Review | R13: =IF(OR(C13="",N13=""),"",IFERROR(N13-AGGREGATE(15,6,$N$5:$N$104/(($C$5:$C$104=C13)*($N$5:$N$104>0)),1),"")) | S13: =IF(COUNTA(A13:M13,O13:Q13)=0,"",IF(A13="","Enter bid reference",IF(COUNTIF($A$5:$A$104,A13)>1,"Check duplicate bid reference",IF(B13="","Enter customer",IF(C13="","Enter job",IF(COUNTIFS($C$5:$C$104,C13,$B$5:$B$104,"<>"&B13)>0,"Check customer consistency",IF(D13="","Enter bidder",IF(COUNTIFS($C$5:$C$104,C13,$D$5:$D$104,D13)>1,"Check duplicate bidder for job",IF(E13="","Enter bid date",IF(F13="","Enter equipment",IF(G13="","Enter quantity",IF(H13="","Select unit",IF(I13="","Enter scope description",IF(J13="","Enter labor hours",IF(K13="","Enter bid price",IF(K13<=0,"Check bid price",IF(L13="","Enter scope adjustment",IF(M13="","Enter exclusion allowance",IF(N13<=0,"Check normalized total",IF(O13="","Enter lead time",IF(P13="","Assign responsibility",IF(Q13="","Set status",IF(AND(Q13="Selected",COUNTIFS($C$5:$C$104,C13,$Q$5:$Q$104,"Selected")>1),"Check multiple selected bids",IF(O13>Assumptions!$B$4,"Check lead time",IF(IFERROR(TODAY()-E13,0)>Assumptions!$B$5,"Check bid age",IF(IFERROR(ABS(SUM(L13:M13))/K13,0)>Assumptions!$B$6,"Check adjustments",IF(Q13="Clarification Needed","Follow up on clarification",IF(Q13="Received","Review received bid","Ready for comparison"))))))))))))))))))))))))))))
A14: FICTIONAL-BID-010 | B14: Willow Crumb Bakery (Fictional) | C14: Fictional Willow Bakery Make-Up Air Upgrade | D14: Golden Thimble Climate (Fictional) | E14: 46266 | F14: 2,500 CFM make-up air unit | G14: 1 | H14: each | I14: Complete listed scope with a deduct for contractor-provided disconnect. | J14: 104 | K14: 40500 | L14: -500 | M14: 0 | N14: =IF(OR(K14="",L14="",M14=""),"",IFERROR(SUM(K14:M14),"")) | O14: 30 | P14: Contractor | Q14: Received | R14: =IF(OR(C14="",N14=""),"",IFERROR(N14-AGGREGATE(15,6,$N$5:$N$104/(($C$5:$C$104=C14)*($N$5:$N$104>0)),1),"")) | S14: =IF(COUNTA(A14:M14,O14:Q14)=0,"",IF(A14="","Enter bid reference",IF(COUNTIF($A$5:$A$104,A14)>1,"Check duplicate bid reference",IF(B14="","Enter customer",IF(C14="","Enter job",IF(COUNTIFS($C$5:$C$104,C14,$B$5:$B$104,"<>"&B14)>0,"Check customer consistency",IF(D14="","Enter bidder",IF(COUNTIFS($C$5:$C$104,C14,$D$5:$D$104,D14)>1,"Check duplicate bidder for job",IF(E14="","Enter bid date",IF(F14="","Enter equipment",IF(G14="","Enter quantity",IF(H14="","Select unit",IF(I14="","Enter scope description",IF(J14="","Enter labor hours",IF(K14="","Enter bid price",IF(K14<=0,"Check bid price",IF(L14="","Enter scope adjustment",IF(M14="","Enter exclusion allowance",IF(N14<=0,"Check normalized total",IF(O14="","Enter lead time",IF(P14="","Assign responsibility",IF(Q14="","Set status",IF(AND(Q14="Selected",COUNTIFS($C$5:$C$104,C14,$Q$5:$Q$104,"Selected")>1),"Check multiple selected bids",IF(O14>Assumptions!$B$4,"Check lead time",IF(IFERROR(TODAY()-E14,0)>Assumptions!$B$5,"Check bid age",IF(IFERROR(ABS(SUM(L14:M14))/K14,0)>Assumptions!$B$6,"Check adjustments",IF(Q14="Clarification Needed","Follow up on clarification",IF(Q14="Received","Review received bid","Ready for comparison"))))))))))))))))))))))))))))
N15: =IF(OR(K15="",L15="",M15=""),"",IFERROR(SUM(K15:M15),"")) | R15: =IF(OR(C15="",N15=""),"",IFERROR(N15-AGGREGATE(15,6,$N$5:$N$104/(($C$5:$C$104=C15)*($N$5:$N$104>0)),1),"")) | S15: =IF(COUNTA(A15:M15,O15:Q15)=0,"",IF(A15="","Enter bid reference",IF(COUNTIF($A$5:$A$104,A15)>1,"Check duplicate bid reference",IF(B15="","Enter customer",IF(C15="","Enter job",IF(COUNTIFS($C$5:$C$104,C15,$B$5:$B$104,"<>"&B15)>0,"Check customer consistency",IF(D15="","Enter bidder",IF(COUNTIFS($C$5:$C$104,C15,$D$5:$D$104,D15)>1,"Check duplicate bidder for job",IF(E15="","Enter bid date",IF(F15="","Enter equipment",IF(G15="","Enter quantity",IF(H15="","Select unit",IF(I15="","Enter scope description",IF(J15="","Enter labor hours",IF(K15="","Enter bid price",IF(K15<=0,"Check bid price",IF(L15="","Enter scope adjustment",IF(M15="","Enter exclusion allowance",IF(N15<=0,"Check normalized total",IF(O15="","Enter lead time",IF(P15="","Assign responsibility",IF(Q15="","Set status",IF(AND(Q15="Selected",COUNTIFS($C$5:$C$104,C15,$Q$5:$Q$104,"Selected")>1),"Check multiple selected bids",IF(O15>Assumptions!$B$4,"Check lead time",IF(IFERROR(TODAY()-E15,0)>Assumptions!$B$5,"Check bid age",IF(IFERROR(ABS(SUM(L15:M15))/K15,0)>Assumptions!$B$6,"Check adjustments",IF(Q15="Clarification Needed","Follow up on clarification",IF(Q15="Received","Review received bid","Ready for comparison"))))))))))))))))))))))))))))
N16: =IF(OR(K16="",L16="",M16=""),"",IFERROR(SUM(K16:M16),"")) | R16: =IF(OR(C16="",N16=""),"",IFERROR(N16-AGGREGATE(15,6,$N$5:$N$104/(($C$5:$C$104=C16)*($N$5:$N$104>0)),1),"")) | S16: =IF(COUNTA(A16:M16,O16:Q16)=0,"",IF(A16="","Enter bid reference",IF(COUNTIF($A$5:$A$104,A16)>1,"Check duplicate bid reference",IF(B16="","Enter customer",IF(C16="","Enter job",IF(COUNTIFS($C$5:$C$104,C16,$B$5:$B$104,"<>"&B16)>0,"Check customer consistency",IF(D16="","Enter bidder",IF(COUNTIFS($C$5:$C$104,C16,$D$5:$D$104,D16)>1,"Check duplicate bidder for job",IF(E16="","Enter bid date",IF(F16="","Enter equipment",IF(G16="","Enter quantity",IF(H16="","Select unit",IF(I16="","Enter scope description",IF(J16="","Enter labor hours",IF(K16="","Enter bid price",IF(K16<=0,"Check bid price",IF(L16="","Enter scope adjustment",IF(M16="","Enter exclusion allowance",IF(N16<=0,"Check normalized total",IF(O16="","Enter lead time",IF(P16="","Assign responsibility",IF(Q16="","Set status",IF(AND(Q16="Selected",COUNTIFS($C$5:$C$104,C16,$Q$5:$Q$104,"Selected")>1),"Check multiple selected bids",IF(O16>Assumptions!$B$4,"Check lead time",IF(IFERROR(TODAY()-E16,0)>Assumptions!$B$5,"Check bid age",IF(IFERROR(ABS(SUM(L16:M16))/K16,0)>Assumptions!$B$6,"Check adjustments",IF(Q16="Clarification Needed","Follow up on clarification",IF(Q16="Received","Review received bid","Ready for comparison"))))))))))))))))))))))))))))
N17: =IF(OR(K17="",L17="",M17=""),"",IFERROR(SUM(K17:M17),"")) | R17: =IF(OR(C17="",N17=""),"",IFERROR(N17-AGGREGATE(15,6,$N$5:$N$104/(($C$5:$C$104=C17)*($N$5:$N$104>0)),1),"")) | S17: =IF(COUNTA(A17:M17,O17:Q17)=0,"",IF(A17="","Enter bid reference",IF(COUNTIF($A$5:$A$104,A17)>1,"Check duplicate bid reference",IF(B17="","Enter customer",IF(C17="","Enter job",IF(COUNTIFS($C$5:$C$104,C17,$B$5:$B$104,"<>"&B17)>0,"Check customer consistency",IF(D17="","Enter bidder",IF(COUNTIFS($C$5:$C$104,C17,$D$5:$D$104,D17)>1,"Check duplicate bidder for job",IF(E17="","Enter bid date",IF(F17="","Enter equipment",IF(G17="","Enter quantity",IF(H17="","Select unit",IF(I17="","Enter scope description",IF(J17="","Enter labor hours",IF(K17="","Enter bid price",IF(K17<=0,"Check bid price",IF(L17="","Enter scope adjustment",IF(M17="","Enter exclusion allowance",IF(N17<=0,"Check normalized total",IF(O17="","Enter lead time",IF(P17="","Assign responsibility",IF(Q17="","Set status",IF(AND(Q17="Selected",COUNTIFS($C$5:$C$104,C17,$Q$5:$Q$104,"Selected")>1),"Check multiple selected bids",IF(O17>Assumptions!$B$4,"Check lead time",IF(IFERROR(TODAY()-E17,0)>Assumptions!$B$5,"Check bid age",IF(IFERROR(ABS(SUM(L17:M17))/K17,0)>Assumptions!$B$6,"Check adjustments",IF(Q17="Clarification Needed","Follow up on clarification",IF(Q17="Received","Review received bid","Ready for comparison"))))))))))))))))))))))))))))
N18: =IF(OR(K18="",L18="",M18=""),"",IFERROR(SUM(K18:M18),"")) | R18: =IF(OR(C18="",N18=""),"",IFERROR(N18-AGGREGATE(15,6,$N$5:$N$104/(($C$5:$C$104=C18)*($N$5:$N$104>0)),1),"")) | S18: =IF(COUNTA(A18:M18,O18:Q18)=0,"",IF(A18="","Enter bid reference",IF(COUNTIF($A$5:$A$104,A18)>1,"Check duplicate bid reference",IF(B18="","Enter customer",IF(C18="","Enter job",IF(COUNTIFS($C$5:$C$104,C18,$B$5:$B$104,"<>"&B18)>0,"Check customer consistency",IF(D18="","Enter bidder",IF(COUNTIFS($C$5:$C$104,C18,$D$5:$D$104,D18)>1,"Check duplicate bidder for job",IF(E18="","Enter bid date",IF(F18="","Enter equipment",IF(G18="","Enter quantity",IF(H18="","Select unit",IF(I18="","Enter scope description",IF(J18="","Enter labor hours",IF(K18="","Enter bid price",IF(K18<=0,"Check bid price",IF(L18="","Enter scope adjustment",IF(M18="","Enter exclusion allowance",IF(N18<=0,"Check normalized total",IF(O18="","Enter lead time",IF(P18="","Assign responsibility",IF(Q18="","Set status",IF(AND(Q18="Selected",COUNTIFS($C$5:$C$104,C18,$Q$5:$Q$104,"Selected")>1),"Check multiple selected bids",IF(O18>Assumptions!$B$4,"Check lead time",IF(IFERROR(TODAY()-E18,0)>Assumptions!$B$5,"Check bid age",IF(IFERROR(ABS(SUM(L18:M18))/K18,0)>Assumptions!$B$6,"Check adjustments",IF(Q18="Clarification Needed","Follow up on clarification",IF(Q18="Received","Review received bid","Ready for comparison"))))))))))))))))))))))))))))
N19: =IF(OR(K19="",L19="",M19=""),"",IFERROR(SUM(K19:M19),"")) | R19: =IF(OR(C19="",N19=""),"",IFERROR(N19-AGGREGATE(15,6,$N$5:$N$104/(($C$5:$C$104=C19)*($N$5:$N$104>0)),1),"")) | S19: =IF(COUNTA(A19:M19,O19:Q19)=0,"",IF(A19="","Enter bid reference",IF(COUNTIF($A$5:$A$104,A19)>1,"Check duplicate bid reference",IF(B19="","Enter customer",IF(C19="","Enter job",IF(COUNTIFS($C$5:$C$104,C19,$B$5:$B$104,"<>"&B19)>0,"Check customer consistency",IF(D19="","Enter bidder",IF(COUNTIFS($C$5:$C$104,C19,$D$5:$D$104,D19)>1,"Check duplicate bidder for job",IF(E19="","Enter bid date",IF(F19="","Enter equipment",IF(G19="","Enter quantity",IF(H19="","Select unit",IF(I19="","Enter scope description",IF(J19="","Enter labor hours",IF(K19="","Enter bid price",IF(K19<=0,"Check bid price",IF(L19="","Enter scope adjustment",IF(M19="","Enter exclusion allowance",IF(N19<=0,"Check normalized total",IF(O19="","Enter lead time",IF(P19="","Assign responsibility",IF(Q19="","Set status",IF(AND(Q19="Selected",COUNTIFS($C$5:$C$104,C19,$Q$5:$Q$104,"Selected")>1),"Check multiple selected bids",IF(O19>Assumptions!$B$4,"Check lead time",IF(IFERROR(TODAY()-E19,0)>Assumptions!$B$5,"Check bid age",IF(IFERROR(ABS(SUM(L19:M19))/K19,0)>Assumptions!$B$6,"Check adjustments",IF(Q19="Clarification Needed","Follow up on clarification",IF(Q19="Received","Review received bid","Ready for comparison"))))))))))))))))))))))))))))
N20: =IF(OR(K20="",L20="",M20=""),"",IFERROR(SUM(K20:M20),"")) | R20: =IF(OR(C20="",N20=""),"",IFERROR(N20-AGGREGATE(15,6,$N$5:$N$104/(($C$5:$C$104=C20)*($N$5:$N$104>0)),1),"")) | S20: =IF(COUNTA(A20:M20,O20:Q20)=0,"",IF(A20="","Enter bid reference",IF(COUNTIF($A$5:$A$104,A20)>1,"Check duplicate bid reference",IF(B20="","Enter customer",IF(C20="","Enter job",IF(COUNTIFS($C$5:$C$104,C20,$B$5:$B$104,"<>"&B20)>0,"Check customer consistency",IF(D20="","Enter bidder",IF(COUNTIFS($C$5:$C$104,C20,$D$5:$D$104,D20)>1,"Check duplicate bidder for job",IF(E20="","Enter bid date",IF(F20="","Enter equipment",IF(G20="","Enter quantity",IF(H20="","Select unit",IF(I20="","Enter scope description",IF(J20="","Enter labor hours",IF(K20="","Enter bid price",IF(K20<=0,"Check bid price",IF(L20="","Enter scope adjustment",IF(M20="","Enter exclusion allowance",IF(N20<=0,"Check normalized total",IF(O20="","Enter lead time",IF(P20="","Assign responsibility",IF(Q20="","Set status",IF(AND(Q20="Selected",COUNTIFS($C$5:$C$104,C20,$Q$5:$Q$104,"Selected")>1),"Check multiple selected bids",IF(O20>Assumptions!$B$4,"Check lead time",IF(IFERROR(TODAY()-E20,0)>Assumptions!$B$5,"Check bid age",IF(IFERROR(ABS(SUM(L20:M20))/K20,0)>Assumptions!$B$6,"Check adjustments",IF(Q20="Clarification Needed","Follow up on clarification",IF(Q20="Received","Review received bid","Ready for comparison"))))))))))))))))))))))))))))
N21: =IF(OR(K21="",L21="",M21=""),"",IFERROR(SUM(K21:M21),"")) | R21: =IF(OR(C21="",N21=""),"",IFERROR(N21-AGGREGATE(15,6,$N$5:$N$104/(($C$5:$C$104=C21)*($N$5:$N$104>0)),1),"")) | S21: =IF(COUNTA(A21:M21,O21:Q21)=0,"",IF(A21="","Enter bid reference",IF(COUNTIF($A$5:$A$104,A21)>1,"Check duplicate bid reference",IF(B21="","Enter customer",IF(C21="","Enter job",IF(COUNTIFS($C$5:$C$104,C21,$B$5:$B$104,"<>"&B21)>0,"Check customer consistency",IF(D21="","Enter bidder",IF(COUNTIFS($C$5:$C$104,C21,$D$5:$D$104,D21)>1,"Check duplicate bidder for job",IF(E21="","Enter bid date",IF(F21="","Enter equipment",IF(G21="","Enter quantity",IF(H21="","Select unit",IF(I21="","Enter scope description",IF(J21="","Enter labor hours",IF(K21="","Enter bid price",IF(K21<=0,"Check bid price",IF(L21="","Enter scope adjustment",IF(M21="","Enter exclusion allowance",IF(N21<=0,"Check normalized total",IF(O21="","Enter lead time",IF(P21="","Assign responsibility",IF(Q21="","Set status",IF(AND(Q21="Selected",COUNTIFS($C$5:$C$104,C21,$Q$5:$Q$104,"Selected")>1),"Check multiple selected bids",IF(O21>Assumptions!$B$4,"Check lead time",IF(IFERROR(TODAY()-E21,0)>Assumptions!$B$5,"Check bid age",IF(IFERROR(ABS(SUM(L21:M21))/K21,0)>Assumptions!$B$6,"Check adjustments",IF(Q21="Clarification Needed","Follow up on clarification",IF(Q21="Received","Review received bid","Ready for comparison"))))))))))))))))))))))))))))
N22: =IF(OR(K22="",L22="",M22=""),"",IFERROR(SUM(K22:M22),"")) | R22: =IF(OR(C22="",N22=""),"",IFERROR(N22-AGGREGATE(15,6,$N$5:$N$104/(($C$5:$C$104=C22)*($N$5:$N$104>0)),1),"")) | S22: =IF(COUNTA(A22:M22,O22:Q22)=0,"",IF(A22="","Enter bid reference",IF(COUNTIF($A$5:$A$104,A22)>1,"Check duplicate bid reference",IF(B22="","Enter customer",IF(C22="","Enter job",IF(COUNTIFS($C$5:$C$104,C22,$B$5:$B$104,"<>"&B22)>0,"Check customer consistency",IF(D22="","Enter bidder",IF(COUNTIFS($C$5:$C$104,C22,$D$5:$D$104,D22)>1,"Check duplicate bidder for job",IF(E22="","Enter bid date",IF(F22="","Enter equipment",IF(G22="","Enter quantity",IF(H22="","Select unit",IF(I22="","Enter scope description",IF(J22="","Enter labor hours",IF(K22="","Enter bid price",IF(K22<=0,"Check bid price",IF(L22="","Enter scope adjustment",IF(M22="","Enter exclusion allowance",IF(N22<=0,"Check normalized total",IF(O22="","Enter lead time",IF(P22="","Assign responsibility",IF(Q22="","Set status",IF(AND(Q22="Selected",COUNTIFS($C$5:$C$104,C22,$Q$5:$Q$104,"Selected")>1),"Check multiple selected bids",IF(O22>Assumptions!$B$4,"Check lead time",IF(IFERROR(TODAY()-E22,0)>Assumptions!$B$5,"Check bid age",IF(IFERROR(ABS(SUM(L22:M22))/K22,0)>Assumptions!$B$6,"Check adjustments",IF(Q22="Clarification Needed","Follow up on clarification",IF(Q22="Received","Review received bid","Ready for comparison"))))))))))))))))))))))))))))
N23: =IF(OR(K23="",L23="",M23=""),"",IFERROR(SUM(K23:M23),"")) | R23: =IF(OR(C23="",N23=""),"",IFERROR(N23-AGGREGATE(15,6,$N$5:$N$104/(($C$5:$C$104=C23)*($N$5:$N$104>0)),1),"")) | S23: =IF(COUNTA(A23:M23,O23:Q23)=0,"",IF(A23="","Enter bid reference",IF(COUNTIF($A$5:$A$104,A23)>1,"Check duplicate bid reference",IF(B23="","Enter customer",IF(C23="","Enter job",IF(COUNTIFS($C$5:$C$104,C23,$B$5:$B$104,"<>"&B23)>0,"Check customer consistency",IF(D23="","Enter bidder",IF(COUNTIFS($C$5:$C$104,C23,$D$5:$D$104,D23)>1,"Check duplicate bidder for job",IF(E23="","Enter bid date",IF(F23="","Enter equipment",IF(G23="","Enter quantity",IF(H23="","Select unit",IF(I23="","Enter scope description",IF(J23="","Enter labor hours",IF(K23="","Enter bid price",IF(K23<=0,"Check bid price",IF(L23="","Enter scope adjustment",IF(M23="","Enter exclusion allowance",IF(N23<=0,"Check normalized total",IF(O23="","Enter lead time",IF(P23="","Assign responsibility",IF(Q23="","Set status",IF(AND(Q23="Selected",COUNTIFS($C$5:$C$104,C23,$Q$5:$Q$104,"Selected")>1),"Check multiple selected bids",IF(O23>Assumptions!$B$4,"Check lead time",IF(IFERROR(TODAY()-E23,0)>Assumptions!$B$5,"Check bid age",IF(IFERROR(ABS(SUM(L23:M23))/K23,0)>Assumptions!$B$6,"Check adjustments",IF(Q23="Clarification Needed","Follow up on clarification",IF(Q23="Received","Review received bid","Ready for comparison"))))))))))))))))))))))))))))
N24: =IF(OR(K24="",L24="",M24=""),"",IFERROR(SUM(K24:M24),"")) | R24: =IF(OR(C24="",N24=""),"",IFERROR(N24-AGGREGATE(15,6,$N$5:$N$104/(($C$5:$C$104=C24)*($N$5:$N$104>0)),1),"")) | S24: =IF(COUNTA(A24:M24,O24:Q24)=0,"",IF(A24="","Enter bid reference",IF(COUNTIF($A$5:$A$104,A24)>1,"Check duplicate bid reference",IF(B24="","Enter customer",IF(C24="","Enter job",IF(COUNTIFS($C$5:$C$104,C24,$B$5:$B$104,"<>"&B24)>0,"Check customer consistency",IF(D24="","Enter bidder",IF(COUNTIFS($C$5:$C$104,C24,$D$5:$D$104,D24)>1,"Check duplicate bidder for job",IF(E24="","Enter bid date",IF(F24="","Enter equipment",IF(G24="","Enter quantity",IF(H24="","Select unit",IF(I24="","Enter scope description",IF(J24="","Enter labor hours",IF(K24="","Enter bid price",IF(K24<=0,"Check bid price",IF(L24="","Enter scope adjustment",IF(M24="","Enter exclusion allowance",IF(N24<=0,"Check normalized total",IF(O24="","Enter lead time",IF(P24="","Assign responsibility",IF(Q24="","Set status",IF(AND(Q24="Selected",COUNTIFS($C$5:$C$104,C24,$Q$5:$Q$104,"Selected")>1),"Check multiple selected bids",IF(O24>Assumptions!$B$4,"Check lead time",IF(IFERROR(TODAY()-E24,0)>Assumptions!$B$5,"Check bid age",IF(IFERROR(ABS(SUM(L24:M24))/K24,0)>Assumptions!$B$6,"Check adjustments",IF(Q24="Clarification Needed","Follow up on clarification",IF(Q24="Received","Review received bid","Ready for comparison"))))))))))))))))))))))))))))
N25: =IF(OR(K25="",L25="",M25=""),"",IFERROR(SUM(K25:M25),"")) | R25: =IF(OR(C25="",N25=""),"",IFERROR(N25-AGGREGATE(15,6,$N$5:$N$104/(($C$5:$C$104=C25)*($N$5:$N$104>0)),1),"")) | S25: =IF(COUNTA(A25:M25,O25:Q25)=0,"",IF(A25="","Enter bid reference",IF(COUNTIF($A$5:$A$104,A25)>1,"Check duplicate bid reference",IF(B25="","Enter customer",IF(C25="","Enter job",IF(COUNTIFS($C$5:$C$104,C25,$B$5:$B$104,"<>"&B25)>0,"Check customer consistency",IF(D25="","Enter bidder",IF(COUNTIFS($C$5:$C$104,C25,$D$5:$D$104,D25)>1,"Check duplicate bidder for job",IF(E25="","Enter bid date",IF(F25="","Enter equipment",IF(G25="","Enter quantity",IF(H25="","Select unit",IF(I25="","Enter scope description",IF(J25="","Enter labor hours",IF(K25="","Enter bid price",IF(K25<=0,"Check bid price",IF(L25="","Enter scope adjustment",IF(M25="","Enter exclusion allowance",IF(N25<=0,"Check normalized total",IF(O25="","Enter lead time",IF(P25="","Assign responsibility",IF(Q25="","Set status",IF(AND(Q25="Selected",COUNTIFS($C$5:$C$104,C25,$Q$5:$Q$104,"Selected")>1),"Check multiple selected bids",IF(O25>Assumptions!$B$4,"Check lead time",IF(IFERROR(TODAY()-E25,0)>Assumptions!$B$5,"Check bid age",IF(IFERROR(ABS(SUM(L25:M25))/K25,0)>Assumptions!$B$6,"Check adjustments",IF(Q25="Clarification Needed","Follow up on clarification",IF(Q25="Received","Review received bid","Ready for comparison"))))))))))))))))))))))))))))
N26: =IF(OR(K26="",L26="",M26=""),"",IFERROR(SUM(K26:M26),"")) | R26: =IF(OR(C26="",N26=""),"",IFERROR(N26-AGGREGATE(15,6,$N$5:$N$104/(($C$5:$C$104=C26)*($N$5:$N$104>0)),1),"")) | S26: =IF(COUNTA(A26:M26,O26:Q26)=0,"",IF(A26="","Enter bid reference",IF(COUNTIF($A$5:$A$104,A26)>1,"Check duplicate bid reference",IF(B26="","Enter customer",IF(C26="","Enter job",IF(COUNTIFS($C$5:$C$104,C26,$B$5:$B$104,"<>"&B26)>0,"Check customer consistency",IF(D26="","Enter bidder",IF(COUNTIFS($C$5:$C$104,C26,$D$5:$D$104,D26)>1,"Check duplicate bidder for job",IF(E26="","Enter bid date",IF(F26="","Enter equipment",IF(G26="","Enter quantity",IF(H26="","Select unit",IF(I26="","Enter scope description",IF(J26="","Enter labor hours",IF(K26="","Enter bid price",IF(K26<=0,"Check bid price",IF(L26="","Enter scope adjustment",IF(M26="","Enter exclusion allowance",IF(N26<=0,"Check normalized total",IF(O26="","Enter lead time",IF(P26="","Assign responsibility",IF(Q26="","Set status",IF(AND(Q26="Selected",COUNTIFS($C$5:$C$104,C26,$Q$5:$Q$104,"Selected")>1),"Check multiple selected bids",IF(O26>Assumptions!$B$4,"Check lead time",IF(IFERROR(TODAY()-E26,0)>Assumptions!$B$5,"Check bid age",IF(IFERROR(ABS(SUM(L26:M26))/K26,0)>Assumptions!$B$6,"Check adjustments",IF(Q26="Clarification Needed","Follow up on clarification",IF(Q26="Received","Review received bid","Ready for comparison"))))))))))))))))))))))))))))
... N104: =IF(OR(K104="",L104="",M104=""),"",IFERROR(SUM(K104:M104),"")) | R104: =IF(OR(C104="",N104=""),"",IFERROR(N104-AGGREGATE(15,6,$N$5:$N$104/(($C$5:$C$104=C104)*($N$5:$N$104>0)),1),"")) | S104: =IF(COUNTA(A104:M104,O104:Q104)=0,"",IF(A104="","Enter bid reference",IF(COUNTIF($A$5:$A$104,A104)>1,"Check duplicate bid reference",IF(B104="","Enter customer",IF(C104="","Enter job",IF(COUNTIFS($C$5:$C$104,C104,$B$5:$B$104,"<>"&B104)>0,"Check customer consistency",IF(D104="","Enter bidder",IF(COUNTIFS($C$5:$C$104,C104,$D$5:$D$104,D104)>1,"Check duplicate bidder for job",IF(E104="","Enter bid date",IF(F104="","Enter equipment",IF(G104="","Enter quantity",IF(H104="","Select unit",IF(I104="","Enter scope description",IF(J104="","Enter labor hours",IF(K104="","Enter bid price",IF(K104<=0,"Check bid price",IF(L104="","Enter scope adjustment",IF(M104="","Enter exclusion allowance",IF(N104<=0,"Check normalized total",IF(O104="","Enter lead time",IF(P104="","Assign responsibility",IF(Q104="","Set status",IF(AND(Q104="Selected",COUNTIFS($C$5:$C$104,C104,$Q$5:$Q$104,"Selected")>1),"Check multiple selected bids",IF(O104>Assumptions!$B$4,"Check lead time",IF(IFERROR(TODAY()-E104,0)>Assumptions!$B$5,"Check bid age",IF(IFERROR(ABS(SUM(L104:M104))/K104,0)>Assumptions!$B$6,"Check adjustments",IF(Q104="Clarification Needed","Follow up on clarification",IF(Q104="Received","Review received bid","Ready for comparison"))))))))))))))))))))))))))))

Sheet Assumptions
A1: HVAC Bid Comparison Assumptions
A2: Edit orange cells to match the current estimating review. Limits create prompts for a human check.
A3: Review Limit | B3: Value | C3: Unit | D3: Use | F3: Job List
A4: Preferred maximum lead time | B4: 45 | C4: days | D4: Flags bids above the preferred review threshold. | F4: Fictional Harbor Clinic RTU Renewal
A5: Bid age review threshold | B5: 30 | C5: days | D5: Flags older bid dates for confirmation. | F5: Fictional Mesa Library Heat Pump Retrofit
A6: Adjustment review threshold | B6: 0.1 | C6: percent | D6: Flags large scope adjustments and exclusion allowances. | F6: Fictional Willow Bakery Make-Up Air Upgrade
A7: Earliest accepted bid date | B7: 44197 | C7: date | D7: Sets the earliest date allowed for bid entry.
A8: Maximum entered lead time | B8: 365 | C8: days | D8: Sets the upper entry boundary for lead time.
A9: Maximum quantity | B9: 1000 | C9: units | D9: Sets the upper entry boundary for quantity.
A10: Maximum labor hours | B10: 5000 | C10: labor hours | D10: Sets the upper entry boundary for labor.
A11: Maximum dollar entry | B11: 10000000 | C11: US dollars | D11: Sets the upper entry boundary for bid amounts.
